BEGIN:VCALENDAR
VERSION:2.0
PRODID:-//ÉrdKultúra - ECPv6.8.0//NONSGML v1.0//EN
CALSCALE:GREGORIAN
METHOD:PUBLISH
X-ORIGINAL-URL:https://erdkultura.hu
X-WR-CALDESC:Events for ÉrdKultúra
REFRESH-INTERVAL;VALUE=DURATION:PT1H
X-Robots-Tag:noindex
X-PUBLISHED-TTL:PT1H
BEGIN:VTIMEZONE
TZID:UTC
BEGIN:STANDARD
TZOFFSETFROM:+0000
TZOFFSETTO:+0000
TZNAME:UTC
DTSTART:20260101T000000
END:STANDARD
END:VTIMEZONE
BEGIN:VEVENT
DTSTART;TZID=UTC:20260418T190000
DTEND;TZID=UTC:20260418T210000
DTSTAMP:20260422T083242
CREATED:20260213T125518Z
LAST-MODIFIED:20260315T101543Z
UID:7310-1776538800-1776546000@erdkultura.hu
SUMMARY:SLÁGERMÚZEUM KONCERT − Molnár György Lyra-díjas harmonikaművész és Koncertzenekarának előadása
DESCRIPTION:Egy újabb izgalmas tematikus koncertélmény Molnár György Lyra-díjas harmonikaművésztől és Koncertzenekarától. A formáció mindig garancia a magas zenei színvonalra\, az élő koncertek megvalósításában már 25 éve az élvonalba tartoznak. \nA koncertanyag ötletét a Slágermúzeum címet viselő kottás kiadványsorozat adta\, melyet a Magyar Állami Zeneműkiadó Vállalat a legnagyobb példányszámban forgalmazott. Az első kötet 1975-ben jelent meg\, mely rövid időn belül a zenekedvelő közönség\, a dalokat megtanulni vágyó művészek közkedvelt és kihagyhatatlan „tananyagává” vált. \n1987-ig összesen 26 kötet jelent meg\, mely főleg magyar\, de nemzetközi örökzöldeket is tartalmazott. A kiadványokban szerepeltek a Made In Hungary\, a Halló\, itt Balaton és a Táncdalfesztivál slágerei is\, melyek megidézésre kerülnek a koncert során. Öröklétű slágerek kerülnek újra színpadra\, közben halhatatlanná vált énekesekre és ikonikus zenekarokra emlékezünk. \nVendégművészek: Nyári Alíz & Nyári Edit\, Tabáni István \nJegyár: 7.990−8.990 Ft \nJegyek kaphatók a helyszínen\, vagy online a jegy.hu oldalon. \nForrás: az esemény Facebook-oldala \n  \nA szervezők a programváltozás jogát fenntartják.\nA programon résztvevők elfogadják a házirendet\, valamint elfogadják\, hogy a programon készült kép-\, hang- és videofelvételt a szervezők saját nyilvános felületeiken\, illetve egyéb médiafelületeken való megjelenés során felhasználhatnak.
URL:https://erdkultura.hu/event/slagermuzeum-koncert-molnar-gyorgy-lyra-dijas-harmonikamuvesz-es-koncertzenekaranak-eloadasa/
LOCATION:SZEPES\, Alsó u. 9.\, Érd\, 2030\, Magyarország
CATEGORIES:szepes,zene
ATTACH;FMTTYPE=image/png:https://erdkultura.hu/wp-content/uploads/2026/02/slagermuzeum.png
END:VEVENT
END:VCALENDAR