BEGIN:VCALENDAR
VERSION:2.0
PRODID:-//ÉrdKultúra - ECPv6.8.0//NONSGML v1.0//EN
CALSCALE:GREGORIAN
METHOD:PUBLISH
X-ORIGINAL-URL:https://erdkultura.hu
X-WR-CALDESC:Events for ÉrdKultúra
REFRESH-INTERVAL;VALUE=DURATION:PT1H
X-Robots-Tag:noindex
X-PUBLISHED-TTL:PT1H
BEGIN:VTIMEZONE
TZID:UTC
BEGIN:STANDARD
TZOFFSETFROM:+0000
TZOFFSETTO:+0000
TZNAME:UTC
DTSTART:20260101T000000
END:STANDARD
END:VTIMEZONE
BEGIN:VEVENT
DTSTART;TZID=UTC:20260326T180000
DTEND;TZID=UTC:20260326T200000
DTSTAMP:20260422T095553
CREATED:20260204T114422Z
LAST-MODIFIED:20260315T132429Z
UID:7164-1774548000-1774555200@erdkultura.hu
SUMMARY:Zenés esték a Galériában "Doppio Duo"
DESCRIPTION:Új programsorozat indul az Érdi Galériában. A Zenés esték a Galériában című programsorozatunk bensőséges koncertélményt kínál a minőségi élőzene kedvelőinek. Az esték fókuszában az akusztikus hangzás\, a műfajok közötti szabad mozgás és a közvetlen előadói jelenlét áll. \nElső alkalom: március 26. csütörtök 18:00 \nA Doppio Duo két hangszeres-énekes formáció\, melynek tagjai Ujváry Flóra (ének\, bőgő) és Borbényi Dániel (gitár). Műsorukban jazz\, latin és pop feldolgozások\, valamint saját dalok is helyet kapnak. Előadásaikat a műfajok közötti szabad mozgás és az akusztikus hangzás jellemzi\, intim koncertélményt teremtve a hallgatóság számára. \nKapunyitás: 17:30\nKoncertkezdés: 18:00 \nJegyek megvásárolhatók online a jegyx1.hu oldalon és Szepes Gyula Művelődési Központ jegypénztárában\, valamint a koncert napján a Galériában.\nJegypénztár nyitvatartása: kedd: 14:00–19:00\, csütörtök: 14:00–20:00\, péntek: 9:00–14:00 \nAJÁNLÓ: Spontán\, könnyed lüktetés és dallamosság − interjú a Doppio Duóval \nA szervezők a programváltozás jogát fenntartják.\nA programon résztvevők elfogadják a házirendet\, valamint elfogadják\, hogy a programon készült kép-\, hang- és videofelvételt a szervezők saját nyilvános felületeiken\, illetve egyéb médiafelületeken való megjelenés során felhasználhatnak.
URL:https://erdkultura.hu/event/zenes-estek-a-galeriaban/
LOCATION:GALÉRIA\, Alsó utca 2.\, Érd\, 2030\, Magyarország
CATEGORIES:Galéria,zene
ATTACH;FMTTYPE=image/jpeg:https://erdkultura.hu/wp-content/uploads/2026/02/WEB-1.jpg
END:VEVENT
END:VCALENDAR