BEGIN:VCALENDAR
VERSION:2.0
PRODID:-//ÉrdKultúra - ECPv6.8.0//NONSGML v1.0//EN
CALSCALE:GREGORIAN
METHOD:PUBLISH
X-ORIGINAL-URL:https://erdkultura.hu
X-WR-CALDESC:Events for ÉrdKultúra
REFRESH-INTERVAL;VALUE=DURATION:PT1H
X-Robots-Tag:noindex
X-PUBLISHED-TTL:PT1H
BEGIN:VTIMEZONE
TZID:UTC
BEGIN:STANDARD
TZOFFSETFROM:+0000
TZOFFSETTO:+0000
TZNAME:UTC
DTSTART:20250101T000000
END:STANDARD
END:VTIMEZONE
BEGIN:VEVENT
DTSTART;TZID=UTC:20250620T180000
DTEND;TZID=UTC:20250620T210000
DTSTAMP:20260422T224042
CREATED:20250403T141137Z
LAST-MODIFIED:20250403T141137Z
UID:4623-1750442400-1750453200@erdkultura.hu
SUMMARY:Kettecskén - Szigeti Eszter és Egri József operettműsora
DESCRIPTION:Kettecskén\nSzigeti Eszter és Egri József operettműsora \n2025. június 20. 18:00 \nHelyszín: Múzeumkert (2030 Érd\, Budai út 4.) \nA hungarikumnak számító műfaj felejthetetlen dallamai csendülnek fel e két művész előadásában. A jókedv garantált! \nA belépőjegy ára: 2500 Ft \nJegyek kaphatók a Szepes Gyula Művelődési Központban és a Parkvárosi Közösségi Házban is.\nOnline jegyértékesítés: https://szepesmk.jegyx1.hu/eloadas/4445/-kettecsken-%E2%80%9D-szigeti-eszter-es-egri-jozsef \nMinden érdeklődőt szeretettel várunk!
URL:https://erdkultura.hu/event/kettecsken-szigeti-eszter-es-egri-jozsef-operettmusora/
LOCATION:SZEPES\, Alsó u. 9.\, Érd\, 2030\, Magyarország
CATEGORIES:előadás,szepes,zene
ATTACH;FMTTYPE=image/jpeg:https://erdkultura.hu/wp-content/uploads/2025/04/WEB-6-scaled.jpg
END:VEVENT
END:VCALENDAR