BEGIN:VCALENDAR
VERSION:2.0
PRODID:-//ÉrdKultúra - ECPv6.8.0//NONSGML v1.0//EN
CALSCALE:GREGORIAN
METHOD:PUBLISH
X-WR-CALNAME:ÉrdKultúra
X-ORIGINAL-URL:https://erdkultura.hu
X-WR-CALDESC:Events for ÉrdKultúra
REFRESH-INTERVAL;VALUE=DURATION:PT1H
X-Robots-Tag:noindex
X-PUBLISHED-TTL:PT1H
BEGIN:VTIMEZONE
TZID:UTC
BEGIN:STANDARD
TZOFFSETFROM:+0000
TZOFFSETTO:+0000
TZNAME:UTC
DTSTART:20250101T000000
END:STANDARD
END:VTIMEZONE
BEGIN:VEVENT
DTSTART;TZID=UTC:20250508T180000
DTEND;TZID=UTC:20250614T200000
DTSTAMP:20260423T001323
CREATED:20250430T123849Z
LAST-MODIFIED:20250519T123525Z
UID:4844-1746727200-1749931200@erdkultura.hu
SUMMARY:Dilinkó Gábor: 10 év után… is tisztelettel adózunk művészete előtt 
DESCRIPTION:Dilinkó Gábor roma festőművész alkotásaiból időszaki kiállítás nyílik az Érdi Galériában\, a művészre emlékezve.  \nA DILINKÓ GÁBOR 10 év után… is tisztelettel adózunk művészete előtt című kiállítás megtekinthető 2025. június 14-ig a galéria nyitvatartási idejében.  \nDILINKÓ GÁBOR − BIZSU \nhalálának 10. évfordulóján emlékezünk   \nAbban a szerencsés helyzetben volt részem\, személyesen is megismerhettem\, és barátságot ápolhattam a művésszel.   \nNéhány apró mozzanatot mondanék el\, amit mások tollából nem lehetett megismerni\, mivel kettőnkkel történt meg. Életére\, hányatott sorsára\, nehéz küzdelmeire nem szeretnék kitérni\, azt már sokan mások megírták helyettem.  \nTalán érdekesen alakult életéről írnék\, hogyan lett egy szegkovácsból\, bőrgyári munkásból festőművész?  \nAmikor megismertem hihetetlen szerénységgel mutatta be\, mesélt nekem az alkotásairól. Már akkor nagy hatást gyakorolt rám a természethez közeli\, naturalista művészete. Nem kellett órákat állni a képei előtt\, hogy mit is akar számomra közvetíteni az alkotó?   \nKésőbb lehetőségem nyílt Vele\, és egykori rabtársaival a Kisbörtönben ülni azon az ágyon\, ahol 7 éven keresztül töltötte súlyos\, gondokkal teli\, álmatlan éjszakáit.   \nPárizsi éveim alatt ismertem meg Sulyánszky Jenő urat\, aki emigrációja alatt\, Párizsban talált második otthonra\, és a Franciaországi Magyar Szabadságharcos Szövetség elnöke lett.  \nEgy véletlen beszélgetés során derült ki\, hogy Elnök úr az 56-os forradalom idején\, a Corvin közben Bizsu katonai főnöke volt.    \nNagyon megbízható\, kitartó\, félelmet nem ismerő harcostársként ismerte meg a fiatal Bizsut. Akire mindig lehetett számítani.  \nA harcok alatt elvesztette a közös gyermeküket szíve alatt hordó Szabó Ilonkát\, az élettársát\, majd a forradalom után bebörtönözték.  1963-ban szabadult. Élete ezután sem lett könnyebb\, hisz a börtönviseltsége miatt nehezen kapott munkát. A kiállítás megnyitójára megkértem Sulyánszky urat\, hogy ” Az elveszettnek hitt harcostárs baráti üdvözlete a távoli Párizsból „címmel írjon egy levelet Bizsunak. A Duna Palota kiállítási megnyitóján ezt a levelet felolvastam. A hatás nem maradt el\, szem nem maradt szárazon…  \nAz 56-ban nyújtott\, bátor viselkedéséért 1991-ben a ” HŰSÉGES HELYTÁLLÁSÁÉRT ” kitüntették\, dandártábornoki rangot kapott…  \nÉrdekes\, és figyelemre méltó a festészethez való viszonya. Elég későn\, 1975-től kezdett komolyabban festeni. Egy balesete után kórházba került\, ott borzalmasan unatkozott. Kérte feleségét\, hogy vegyen Neki festéket.   \nA sok nehéz munka végzése nem volt jó hatással a kezeire. Ujjai nem engedelmeskedtek\, alig tudta megfogni az ecsetet. Úgy segített magán\, hogy elkezdte az ujjait használni\, velük kente fel a festéket ecset helyett. Ezért is olyan különleges\, és egyedi a ” vonalvezetése „.  \nAz alkotósaiból az elmúlt évek során több kiállítása is volt.  \nÉletét filmen is Kisfaludy András örökítette meg\, amit a kiállítás ideje alatt levetítünk.  \nMegtiszteltetés nekem\, hogy ismét a Művészre való megemlékezésen aktívan részt vehetek.  \n Fülemen Róza\nA kiállítás kurátora  \n  \nKapcsolódó programok: \nA keresett személy él… \nGaléria Kreatív Műhely – Alkotás ujjnyomdával \nA szervezők a programváltozás jogát fenntartják.\nA programon résztvevők elfogadják a házirendet\, valamint elfogadják\, hogy a programon készült kép-\, hang- és videofelvételt a szervezők saját nyilvános felületeiken\, illetve egyéb médiafelületeken való megjelenés során felhasználhatnak.
URL:https://erdkultura.hu/event/dilinko-gabor-10-ev-utan-is-tisztelettel-adozunk-muveszete-elott/
LOCATION:GALÉRIA\, Alsó utca 2.\, Érd\, 2030\, Magyarország
CATEGORIES:Galéria,kiállítás,zene
ATTACH;FMTTYPE=image/jpeg:https://erdkultura.hu/wp-content/uploads/2025/04/WEB-8-scaled.jpg
END:VEVENT
BEGIN:VEVENT
DTSTART;TZID=UTC:20250517T190000
DTEND;TZID=UTC:20250517T190000
DTSTAMP:20260423T001323
CREATED:20250422T104625Z
LAST-MODIFIED:20250422T104909Z
UID:4729-1747508400-1747508400@erdkultura.hu
SUMMARY:Vivaldi 4 Évszak - A Crossover koncert
DESCRIPTION:Swing á la Django – Vivaldi 4 Seasons – A Crossover Koncert\n\n\nHa szereted Vivaldi mesterművét és a Magyar népzenét\, swinget\, latin és jazz zenét\, akkor ezen a koncerten ott a helyed!\n\n\nIzgalmas kísérlet a barokk egyik legnagyobb művének modern feldolgozására\, a klasszikus zene fúziója a swing\, jazz\, latin és folk zenével.Bemutatjuk a kétszeres aranylemezes Swing à la Django zenekar egyik legújabb izgalmas zenei kísérletét a híres olasz zeneszerző és hegedűművész\, Antonio Vivaldi legnépszerűbb művének átdolgozására. \nA Négy Évszak című hegedűverseny-sorozatot mindenki ismeri\, de ebben a formában még soha nem hallhatta.A teljes zenemű átdolgozásra került\, tételről tételre haladva több zenei stíluson átívelő utazásra invitáljuk a hallgatót. \nAz ismert melódiákat izgalmas swing\, jazz\, latin és folk hangzásokba és ritmikába vezetik át a zenészek\, olasz\, francia\, magyar\, spanyol\, amerikai dallamok és virtuóz improvizációk szövik át. \nA kísérlet célja\, hogy közelebb hozza a barokk zenét a ma emberéhez\, közérthetővé tegye a régi idők zsenialitását! \n\n\n\n\nSwing à la Django – the virtuosity of Swing \nA Swing à la Django együttes Magyarország legismertebb és leginnovatívabb pop-swing zenekara. Különleges stílus ötvözetet teremtettek azzal\, hogy zenéjük hangzásában harmóniára talál a pop zene keverve a magyar autentikus folklór zenével\, a francia manouche swinggel és az argentin bossa novával. Ezen stílusok mixének eredménye ez az általuk Hungarian Django Swing-nek nevezett egyedi stílus. A zenekar slágerei meghódították az elmúlt években a nagyobb rádiók lejátszási listáit és a zenei megosztókon milliós nézettségeket értek el\, 2021 -ben A DAL 5-ik helyezettjei lettek\, 2022-ben középdöntősei lettek saját dalaikkal. 2021-ben a Mahasz éves rádiós játszási toplistáján 25-ek lettek Gyémánt című feldolgozásukkal. Emellett telt házas koncertet adtak a Budapest Papp László Arénában Bangó Margit hivatalos zenekaraként a művésznővel 2022 tavaszán. \nA Vivaldi 4 Seasons Koncert nagy sikerű európai turnéjának következő állomása Érd. \nZenekar: \nLOMBOS Pál – zenekarvezető / nagybőgő \nDANI János – szólógitár & hegedű \nSERES Vilmos- klarinét & tárogató \nDANI Norbert – ritmus gitár & nagybőgő \nGALLYAS-LAKATOS Róbert – zongora \nWEISZ Nándor – ütő \nfeat. BARANYI Zoltán – hegedű \nJegyvásárlás \n\n\n\n\n\n\n\n\n\n\n\nMinden kedves érdeklődőt szeretettel várunk!
URL:https://erdkultura.hu/event/vivaldi-4-evszak-a-crossover-koncert/
LOCATION:SZEPES\, Alsó u. 9.\, Érd\, 2030\, Magyarország
CATEGORIES:előadás,szepes,zene
ATTACH;FMTTYPE=image/png:https://erdkultura.hu/wp-content/uploads/2025/04/s8kRYopCQDvOnmzV-page_header_conversion-scaled.png
END:VEVENT
END:VCALENDAR