BEGIN:VCALENDAR
VERSION:2.0
PRODID:-//ÉrdKultúra - ECPv6.8.0//NONSGML v1.0//EN
CALSCALE:GREGORIAN
METHOD:PUBLISH
X-WR-CALNAME:ÉrdKultúra
X-ORIGINAL-URL:https://erdkultura.hu
X-WR-CALDESC:Events for ÉrdKultúra
REFRESH-INTERVAL;VALUE=DURATION:PT1H
X-Robots-Tag:noindex
X-PUBLISHED-TTL:PT1H
BEGIN:VTIMEZONE
TZID:UTC
BEGIN:STANDARD
TZOFFSETFROM:+0000
TZOFFSETTO:+0000
TZNAME:UTC
DTSTART:20250101T000000
END:STANDARD
END:VTIMEZONE
BEGIN:VEVENT
DTSTART;TZID=UTC:20250307T180000
DTEND;TZID=UTC:20250430T200000
DTSTAMP:20260423T032843
CREATED:20250303T114038Z
LAST-MODIFIED:20250422T103916Z
UID:4208-1741370400-1746043200@erdkultura.hu
SUMMARY:VALKÓ Gyula - Szökés a tájképből
DESCRIPTION:VALKÓ Gyula – Szökés a tájképből\nA kiállítás meghosszabbítva látogatható április 30-ig\, a galéria nyitvatartási idejében\, szerdán 12-20 óráig\, csütörtöktől szombatig 10-17 óráig. \n  \n\n  \nValkó Gyula kiállított festészeti sorozatai a Covid időszakához köthetők\, amikor hosszú szünet után újra visszatért a festészethez. Az elmúlt 4 év munkáit az európai és tengerentúli képzőművészet közötti kapcsolódások\, valamint Josef Albers módszertana inspirálta. A sorozat első periódusa intuitív módon született\, de idővel egyre inkább saját élményeit – gyerekkori emlékeket\, tárgyakat\, elhunyt szeretteit\, valamint meghatározó művészek és zenészek hatásait – szőtte bele műveibe. \nA „Szökés a tájképből” cím személyes jelentéssel bír\, egy zenei utalás\, amely egyfajta elmozdulást jelez korábbi alkotásaihoz képest. A színek és formák érzelmi hatást közvetítenek\, a geometria és absztrakció eszközeivel. Képei\, középpont nélküli kompozíciói arra ösztönzik a nézőt\, hogy folyamatosan fedezze fel a részleteket. \n„Mindenkinek meghagyom a saját verzióját\, mit lát bele a képembe. Ezzel a szétbontott és újrarendezett képalkotási módszerhez nyilván az érzelmi értelmezések állnak közel\, és ha meditációra sarkallnak\, elérték céljukat.” \nMunkáiban a tervezettség és az intuíció összefonódik\, az alkotási folyamat során a kompozíció folyamatosan változik. Inspirációját középkori miniatúrákból\, ikonfestészetből\, valamint a colorfield és absztrakt expresszionizmus irányzataiból meríti. Célja\, hogy művei gondolatokat és érzéseket ébresszenek\, és akár meditatív élményt nyújtsanak a néző számára. \n// Bánki Ákos\, a kiállítás kurátora // \nℹ️A szervezők műsor- és programváltozás jogát fenntartják!\nℹ️A programon résztvevők elfogadják a házirendet\, valamint elfogadják\, hogy a programon készült kép-\, hang- és videofelvételt a szervezők saját nyilvános felületeiken\, illetve egyéb médiafelületeken való megjelenés során felhasználhatnak. \n  \nKapcsolódó programok:\nMúzeumpedagógia \nGaléria Kreatív Műhely \nGaléria Kreatív Műhely
URL:https://erdkultura.hu/event/valko-gyula-szokes-a-tajkepbol/
LOCATION:GALÉRIA\, Alsó utca 2.\, Érd\, 2030\, Magyarország
CATEGORIES:előadás,Galéria,kiállítás,zene
ATTACH;FMTTYPE=image/jpeg:https://erdkultura.hu/wp-content/uploads/2025/03/WEB-11-scaled.jpg
END:VEVENT
BEGIN:VEVENT
DTSTART;TZID=UTC:20250322T150000
DTEND;TZID=UTC:20250322T170000
DTSTAMP:20260423T032843
CREATED:20250214T085306Z
LAST-MODIFIED:20250226T093835Z
UID:3989-1742655600-1742662800@erdkultura.hu
SUMMARY:30 éves a Poly-Art 
DESCRIPTION:Köszöntőt mond: Dr. Csőzik László polgármester   \nKözreműködnek: Harmónia Vegyeskar\, Szigeti Eszter és a Poly-Art alkotóközösségének tagjai   \nRendezvényfelelős: Daróci Lajosné \nMinden érdeklődőt várunk szeretettel!   \nA szervezők a programváltozás jogát fenntartják. A programon résztvevők elfogadják a házirendet\, valamint elfogadják\, hogy a programon készült kép-\, hang- és videofelvételt a szervezők saját nyilvános felületeiken\, illetve egyéb médiafelületeken való megjelenés során felhasználhatnak. 
URL:https://erdkultura.hu/event/30-eves-a-poly-art/
LOCATION:PARKVÁROS\, Gépész u. 14.\, Érd\, 2030\, Magyarország
CATEGORIES:előadás,kiállítás,Parkváros,zene
ATTACH;FMTTYPE=image/png:https://erdkultura.hu/wp-content/uploads/2025/02/Web-kep-30.png
END:VEVENT
BEGIN:VEVENT
DTSTART;TZID=UTC:20250322T163000
DTEND;TZID=UTC:20250322T173000
DTSTAMP:20260423T032843
CREATED:20250206T155530Z
LAST-MODIFIED:20250206T155530Z
UID:3940-1742661000-1742664600@erdkultura.hu
SUMMARY:Tavaszi daloskönyv  GRYLLUS VILMOS ZENÉS GYERMEKMŰSORA
DESCRIPTION:60 perces gyerekműsor \nISMERTETŐ \n\n\n\n\n\n\n\n\nGryllus Vilmos 1969-ben alapította meg a Kaláka együttest. 1980-ban Levente Péterrel és Döbrentey Ildikóval a Ki kopog? című rádióműsorban lépett fel. 1991-től Levente Péterrel közösen készítették a Magyar Televízióban bemutatott Égbőlpottyant mesék sorozatot. \nAz előadásról\nKedvenc dalaim a természetről szólnak\, erről fogok énekelni nektek is – vagy veletek\, ha van kedvetek. A tavaszról\, a madarakról\, bogarakról és mindenféle állatokról\, az esőről meg a pocsolyáról\, a kirándulásról meg a biciklizésről erdőn-mezőn. Vagy amiről ti szeretnétek. És az se kizárt\, hogy közben még a mesebeli erdőbe is betévedünk\, ahol a tigrissel\, vagy akár a hétfejű sárkánnyal is találkozhatunk… \n\n\n\n\nFelhívjuk figyelmét\, hogy a szervezők a változtatás jogát fenntartják.
URL:https://erdkultura.hu/event/tavaszi-daloskonyv-gryllus-vilmos-zenes-gyermekmusora/
LOCATION:SZEPES\, Alsó u. 9.\, Érd\, 2030\, Magyarország
CATEGORIES:előadás,szepes,zene
ATTACH;FMTTYPE=image/jpeg:https://erdkultura.hu/wp-content/uploads/2025/02/gryllus-erd-0322-eth.jpg
END:VEVENT
BEGIN:VEVENT
DTSTART;TZID=UTC:20250322T180000
DTEND;TZID=UTC:20250322T190000
DTSTAMP:20260423T032843
CREATED:20250214T095026Z
LAST-MODIFIED:20250214T095026Z
UID:4012-1742666400-1742670000@erdkultura.hu
SUMMARY:Sváb táncház 
DESCRIPTION:Sváb\, osztrák\, német táncok tanulása oktatóval\, közös tánccal   \nMinden érdeklődőt szerettel várunk\, a belépés ingyenes!   \nKontakt: Gabriella Schillinger schillinger.gabriella@gmail.com  
URL:https://erdkultura.hu/event/svab-tanchaz-5/
LOCATION:PARKVÁROS\, Gépész u. 14.\, Érd\, 2030\, Magyarország
CATEGORIES:előadás,Parkváros,tanfolyam,zene
ATTACH;FMTTYPE=image/png:https://erdkultura.hu/wp-content/uploads/2025/02/Web-kep-27.png
END:VEVENT
END:VCALENDAR