BEGIN:VCALENDAR
VERSION:2.0
PRODID:-//ÉrdKultúra - ECPv6.8.0//NONSGML v1.0//EN
CALSCALE:GREGORIAN
METHOD:PUBLISH
X-WR-CALNAME:ÉrdKultúra
X-ORIGINAL-URL:https://erdkultura.hu
X-WR-CALDESC:Events for ÉrdKultúra
REFRESH-INTERVAL;VALUE=DURATION:PT1H
X-Robots-Tag:noindex
X-PUBLISHED-TTL:PT1H
BEGIN:VTIMEZONE
TZID:UTC
BEGIN:STANDARD
TZOFFSETFROM:+0000
TZOFFSETTO:+0000
TZNAME:UTC
DTSTART:20250101T000000
END:STANDARD
END:VTIMEZONE
BEGIN:VEVENT
DTSTART;TZID=UTC:20250307T180000
DTEND;TZID=UTC:20250307T200000
DTSTAMP:20260423T032758
CREATED:20250226T095546Z
LAST-MODIFIED:20250227T144017Z
UID:4136-1741370400-1741377600@erdkultura.hu
SUMMARY:VALKÓ Gyula - Szökés a tájképből kiállításmegnyitó
DESCRIPTION:VALKÓ Gyula – Szökés a tájképből\nAz Érdi Galéria meghívja Önt és barátait VALKÓ GYULA festőművész Szökés a tájképből című kiállításának megnyitójára \n2025. március 7-én\, pénteken 18 órára \nKöszöntőt mond: DR. CSŐZIK LÁSZLÓ Érd Megyei Jogú Város polgármestere \nA kiállítást megnyitja: BÁNKI ÁKOS képzőművész\, kurátor \nZenei közreműködő: TÓTH ZSELYKE \nAz eseményen Érd egyetlen ír kocsmája\, az 1996 óta sikeresen működő Irish Dog Pub készül whisky kóstolóval\, de más ír italkülönlegességeket is lesz lehetőség megkóstolni. \nMinden kedves érdeklődőt szeretettel várunk! \nA kiállítás megtekinthető 2025. április 17-ig\, a galéria nyitvatartási idejében\, szerdán 12-20 óráig\, csütörtöktől szombatig 10-17 óráig.\n  \n\n  \nValkó Gyula kiállított festészeti sorozatai a Covid időszakához köthetők\, amikor hosszú szünet után újra visszatért a festészethez. Az elmúlt 4 év munkáit az európai és tengerentúli képzőművészet közötti kapcsolódások\, valamint Josef Albers módszertana inspirálta. A sorozat első periódusa intuitív módon született\, de idővel egyre inkább saját élményeit – gyerekkori emlékeket\, tárgyakat\, elhunyt szeretteit\, valamint meghatározó művészek és zenészek hatásait – szőtte bele műveibe. \nA „Szökés a tájképből” cím személyes jelentéssel bír\, egy zenei utalás\, amely egyfajta elmozdulást jelez korábbi alkotásaihoz képest. A színek és formák érzelmi hatást közvetítenek\, a geometria és absztrakció eszközeivel. Képei\, középpont nélküli kompozíciói arra ösztönzik a nézőt\, hogy folyamatosan fedezze fel a részleteket. \n„Mindenkinek meghagyom a saját verzióját\, mit lát bele a képembe. Ezzel a szétbontott és újrarendezett képalkotási módszerhez nyilván az érzelmi értelmezések állnak közel\, és ha meditációra sarkallnak\, elérték céljukat.” \nMunkáiban a tervezettség és az intuíció összefonódik\, az alkotási folyamat során a kompozíció folyamatosan változik. Inspirációját középkori miniatúrákból\, ikonfestészetből\, valamint a colorfield és absztrakt expresszionizmus irányzataiból meríti. Célja\, hogy művei gondolatokat és érzéseket ébresszenek\, és akár meditatív élményt nyújtsanak a néző számára. \n// Bánki Ákos\, a kiállítás kurátora // \nℹ️A szervezők műsor- és programváltozás jogát fenntartják!\nℹ️A programon résztvevők elfogadják a házirendet\, valamint elfogadják\, hogy a programon készült kép-\, hang- és videofelvételt a szervezők saját nyilvános felületeiken\, illetve egyéb médiafelületeken való megjelenés során felhasználhatnak.
URL:https://erdkultura.hu/event/valko-gyula-szokes-a-tajkepbol-kiallitasmegnyito/
LOCATION:GALÉRIA\, Alsó utca 2.\, Érd\, 2030\, Magyarország
CATEGORIES:előadás,Galéria,kiállítás,zene
ATTACH;FMTTYPE=image/jpeg:https://erdkultura.hu/wp-content/uploads/2025/02/Event-1-scaled.jpg
END:VEVENT
BEGIN:VEVENT
DTSTART;TZID=UTC:20250307T180000
DTEND;TZID=UTC:20250430T200000
DTSTAMP:20260423T032758
CREATED:20250303T114038Z
LAST-MODIFIED:20250422T103916Z
UID:4208-1741370400-1746043200@erdkultura.hu
SUMMARY:VALKÓ Gyula - Szökés a tájképből
DESCRIPTION:VALKÓ Gyula – Szökés a tájképből\nA kiállítás meghosszabbítva látogatható április 30-ig\, a galéria nyitvatartási idejében\, szerdán 12-20 óráig\, csütörtöktől szombatig 10-17 óráig. \n  \n\n  \nValkó Gyula kiállított festészeti sorozatai a Covid időszakához köthetők\, amikor hosszú szünet után újra visszatért a festészethez. Az elmúlt 4 év munkáit az európai és tengerentúli képzőművészet közötti kapcsolódások\, valamint Josef Albers módszertana inspirálta. A sorozat első periódusa intuitív módon született\, de idővel egyre inkább saját élményeit – gyerekkori emlékeket\, tárgyakat\, elhunyt szeretteit\, valamint meghatározó művészek és zenészek hatásait – szőtte bele műveibe. \nA „Szökés a tájképből” cím személyes jelentéssel bír\, egy zenei utalás\, amely egyfajta elmozdulást jelez korábbi alkotásaihoz képest. A színek és formák érzelmi hatást közvetítenek\, a geometria és absztrakció eszközeivel. Képei\, középpont nélküli kompozíciói arra ösztönzik a nézőt\, hogy folyamatosan fedezze fel a részleteket. \n„Mindenkinek meghagyom a saját verzióját\, mit lát bele a képembe. Ezzel a szétbontott és újrarendezett képalkotási módszerhez nyilván az érzelmi értelmezések állnak közel\, és ha meditációra sarkallnak\, elérték céljukat.” \nMunkáiban a tervezettség és az intuíció összefonódik\, az alkotási folyamat során a kompozíció folyamatosan változik. Inspirációját középkori miniatúrákból\, ikonfestészetből\, valamint a colorfield és absztrakt expresszionizmus irányzataiból meríti. Célja\, hogy művei gondolatokat és érzéseket ébresszenek\, és akár meditatív élményt nyújtsanak a néző számára. \n// Bánki Ákos\, a kiállítás kurátora // \nℹ️A szervezők műsor- és programváltozás jogát fenntartják!\nℹ️A programon résztvevők elfogadják a házirendet\, valamint elfogadják\, hogy a programon készült kép-\, hang- és videofelvételt a szervezők saját nyilvános felületeiken\, illetve egyéb médiafelületeken való megjelenés során felhasználhatnak. \n  \nKapcsolódó programok:\nMúzeumpedagógia \nGaléria Kreatív Műhely \nGaléria Kreatív Műhely
URL:https://erdkultura.hu/event/valko-gyula-szokes-a-tajkepbol/
LOCATION:GALÉRIA\, Alsó utca 2.\, Érd\, 2030\, Magyarország
CATEGORIES:előadás,Galéria,kiállítás,zene
ATTACH;FMTTYPE=image/jpeg:https://erdkultura.hu/wp-content/uploads/2025/03/WEB-11-scaled.jpg
END:VEVENT
END:VCALENDAR