BEGIN:VCALENDAR
VERSION:2.0
PRODID:-//ÉrdKultúra - ECPv6.8.0//NONSGML v1.0//EN
CALSCALE:GREGORIAN
METHOD:PUBLISH
X-WR-CALNAME:ÉrdKultúra
X-ORIGINAL-URL:https://erdkultura.hu
X-WR-CALDESC:Events for ÉrdKultúra
REFRESH-INTERVAL;VALUE=DURATION:PT1H
X-Robots-Tag:noindex
X-PUBLISHED-TTL:PT1H
BEGIN:VTIMEZONE
TZID:UTC
BEGIN:STANDARD
TZOFFSETFROM:+0000
TZOFFSETTO:+0000
TZNAME:UTC
DTSTART:20240101T000000
END:STANDARD
END:VTIMEZONE
BEGIN:VEVENT
DTSTART;TZID=UTC:20241005T163000
DTEND;TZID=UTC:20241005T170000
DTSTAMP:20260423T115508
CREATED:20240925T141431Z
LAST-MODIFIED:20240926T091342Z
UID:2668-1728145800-1728147600@erdkultura.hu
SUMMARY:Hashtagjazz koncert (Rodek Balázs\, Bögöthy Ádám)
DESCRIPTION:Helyszín: Felnőttkönyvtár
URL:https://erdkultura.hu/event/hashtagjazz-koncert-rodek-balazs-bogothy-adam/
CATEGORIES:előadás,Könyvtár,zene
END:VEVENT
END:VCALENDAR