BEGIN:VCALENDAR
VERSION:2.0
PRODID:-//ÉrdKultúra - ECPv6.8.0//NONSGML v1.0//EN
CALSCALE:GREGORIAN
METHOD:PUBLISH
X-WR-CALNAME:ÉrdKultúra
X-ORIGINAL-URL:https://erdkultura.hu
X-WR-CALDESC:Events for ÉrdKultúra
REFRESH-INTERVAL;VALUE=DURATION:PT1H
X-Robots-Tag:noindex
X-PUBLISHED-TTL:PT1H
BEGIN:VTIMEZONE
TZID:UTC
BEGIN:STANDARD
TZOFFSETFROM:+0000
TZOFFSETTO:+0000
TZNAME:UTC
DTSTART:20240101T000000
END:STANDARD
END:VTIMEZONE
BEGIN:VEVENT
DTSTART;TZID=UTC:20240930T133000
DTEND;TZID=UTC:20241001T170000
DTSTAMP:20260423T115509
CREATED:20240824T141301Z
LAST-MODIFIED:20240826T091419Z
UID:2280-1727703000-1727802000@erdkultura.hu
SUMMARY:Idősek Világnapja: Máté Péter emlékkoncert Tabáni Istvánnal és a Molnár György Trióval
DESCRIPTION:Regisztrációs jegy váltása szükséges! \nAz esemény az Idősen\, aktívan Érden programsorozat keretében kerül megrendezésre. \nA részvétel az érdi 65 év felettieknek ingyenes!
URL:https://erdkultura.hu/event/idosek-vilagnapja-mate-peter-emlekkoncert-tabani-istvannal-es-a-molnar-gyorgy-trioval/
LOCATION:SZEPES\, Alsó u. 9.\, Érd\, 2030\, Magyarország
CATEGORIES:előadás,Idősprogram,zene
ATTACH;FMTTYPE=image/jpeg:https://erdkultura.hu/wp-content/uploads/2024/08/tabani-istvan-mate-peter-emlekmusor-original-194727.jpg
ORGANIZER;CN="Sz%C5%B1cs %C3%81gnes I SZEPES":MAILTO:szucs.agnes@erdkultura.hu
END:VEVENT
END:VCALENDAR