BEGIN:VCALENDAR
VERSION:2.0
PRODID:-//ÉrdKultúra - ECPv6.8.0//NONSGML v1.0//EN
CALSCALE:GREGORIAN
METHOD:PUBLISH
X-WR-CALNAME:ÉrdKultúra
X-ORIGINAL-URL:https://erdkultura.hu
X-WR-CALDESC:Events for ÉrdKultúra
REFRESH-INTERVAL;VALUE=DURATION:PT1H
X-Robots-Tag:noindex
X-PUBLISHED-TTL:PT1H
BEGIN:VTIMEZONE
TZID:UTC
BEGIN:STANDARD
TZOFFSETFROM:+0000
TZOFFSETTO:+0000
TZNAME:UTC
DTSTART:20240101T000000
END:STANDARD
END:VTIMEZONE
BEGIN:VEVENT
DTSTART;TZID=UTC:20240616T160000
DTEND;TZID=UTC:20240616T180000
DTSTAMP:20260423T174638
CREATED:20240522T120626Z
LAST-MODIFIED:20240522T120626Z
UID:1978-1718553600-1718560800@erdkultura.hu
SUMMARY:Bonton Gála
DESCRIPTION:16.00-18.00 óráig Bonton tánciskola fennállásának 35. évfordulója alkalmából Gálaműsor a Szepesben\nJegyekről a bontontanciskola@gmail.com e-mail címen lehet érdeklődni.
URL:https://erdkultura.hu/event/bonton-gala/
LOCATION:SZEPES\, Alsó u. 9.\, Érd\, 2030\, Magyarország
CATEGORIES:előadás,szepes,zene
ATTACH;FMTTYPE=image/png:https://erdkultura.hu/wp-content/uploads/2024/05/Web-kep-54.png
END:VEVENT
END:VCALENDAR