BEGIN:VCALENDAR
VERSION:2.0
PRODID:-//ÉrdKultúra - ECPv6.8.0//NONSGML v1.0//EN
CALSCALE:GREGORIAN
METHOD:PUBLISH
X-ORIGINAL-URL:https://erdkultura.hu
X-WR-CALDESC:Events for ÉrdKultúra
REFRESH-INTERVAL;VALUE=DURATION:PT1H
X-Robots-Tag:noindex
X-PUBLISHED-TTL:PT1H
BEGIN:VTIMEZONE
TZID:UTC
BEGIN:STANDARD
TZOFFSETFROM:+0000
TZOFFSETTO:+0000
TZNAME:UTC
DTSTART:20240101T000000
END:STANDARD
END:VTIMEZONE
BEGIN:VEVENT
DTSTART;TZID=UTC:20240610T133000
DTEND;TZID=UTC:20240610T170000
DTSTAMP:20260423T174643
CREATED:20240522T112133Z
LAST-MODIFIED:20240522T112133Z
UID:1969-1718026200-1718038800@erdkultura.hu
SUMMARY:Zenés délutánok: Azért vannak a jó barátok… - Szelle Szilárd és Polyák Rita nosztalgiaműsora
DESCRIPTION:Zenés délutánok: Azért vannak a jó barátok… – Szelle Szilárd és Polyák Rita nosztalgiaműsora – Regisztrációs jegy igénylése szükséges \nAz esemény az Idősen\, aktívan Érden programsorozat keretein belül kerül megrendezésre.
URL:https://erdkultura.hu/event/zenes-delutanok-azert-vannak-a-jo-baratok-szelle-szilard-es-polyak-rita-nosztalgiamusora/
LOCATION:SZEPES\, Alsó u. 9.\, Érd\, 2030\, Magyarország
CATEGORIES:előadás,Idősprogram,szepes,zene
ATTACH;FMTTYPE=image/png:https://erdkultura.hu/wp-content/uploads/2024/05/Web-kep-53.png
ORGANIZER;CN="Sz%C5%B1cs %C3%81gnes I SZEPES":MAILTO:szucs.agnes@erdkultura.hu
END:VEVENT
END:VCALENDAR