BEGIN:VCALENDAR
VERSION:2.0
PRODID:-//ÉrdKultúra - ECPv6.8.0//NONSGML v1.0//EN
CALSCALE:GREGORIAN
METHOD:PUBLISH
X-ORIGINAL-URL:https://erdkultura.hu
X-WR-CALDESC:Events for ÉrdKultúra
REFRESH-INTERVAL;VALUE=DURATION:PT1H
X-Robots-Tag:noindex
X-PUBLISHED-TTL:PT1H
BEGIN:VTIMEZONE
TZID:UTC
BEGIN:STANDARD
TZOFFSETFROM:+0000
TZOFFSETTO:+0000
TZNAME:UTC
DTSTART:20240101T000000
END:STANDARD
END:VTIMEZONE
BEGIN:VEVENT
DTSTART;TZID=UTC:20240530T140000
DTEND;TZID=UTC:20240530T170000
DTSTAMP:20260423T174643
CREATED:20240522T100308Z
LAST-MODIFIED:20240522T100331Z
UID:1959-1717077600-1717088400@erdkultura.hu
SUMMARY:Eszterlánc - Szigeti Eszter önálló műsora
DESCRIPTION:Nosztalgia klubdélután minden hónap utolsó csütörtökjén! \n„A május újra száz csodát ígér” – örökzöld szerelmes dallamok – Szigeti Eszter önálló műsora \n 
URL:https://erdkultura.hu/event/eszterlanc-szigeti-eszter-onallo-musora/
LOCATION:PARKVÁROS\, Gépész u. 14.\, Érd\, 2030\, Magyarország
CATEGORIES:előadás,Parkváros,zene
ATTACH;FMTTYPE=image/jpeg:https://erdkultura.hu/wp-content/uploads/2024/03/1711469682181_xpsh3l_2_0.jpg
END:VEVENT
BEGIN:VEVENT
DTSTART;TZID=UTC:20240530T190000
DTEND;TZID=UTC:20240530T203000
DTSTAMP:20260423T174643
CREATED:20240424T163549Z
LAST-MODIFIED:20240424T163549Z
UID:1849-1717095600-1717101000@erdkultura.hu
SUMMARY:Érdi Jazz Klub a Vigadóban – Szakcsi Jr. Renaissance koncert
DESCRIPTION:ifj. Szakcsi Lakatos Béla – zongora; Claudia Castagno – ének; Varga Balázs – gitár; Torma Rudolf – basszusgitár; Fazekas Tamás – dob \nElőzetes regisztráció szükséges: torokbalintijazzclub@gmail.com \nRészvételi díj: 2.500 Ft/fő (14 éven aluliak számára ingyenes)
URL:https://erdkultura.hu/event/erdi-jazz-klub-a-vigadoban-szakcsi-jr-renaissance-koncert/
LOCATION:GALÉRIA\, Alsó utca 2.\, Érd\, 2030\, Magyarország
CATEGORIES:Galéria,zene
ATTACH;FMTTYPE=image/png:https://erdkultura.hu/wp-content/uploads/2024/03/Web-kep-21.png
END:VEVENT
END:VCALENDAR