BEGIN:VCALENDAR
VERSION:2.0
PRODID:-//ÉrdKultúra - ECPv6.8.0//NONSGML v1.0//EN
CALSCALE:GREGORIAN
METHOD:PUBLISH
X-WR-CALNAME:ÉrdKultúra
X-ORIGINAL-URL:https://erdkultura.hu
X-WR-CALDESC:Events for ÉrdKultúra
REFRESH-INTERVAL;VALUE=DURATION:PT1H
X-Robots-Tag:noindex
X-PUBLISHED-TTL:PT1H
BEGIN:VTIMEZONE
TZID:UTC
BEGIN:STANDARD
TZOFFSETFROM:+0000
TZOFFSETTO:+0000
TZNAME:UTC
DTSTART:20240101T000000
END:STANDARD
END:VTIMEZONE
BEGIN:VEVENT
DTSTART;TZID=UTC:20240420T100000
DTEND;TZID=UTC:20240420T170000
DTSTAMP:20260423T201540
CREATED:20240327T190002Z
LAST-MODIFIED:20240409T165319Z
UID:1668-1713607200-1713632400@erdkultura.hu
SUMMARY:Lookin’ Jazz – Lukin László Alapfokú Művészeti Iskola Jazz-tanszakának bemutatkozó előadása
DESCRIPTION:Lookin’ Jazz – Lukin László Alapfokú Művészeti Iskola Jazz-tanszakának bemutatkozó előadása \nMi ez a furcsa ritmus\, lüktetés? Mik ezek a harmóniák? Mik ezek az érdekes dallamok? Többek között ilyen és ehhez hasonló kérdésekre szeretnénk megadni a választ egy rövid\, tematikus koncert keretein belül\, ahol a zeneiskola jazz szakos tanárai mutatkoznak be és beszélnek az improvizációról és a stílusról. Gyere el! És kérdezz bátran!
URL:https://erdkultura.hu/event/lookin-jazz-lukin-laszlo-alapfoku-muveszeti-iskola-jazz-tanszakanak-bemutatkozo-eloadasa/
LOCATION:GALÉRIA\, Alsó utca 2.\, Érd\, 2030\, Magyarország
CATEGORIES:előadás,Galéria,zene
ATTACH;FMTTYPE=image/png:https://erdkultura.hu/wp-content/uploads/2024/03/Web-kep-27.png
END:VEVENT
END:VCALENDAR