BEGIN:VCALENDAR
VERSION:2.0
PRODID:-//ÉrdKultúra - ECPv6.8.0//NONSGML v1.0//EN
CALSCALE:GREGORIAN
METHOD:PUBLISH
X-ORIGINAL-URL:https://erdkultura.hu
X-WR-CALDESC:Events for ÉrdKultúra
REFRESH-INTERVAL;VALUE=DURATION:PT1H
X-Robots-Tag:noindex
X-PUBLISHED-TTL:PT1H
BEGIN:VTIMEZONE
TZID:UTC
BEGIN:STANDARD
TZOFFSETFROM:+0000
TZOFFSETTO:+0000
TZNAME:UTC
DTSTART:20240101T000000
END:STANDARD
END:VTIMEZONE
BEGIN:VEVENT
DTSTART;TZID=UTC:20240209T190000
DTEND;TZID=UTC:20240209T210000
DTSTAMP:20260423T230920
CREATED:20240130T141108Z
LAST-MODIFIED:20240209T105812Z
UID:495-1707505200-1707512400@erdkultura.hu
SUMMARY:Pajta Akusztik: Gerendás Péter koncert
DESCRIPTION:Gerendás Péter Liszt-díjas (1994) zeneszerző\, gitáros–énekes előadóművész\, a magyar könnyűzenei élet kiemelkedő alakja\, aki rendszeresen ír dalokat pályatársainak is. Koncz Zsuzsa és Zorán lemezein Bródy és Dusán szerzőtársaival évek óta jelennek meg szerzeményei. Zenéjét leginkább a lírai\, latin és rock dallamok jellemzik\, de közel áll hozzá a jazz is. \nSzámos zenei díj tulajdonosa: 1999-ben az év énekeseként eMeRTon díjat\, az év zeneszerzőjeként pedig Huszka Jenő-díjat kapott. 2004-ben egyedi hangvételű szerzeményeiért és magas színvonalú előadóművészeti tevékenységéért Budapestért-díjjal jutalmazták. \nTöbb mint 40 éves pályafutása alatt 18 lemeze jelent meg. Rengeteg nagyszerű hazai és külföldi művésszel dolgozott együtt dalszerzőként\, szövegíróként vagy vendégként (Koncz Zsuzsa\, Zorán\, Presser Gábor\, Demjén Ferenc\, Somló Tamás\, Dés László\, Charlie\, Katona Klári\, Wolf Péter\, Wolf Kati\, Joan Faulkner\, Moran Magal…). \nPROGRAM:\n18.00 Kapunyitás étel és italfogyasztási lehetőséggel\n19.00 – kb. 21.00 Gerendás Péter koncert szünettel\n21.00-22.00 Kötetlen beszélgetés étel és italfogyasztási lehetőséggel \nJEGYEK KAPHATÓAK AZ ÉRDI GALÉRIÁBAN:\n– elővételben: 2000 Ft/fő\n– aznap a helyszínen: 3000 Ft/fő \nBŐVEBB INFORMÁCIÓ:\nKanizsai Eszter\nkulturális szervező\nmobil: +36 20 569 0455\ne-mail: kanizsai.eszter@szepesmk.hu
URL:https://erdkultura.hu/event/pajta-akusztik-gerendas-peter-koncert/
LOCATION:GALÉRIA\, Alsó utca 2.\, Érd\, 2030\, Magyarország
CATEGORIES:zene
ATTACH;FMTTYPE=image/jpeg:https://erdkultura.hu/wp-content/uploads/2024/01/ERD_KULT_Gerendas_Peter.jpg
ORGANIZER;CN="Kanizsai Eszter I GAL%C3%89RIA":MAILTO:kanizsai.eszter@szepesmk.hu
END:VEVENT
END:VCALENDAR