BEGIN:VCALENDAR
VERSION:2.0
PRODID:-//ÉrdKultúra - ECPv6.8.0//NONSGML v1.0//EN
CALSCALE:GREGORIAN
METHOD:PUBLISH
X-WR-CALNAME:ÉrdKultúra
X-ORIGINAL-URL:https://erdkultura.hu
X-WR-CALDESC:Events for ÉrdKultúra
REFRESH-INTERVAL;VALUE=DURATION:PT1H
X-Robots-Tag:noindex
X-PUBLISHED-TTL:PT1H
BEGIN:VTIMEZONE
TZID:UTC
BEGIN:STANDARD
TZOFFSETFROM:+0000
TZOFFSETTO:+0000
TZNAME:UTC
DTSTART:20250101T000000
END:STANDARD
END:VTIMEZONE
BEGIN:VEVENT
DTSTART;TZID=UTC:20250916T080000
DTEND;TZID=UTC:20251216T170000
DTSTAMP:20260422T154354
CREATED:20250916T074439Z
LAST-MODIFIED:20250916T074556Z
UID:5579-1758009600-1765904400@erdkultura.hu
SUMMARY:Gyermekszínházi előadások – Micimackó bérlet
DESCRIPTION:A Szepes Gyula Művelődési Központ és Városi Könyvtár örömmel ajánlja figyelmükbe 2025. őszi gyermekszínházi bérletét\, amelyet óvodai és iskolai csoportok számára állított össze. \nA bérlet az alábbi három előadást tartalmazza:\n· 2025. október 21. 9:30 és 11:30 \nPiroska és a Farkas Kerekerdőben − A Múzsák Társulata előadásában\n· 2025. november 25. 9:30 és 11:30 \nA rátóti csikótojás − A Zenthe Ferenc Színház előadásában\n· 2025. december 16. 9:30 és 11:30 \nA csodapadlás − A J.P. Dance Company zenés\, táncos előadása\n  \nA bérlet ára:\n· Bérlet ára (3 előadás): 7.500 Ft / fő \n· Jegyár előadásonként: 2.500 Ft / fő \nAz előadásokra osztályok\, iskolás és óvodás csoportok jelentkezését várjuk. \nA jegyek korlátozott számban állnak rendelkezésre\, ezért kérjük\, hogy igényüket mielőbb jelezzék. \nHelyszín:\nSzepes Gyula Művelődési Központ | 2030 Érd\, Alsó utca 9. \nJelentkezés módja:\nKérjük\, részvételi szándékukat e-mailben jelezzék a wachler.eniko@szepesmk.hu e-mail címen. \nA levélben kérjük feltüntetni: \n· az iskola nevét és címét\, \n· a kapcsolattartó pedagógus nevét és elérhetőségeit\, \n· az osztály(ok) létszámát\, \n· a fizetés tervezett módját (készpénz vagy utalás). \n  \nA szervezők a programváltozás jogát fenntartják. A programon résztvevők elfogadják a házirendet\, valamint elfogadják\, hogy a programon készült kép-\, hang- és videofelvételt a szervezők saját nyilvános felületeiken\, illetve egyéb médiafelületeken való megjelenés során felhasználhatnak.
URL:https://erdkultura.hu/event/gyermekszinhazi-berlet-erd/
LOCATION:SZEPES\, Alsó u. 9.\, Érd\, 2030\, Magyarország
CATEGORIES:előadás,szepes,zene
ATTACH;FMTTYPE=image/png:https://erdkultura.hu/wp-content/uploads/2025/09/Nevtelen-terv-7.png
END:VEVENT
BEGIN:VEVENT
DTSTART;TZID=UTC:20251011T160000
DTEND;TZID=UTC:20251011T170000
DTSTAMP:20260422T154354
CREATED:20250922T110428Z
LAST-MODIFIED:20250922T110428Z
UID:5748-1760198400-1760202000@erdkultura.hu
SUMMARY:Szilva Kati táncház - Őszi mulatság
DESCRIPTION:A talpalávalót a Koppintó zenekar szolgáltatja.   \nBelépőjegy: \nGyerek 1000 Ft \nFelnőtt: 1200 Ft \nCsaládi jegy: 4000 Ft (2 felnőtt + 2 gyerek)  \nMinden érdeklődőt szeretettel várunk\, óvodáskortól kisiskolás korig!  \n  \nA szervezők a programváltozás jogát fenntartják. A programon résztvevők elfogadják a házirendet\, valamint elfogadják\, hogy a programon készült kép-\, hang- és videofelvételt a szervezők saját nyilvános felületeiken\, illetve egyéb médiafelületeken való megjelenés során felhasználhatnak.
URL:https://erdkultura.hu/event/szilva-kati-tanchaz-oszi-mulatsag/
LOCATION:PARKVÁROS\, Gépész u. 14.\, Érd\, 2030\, Magyarország
CATEGORIES:előadás,Parkváros,tanfolyam,zene
ATTACH;FMTTYPE=image/png:https://erdkultura.hu/wp-content/uploads/2025/09/Web-kep-24.png
END:VEVENT
BEGIN:VEVENT
DTSTART;TZID=UTC:20251011T190000
DTEND;TZID=UTC:20251011T210000
DTSTAMP:20260422T154354
CREATED:20250626T130044Z
LAST-MODIFIED:20250626T130044Z
UID:5153-1760209200-1760216400@erdkultura.hu
SUMMARY:Zene nélkül mit érek én… Cserháti Zsuzsa és Máté Péter emlékkoncert//Érd
DESCRIPTION:Két feledhetetlen hang\, két zseniális énekes. Cserháti Zsuzsa és Máté Péter dalai a mai napig élénken élnek a lelkünkben. Személyüknek és munkásságuknak állít emléket a koncert.\nA koncerten elhangzik többek között: Akad\, amit nem gyógyít meg az idő sem\, Árva fiú\, Azért vannak a jó barátok\, Boldogság gyere haza\, Egy darabot a szívemből\, Egyszer véget ér\, Egy elfelejtett dal\, Elmegyek\, Ez majdnem szerelem volt\, Kicsi gyere velem rózsát szedni\, Hamu és gyémánt\, Kell\, hogy várj\, Most élsz\, Száguldás\, Porsche\, szerelem\, Zene nélkül mit érek én című sláger. \nÉnekesnő: Szulák Andrea\nÉnekes: Kocsis Dénes\nAz énekesek a GondaMusic Band kíséretével elevenítik fel a két előadó legkedveltebb slágereit. \nA szervezők a programváltozás jogát fenntartják.\nA programon résztvevők elfogadják a házirendet\, valamint elfogadják\, hogy a programon készült kép-\, hang- és videofelvételt a szervezők saját nyilvános felületeiken\, illetve egyéb médiafelületeken való megjelenés során felhasználhatnak.
URL:https://erdkultura.hu/event/zene-nelkul-mit-erek-en-cserhati-zsuzsa-es-mate-peter-emlekkoncert-erd/
LOCATION:SZEPES\, Alsó u. 9.\, Érd\, 2030\, Magyarország
CATEGORIES:szepes,zene
ATTACH;FMTTYPE=image/jpeg:https://erdkultura.hu/wp-content/uploads/2025/06/Zene-nelkul-mit-erek-en…-–-Erd.jpg
END:VEVENT
BEGIN:VEVENT
DTSTART;TZID=UTC:20251018T140000
DTEND;TZID=UTC:20251018T160000
DTSTAMP:20260422T154354
CREATED:20250910T100557Z
LAST-MODIFIED:20250910T100557Z
UID:5555-1760796000-1760803200@erdkultura.hu
SUMMARY:Mese Kuckó
DESCRIPTION:Rajzfilmvetítés kézműves foglalkozással kiegészítve\, minden hónapban egy alkalommal! \nIdőpontok: \n\nSzeptember 27. 10:00\nOktóber 18. 14:00\nNovember 22. 14:00\n\nA programon a részvétel díjtalan\, de regisztrációhoz kötött. Részvételi szándékát kérjük\, jelezze az erdigaleria@gmail.com e-mail címen.  \nA szervezők a programváltozás jogát fenntartják.\nA programon résztvevők elfogadják a házirendet\, valamint elfogadják\, hogy a programon készült kép-\, hang- és videofelvételt a szervezők saját nyilvános felületeiken\, illetve egyéb médiafelületeken való megjelenés során felhasználhatnak.
URL:https://erdkultura.hu/event/mese-kucko-4/
LOCATION:GALÉRIA\, Alsó utca 2.\, Érd\, 2030\, Magyarország
CATEGORIES:előadás,Galéria,kiállítás,tanfolyam,zene
ATTACH;FMTTYPE=image/jpeg:https://erdkultura.hu/wp-content/uploads/2025/07/Web-kep-1.jpeg
END:VEVENT
BEGIN:VEVENT
DTSTART;TZID=UTC:20251030T140000
DTEND;TZID=UTC:20251030T170000
DTSTAMP:20260422T154354
CREATED:20250910T102454Z
LAST-MODIFIED:20250910T102454Z
UID:5569-1761832800-1761843600@erdkultura.hu
SUMMARY:Eszterlánc klub   
DESCRIPTION:Nosztalgiaklub Szigeti Eszterrel  \nMinden hónap utolsó csütörtökjén. A belépés ingyenes!  \n„Jó lenne 120 évig élni” – magyar örökzöldek a régen fiatal korosztályról  \nMinden kedves érdeklődőt szeretettel várunk! \n  \nA szervezők a programváltozás jogát fenntartják.\nA programon résztvevők elfogadják a házirendet\, valamint elfogadják\, hogy a programon készült kép-\, hang- és videofelvételt a szervezők saját nyilvános felületeiken\, illetve egyéb médiafelületeken való megjelenés során felhasználhatnak. \n  
URL:https://erdkultura.hu/event/eszterlanc-klub-8/
LOCATION:PARKVÁROS\, Gépész u. 14.\, Érd\, 2030\, Magyarország
CATEGORIES:előadás,Parkváros,zene
ATTACH;FMTTYPE=image/png:https://erdkultura.hu/wp-content/uploads/2025/09/eszterlanc-klub-1920-x-1080-keppont-1.png
END:VEVENT
BEGIN:VEVENT
DTSTART;TZID=UTC:20251031T140000
DTEND;TZID=UTC:20251031T180000
DTSTAMP:20260422T154354
CREATED:20251003T124115Z
LAST-MODIFIED:20251007T122846Z
UID:5827-1761919200-1761933600@erdkultura.hu
SUMMARY:14. TökJó Fesztivál Érden
DESCRIPTION:14.TökJó Fesztivál\nIdén 14. alkalommal kerül megrendezésre a TökJó Fesztivál – ahol minden a tökről\, a jókedvről és a Halloween varázsáról szól. Csatlakozz hozzánk\, és ünnepeljünk együtt! \nIdőpont: 2025. 10. 31. 14:00 – 18:00 \nHelyszín: Szepes Gyula Művelődési Központ | 2030 Érd\, Alsó utca 9. \nProgramok a TökJó Fesztiválon:\n14:00 Animációs filmvetítés (95 perc – amerikai animációs film)\n15:45 JP Dance Company – Táncolj velünk!\n16:15 Halloweeni Tömegkvíz\n16:30 Animációs filmvetítés (20 perc – amerikai animációs film)\n17:00 Jelmezes felvonulás – Gyere te is jelmezben\, és mutasd meg a színpadon!\n17:30 Tökfaragó-szépségverseny eredményhirdetése\n17:40 MiniDisco \nTovábbi programok:\n\nArcfestés\nÜgyességi játékok\nBájitalkészítés\nBátorságpróba\nPapírszínház\nKézműveskedés\nMinigolf\nKézműves vásár\nTökkiállítás\nFotófal \n\n\n\n\n\nTökJó Afterparty\nIdőpont: 2025. 10. 31. 20:00 – 02:00 \nRetro és mai slágerek \nHelyszín: Tornácos Söröző | 2030 Érd\, Felső utca 22. \nBelépés jelmezben ingyenes\, jelmez nélkül 2.500 Ft/fő. \nElőzetes jelentkezés szükséges a rendezveny@marshal.hu e-mail címen. \n  \nA szervezők a programváltozás jogát fenntartják.A programon résztvevők elfogadják a házirendet\, valamint elfogadják\, hogy a programon készült kép-\, hang- és videofelvételt a szervezők saját nyilvános felületeiken\, illetve egyéb médiafelületeken való megjelenés során felhasználhatnak.
URL:https://erdkultura.hu/event/14-tokjo-fesztival/
LOCATION:SZEPES\, Alsó u. 9.\, Érd\, 2030\, Magyarország
CATEGORIES:előadás,Fesztivál,szepes,zene
ATTACH;FMTTYPE=image/jpeg:https://erdkultura.hu/wp-content/uploads/2025/10/WEB-9-scaled.jpg
END:VEVENT
BEGIN:VEVENT
DTSTART;TZID=UTC:20251031T200000
DTEND;TZID=UTC:20251101T020000
DTSTAMP:20260422T154354
CREATED:20251007T122625Z
LAST-MODIFIED:20251007T122942Z
UID:5862-1761940800-1761962400@erdkultura.hu
SUMMARY:🎃 TökJó Afterparty a Tornácos Sörözőben👻
DESCRIPTION:A Tökjó Fesztivál a Toriban folytatódik!\n\nKészülj az év legijesztőbb éjszakájára\, mert október 31-én a Tornácos Söröző sötét erői életre kelnek!\n Vérfagyasztó hangulat\, rémisztően jó italok\, és olyan retro és mai slágerek\, amitől még a zombik is táncra perdülnek!\n\nFIGYELEM\nA belépés\, valamint a jegyváltás előzetes jelentkezéshez kötött! A helyszínen listára feliratkozni nem lehetséges\, a listán nem szereplő személyek nem léphetnek be és jegyet sem válthatnak. A szervező ellenőrzési célból jogosult bármely személyazonosításra alkalmas igazolványt megtekinteni. A rendezvény során 18 éven aluliakat szeszesitallal nem áll módunkban kiszolgálni!\n\nA listára feliratkozni az alábbi csatornákon keresztül lehetséges:rendezveny@marshal.hu emailcímen\, facebook és instagram üzenetben.\n\nJelmezben érkezőknek ingyenes a belépés\, jelmez nélkül 2.500 Ft a belépő.\n\n\nTarts velünk a TökJó fesztiválon is!
URL:https://erdkultura.hu/event/tokjo-afterparty/
LOCATION:SZEPES\, Alsó u. 9.\, Érd\, 2030\, Magyarország
CATEGORIES:előadás,szepes,zene
ATTACH;FMTTYPE=image/jpeg:https://erdkultura.hu/wp-content/uploads/2025/10/to__k_jo_after_party_720.jpg
END:VEVENT
END:VCALENDAR