BEGIN:VCALENDAR
VERSION:2.0
PRODID:-//ÉrdKultúra - ECPv6.8.0//NONSGML v1.0//EN
CALSCALE:GREGORIAN
METHOD:PUBLISH
X-ORIGINAL-URL:https://erdkultura.hu
X-WR-CALDESC:Events for ÉrdKultúra
REFRESH-INTERVAL;VALUE=DURATION:PT1H
X-Robots-Tag:noindex
X-PUBLISHED-TTL:PT1H
BEGIN:VTIMEZONE
TZID:UTC
BEGIN:STANDARD
TZOFFSETFROM:+0000
TZOFFSETTO:+0000
TZNAME:UTC
DTSTART:20250101T000000
END:STANDARD
END:VTIMEZONE
BEGIN:VEVENT
DTSTART;TZID=UTC:20250906T170000
DTEND;TZID=UTC:20250906T190000
DTSTAMP:20260422T171125
CREATED:20250729T082957Z
LAST-MODIFIED:20250813T114956Z
UID:5284-1757178000-1757185200@erdkultura.hu
SUMMARY:„GYERE BE RÓZSÁM” - Zenés nyárbúcsúztató Szóka Júliával és Fekete Zoltánnal a Múzeumkertben
DESCRIPTION:„GYERE BE RÓZSÁM” – Zenés nyárbúcsúztató Szóka Júliával és Fekete Zoltánnal Érden\, a Múzeumkertben\nJegyár: 3.500 Ft \nOnline jegyvásárlás: https://szepesmk.jegyx1.hu/eloadas/4738/%E2%80%9Egyere-be-rozsam%E2%80%9D-szoka-julia-es-fekete-zoltan \nJegyek a Szepes Gyula Művelődési Központban (2030 Érd\, Alsó u. 9.) is kaphatók: \n\n2025. július 28. − augusztus 1.: minden hétköznap 8:30 és 16:00 között\n2025. augusztus 11. − augusztus 31.: kedden és csütörtökön 8:30 és 16:00 között\n2025. szeptember 1-jétől: kedden és pénteken 14:00 és 19:00 között\, valamint csütörtökön 9:00-től 14:00-ig\n\nA helyfoglalás érkezési sorrendben történik! \nA szervezők a programváltozás jogát fenntartják.\nA programon résztvevők elfogadják a házirendet\, valamint elfogadják\, hogy a programon készült kép-\, hang- és videofelvételt a szervezők saját nyilvános felületeiken\, illetve egyéb médiafelületeken való megjelenés során felhasználhatnak.
URL:https://erdkultura.hu/event/gyere-be-rozsam/
LOCATION:SZEPES\, Alsó u. 9.\, Érd\, 2030\, Magyarország
CATEGORIES:előadás,Fesztivál,szepes,zene
ATTACH;FMTTYPE=image/jpeg:https://erdkultura.hu/wp-content/uploads/2025/07/FB_Event-3-1-scaled.jpg
END:VEVENT
BEGIN:VEVENT
DTSTART;TZID=UTC:20250916T080000
DTEND;TZID=UTC:20251216T170000
DTSTAMP:20260422T171125
CREATED:20250916T074439Z
LAST-MODIFIED:20250916T074556Z
UID:5579-1758009600-1765904400@erdkultura.hu
SUMMARY:Gyermekszínházi előadások – Micimackó bérlet
DESCRIPTION:A Szepes Gyula Művelődési Központ és Városi Könyvtár örömmel ajánlja figyelmükbe 2025. őszi gyermekszínházi bérletét\, amelyet óvodai és iskolai csoportok számára állított össze. \nA bérlet az alábbi három előadást tartalmazza:\n· 2025. október 21. 9:30 és 11:30 \nPiroska és a Farkas Kerekerdőben − A Múzsák Társulata előadásában\n· 2025. november 25. 9:30 és 11:30 \nA rátóti csikótojás − A Zenthe Ferenc Színház előadásában\n· 2025. december 16. 9:30 és 11:30 \nA csodapadlás − A J.P. Dance Company zenés\, táncos előadása\n  \nA bérlet ára:\n· Bérlet ára (3 előadás): 7.500 Ft / fő \n· Jegyár előadásonként: 2.500 Ft / fő \nAz előadásokra osztályok\, iskolás és óvodás csoportok jelentkezését várjuk. \nA jegyek korlátozott számban állnak rendelkezésre\, ezért kérjük\, hogy igényüket mielőbb jelezzék. \nHelyszín:\nSzepes Gyula Művelődési Központ | 2030 Érd\, Alsó utca 9. \nJelentkezés módja:\nKérjük\, részvételi szándékukat e-mailben jelezzék a wachler.eniko@szepesmk.hu e-mail címen. \nA levélben kérjük feltüntetni: \n· az iskola nevét és címét\, \n· a kapcsolattartó pedagógus nevét és elérhetőségeit\, \n· az osztály(ok) létszámát\, \n· a fizetés tervezett módját (készpénz vagy utalás). \n  \nA szervezők a programváltozás jogát fenntartják. A programon résztvevők elfogadják a házirendet\, valamint elfogadják\, hogy a programon készült kép-\, hang- és videofelvételt a szervezők saját nyilvános felületeiken\, illetve egyéb médiafelületeken való megjelenés során felhasználhatnak.
URL:https://erdkultura.hu/event/gyermekszinhazi-berlet-erd/
LOCATION:SZEPES\, Alsó u. 9.\, Érd\, 2030\, Magyarország
CATEGORIES:előadás,szepes,zene
ATTACH;FMTTYPE=image/png:https://erdkultura.hu/wp-content/uploads/2025/09/Nevtelen-terv-7.png
END:VEVENT
BEGIN:VEVENT
DTSTART;TZID=UTC:20250925T140000
DTEND;TZID=UTC:20250925T170000
DTSTAMP:20260422T171125
CREATED:20250724T144838Z
LAST-MODIFIED:20250724T145621Z
UID:5269-1758808800-1758819600@erdkultura.hu
SUMMARY:Eszterlánc klub   
DESCRIPTION:Nosztalgiaklub Szigeti Eszterrel  \nMinden hónap utolsó csütörtökjén. A belépés ingyenes!  \n„Csopak\, Somló\,Badacsony!” \n– nyárbúcsúztató slágerek nyomában –  \n  \nMinden kedves érdeklődőt szeretettel várunk! \n  \nA szervezők a programváltozás jogát fenntartják.\nA programon résztvevők elfogadják a házirendet\, valamint elfogadják\, hogy a programon készült kép-\, hang- és videofelvételt a szervezők saját nyilvános felületeiken\, illetve egyéb médiafelületeken való megjelenés során felhasználhatnak. \n  
URL:https://erdkultura.hu/event/eszterlanc-klub-6/
LOCATION:PARKVÁROS\, Gépész u. 14.\, Érd\, 2030\, Magyarország
CATEGORIES:előadás,Parkváros,zene
ATTACH;FMTTYPE=image/png:https://erdkultura.hu/wp-content/uploads/2025/02/eszterlanc-klub-1920-x-1080-keppont.png
END:VEVENT
BEGIN:VEVENT
DTSTART;TZID=UTC:20250927T100000
DTEND;TZID=UTC:20250927T160000
DTSTAMP:20260422T171125
CREATED:20250724T130933Z
LAST-MODIFIED:20250829T064818Z
UID:5252-1758967200-1758988800@erdkultura.hu
SUMMARY:Mese Kuckó
DESCRIPTION:Rajzfilmvetítés kézműves foglalkozással kiegészítve\, minden hónapban egy alkalommal! \nIdőpontok: \n\nSzeptember 27. 10:00\nOktóber 18. 14:00\nNovember 22. 14:00\n\nA programon a részvétel díjtalan\, de regisztrációhoz kötött. Részvételi szándékát kérjük\, jelezze az erdigaleria@gmail.com e-mail címen.  \nA szervezők a programváltozás jogát fenntartják.\nA programon résztvevők elfogadják a házirendet\, valamint elfogadják\, hogy a programon készült kép-\, hang- és videofelvételt a szervezők saját nyilvános felületeiken\, illetve egyéb médiafelületeken való megjelenés során felhasználhatnak.
URL:https://erdkultura.hu/event/mese-kucko/
LOCATION:GALÉRIA\, Alsó utca 2.\, Érd\, 2030\, Magyarország
CATEGORIES:előadás,Galéria,kiállítás,tanfolyam,zene
ATTACH;FMTTYPE=image/jpeg:https://erdkultura.hu/wp-content/uploads/2025/07/Web-kep-1.jpeg
END:VEVENT
BEGIN:VEVENT
DTSTART;TZID=UTC:20250930T100000
DTEND;TZID=UTC:20250930T120000
DTSTAMP:20260422T171125
CREATED:20250724T123024Z
LAST-MODIFIED:20250916T104419Z
UID:5223-1759226400-1759233600@erdkultura.hu
SUMMARY:Idősek Világnapja
DESCRIPTION:Sárik Péter Trió és Falusi Mariann: Jazzkívánságműsor \nIdőpont: Szeptember 30.\, 10:00 és 13:30 \nA kiválasztott előadásra regisztrációs jegy igénylése szükséges szeptember 2-től a Szepes Gyula Művelődési Központ vagy a Parkvárosi Közösségi Ház információs pultjánál! \n  \nA program az „Idősen\, aktívan\, Érden” programsorozat keretében kerül megrendezésre.\nA részvétel az érdi 65 év felettieknek ingyenes.\n\n\n  \nA szervezők a programváltozás jogát fenntartják.\nA programon résztvevők elfogadják a házirendet\, valamint elfogadják\, hogy a programon készült kép-\, hang- és videofelvételt a szervezők saját nyilvános felületeiken\, illetve egyéb médiafelületeken való megjelenés során felhasználhatnak.
URL:https://erdkultura.hu/event/idosek-vilagnapja/
LOCATION:SZEPES\, Alsó u. 9.\, Érd\, 2030\, Magyarország
CATEGORIES:előadás,Idősprogram,szepes,zene
ATTACH;FMTTYPE=image/jpeg:https://erdkultura.hu/wp-content/uploads/2025/07/JAZZKIV_KIV_MAGYAR_FB_02.jpg
ORGANIZER;CN="Sz%C5%B1cs %C3%81gnes I SZEPES":MAILTO:szucs.agnes@erdkultura.hu
END:VEVENT
BEGIN:VEVENT
DTSTART;TZID=UTC:20250930T133000
DTEND;TZID=UTC:20250930T153000
DTSTAMP:20260422T171125
CREATED:20250724T123045Z
LAST-MODIFIED:20250916T103811Z
UID:5226-1759239000-1759246200@erdkultura.hu
SUMMARY:Idősek Világnapja
DESCRIPTION:Sárik Péter Trió és Falusi Mariann: Jazzkívánságműsor  \nIdőpont: Szeptember 30.\, 10:00 és 13:30 \nA kiválasztott előadásra regisztrációs jegy igénylése szükséges szeptember 2-től a Szepes Gyula Művelődési Központ vagy a Parkvárosi Közösségi Ház információs pultjánál! \n  \nA program az „Idősen\, aktívan\, Érden” programsorozat keretében kerül megrendezésre.\nA részvétel az érdi 65 év felettieknek ingyenes.\n\n\n  \nA szervezők a programváltozás jogát fenntartják.\nA programon résztvevők elfogadják a házirendet\, valamint elfogadják\, hogy a programon készült kép-\, hang- és videofelvételt a szervezők saját nyilvános felületeiken\, illetve egyéb médiafelületeken való megjelenés során felhasználhatnak.
URL:https://erdkultura.hu/event/idosek-vilagnapja-2/
LOCATION:SZEPES\, Alsó u. 9.\, Érd\, 2030\, Magyarország
CATEGORIES:előadás,Idősprogram,szepes,zene
ATTACH;FMTTYPE=image/jpeg:https://erdkultura.hu/wp-content/uploads/2025/07/JAZZKIV_KIV_MAGYAR_FB_02.jpg
ORGANIZER;CN="Sz%C5%B1cs %C3%81gnes I SZEPES":MAILTO:szucs.agnes@erdkultura.hu
END:VEVENT
END:VCALENDAR