BEGIN:VCALENDAR
VERSION:2.0
PRODID:-//ÉrdKultúra - ECPv6.8.0//NONSGML v1.0//EN
CALSCALE:GREGORIAN
METHOD:PUBLISH
X-ORIGINAL-URL:https://erdkultura.hu
X-WR-CALDESC:Events for ÉrdKultúra
REFRESH-INTERVAL;VALUE=DURATION:PT1H
X-Robots-Tag:noindex
X-PUBLISHED-TTL:PT1H
BEGIN:VTIMEZONE
TZID:UTC
BEGIN:STANDARD
TZOFFSETFROM:+0000
TZOFFSETTO:+0000
TZNAME:UTC
DTSTART:20250101T000000
END:STANDARD
END:VTIMEZONE
BEGIN:VEVENT
DTSTART;TZID=UTC:20250124T180000
DTEND;TZID=UTC:20250301T200000
DTSTAMP:20260423T015434
CREATED:20241219T085543Z
LAST-MODIFIED:20250207T091751Z
UID:3578-1737741600-1740859200@erdkultura.hu
SUMMARY:TÉLI TÁRLAT 2025
DESCRIPTION:TÉLI TÁRLAT 2025\nHagyományos csoportos kiállítás az érdi és az Érd vonzáskörzetében élő alkotók munkáiból. \nA kiállítás megtekinthető 2025. március 1-ig\, a galéria nyitvatartási idejében\, szerdán 12:00-tól 20:00-ig\, csütörtöktől szombatig 10:00-tól 17:00-ig. \nA kiállító alkotók névsora:\nADELMANN ANNA // BALLA ERIKA // BALLA LAJOS // BÁRÁNY T. RÉZIA // BÜKI ATTILA // COMBARRO PETRA INEZ // CSÓKA LÁSZLÓ // DEÁKI TAMÁS // FERENCZI VILMOS // FITOS GYÖRGYI // GERGELY-FARNOS LILLA // GÉCZI ILDIKÓ // GOMBOS IBOLYA // GYULAY ERIKA // HAJDÚ KINGA // ILKA GÁBOR // KARSCH MANFRED // KELLE ANTAL // KISS IMRE // KOPÓCSY JUDIT // KOPPÁNY ATTILA // KÓSA JÁNOS // KOVÁCH GERGŐ // KOVÁCS ÁRPÁD // KOVÁCS JOHANNA // KRICZKI TAMÁS // LÁSZLÓ EMŐKE // MADARÁSZ KRISZTINA // MUK ÁGOTA // PAPP ERZSÉBET // PAZÁR ANNA // R. NAGY ERIKA // REGŐS ÁGNES // SZABÓ LÁSZLÓ // SZABÓ SZILÁRD // TÖRÖK JOLI // VALKÓ GYULA // VÁROSI FERENC // WENSZKY ÁGNES // ZALAVÁRI JÓZSEF \n  \n 
URL:https://erdkultura.hu/event/teli-tarlat-2025/
LOCATION:GALÉRIA\, Alsó utca 2.\, Érd\, 2030\, Magyarország
CATEGORIES:előadás,Galéria,kiállítás,zene
ATTACH;FMTTYPE=image/jpeg:https://erdkultura.hu/wp-content/uploads/2024/12/1200x628_esemeny_cover-1.jpg
END:VEVENT
BEGIN:VEVENT
DTSTART;TZID=UTC:20250301T140000
DTEND;TZID=UTC:20250301T170000
DTSTAMP:20260423T015434
CREATED:20250214T092114Z
LAST-MODIFIED:20250221T111833Z
UID:4000-1740837600-1740848400@erdkultura.hu
SUMMARY:Téli Tárlat 2025 Finisszázs
DESCRIPTION:A Téli Tárlat 2025 csoportos kiállítás záróeseménye. \n\nElbúcsúztatjuk a 2025-ös évi Téli Tárlatunkat. Ezen a záróeseményen Homolya Gábor képzőművész tart izgalmas és kreatív workshopot\, mely során kollázsokat készíthetünk. A nap végén pedig Szegedi Csaba kolorista szakmai tárlatvezetésével járhatjuk még egyszer\, utoljára a kiállítást\, és inthetünk búcsút az alkotásoknak. \n\n\n14:00-16:00 – Kreatív workshop Homolya Gábor képzőművésszel \n\n\n16:00-17:00 – Szegedi Csaba kolorista szakmai tárlatvezetése \nMinden kedves érdeklődőt szeretettel várunk! \nA programon a részvétel díjtalan\, de regisztrációhoz kötött. Részvételi szándékát kérjük az erdigaleria@gmail.com e-mail címen jelezze. A Szervezők a programváltozás jogát fenntartják.
URL:https://erdkultura.hu/event/teli-tarlat-2025-finisszazs/
LOCATION:GALÉRIA\, Alsó utca 2.\, Érd\, 2030\, Magyarország
CATEGORIES:előadás,Galéria,kiállítás,zene
ATTACH;FMTTYPE=image/png:https://erdkultura.hu/wp-content/uploads/2025/02/1130-1230-Latogatas-az-Erdi-Galeriaban-2030-Erd-Also-u.-2.-A-Teli-Tarlat-2025-cimu-idoszaki-csoportos-kiallitas-megtekintese.-Az-Erd-es-vonzaskorzeteben-elo-muveszek-munkait-felvonultato-tarla.png
END:VEVENT
BEGIN:VEVENT
DTSTART;TZID=UTC:20250302T180000
DTEND;TZID=UTC:20250302T190000
DTSTAMP:20260423T015434
CREATED:20250113T085635Z
LAST-MODIFIED:20250205T075633Z
UID:3689-1740938400-1740942000@erdkultura.hu
SUMMARY:Soltész Rezső Koncert
DESCRIPTION:Soltész Rezső Érden a Szepes Gyula Művelődési Központban\nFelejthetetlen slágerek\, felejthetetlen előadás\, felejthetetlen élmény. \nA másfél órás koncerten elhangzanak Soltész Rezső legendás slágerei\, köztük a ma is népszerű „Szóljon hangosan az ének”\, „Várj”\, „Akit szeretnek”\, „Annabella”\, „Gondolsz-e majd rám”\, de felcsendülnek a múlt század legnagyobb külföldi retro slágerei is\, köztük a „Rejtély”\, az „Azzuró”\, a „Távollét”\, „Una Paloma Blanca”\, amiket bizonyára ezen a koncerten is együtt énekel az előadóval a közönség. \nBelehallgatunk a Csillagok című online album dalaiba\, köztük a „Minden jót Mónika”\, „Egy szál harangvirág” slágerekbe is. \nA felcsendülő örökzöld dallamok magukkal ragadják a közönséget\, akik egyfajta időutazással egybekötött zenei élményben részesülnek. \n\nElőadói pályáját az énekes a 70-es évek egyik legsikeresebb formációjában\, a Corvina zenekarban kezdte; zenészként\, énekesként és szerzőként egyaránt meghatározó alakja volt az együttesnek. Elkötelezettsége az élő koncertek iránt mind a mai napig változatlan\, és minden lehetőséget megragad\, hogy zenekari kísérettel álljon a rajongói elé.\n\nAz öttagú formáció élén Soltész Rezső igazi rock and roll hangulatot teremt mintegy másfél órán keresztül\, amiben természetesen helyet kapnak a közönség által kedvelt lírai dalok is.\n\n\n\nKözreműködik:\n\nJung Norbert – gitár\nDakos Lilla – billentyű\nTenki-Pozsgay Zsófia – szaxofon\nTenki Dániel – basszusgitár\nLaskay Péter – dob\n\n\n\nJegyvásárlás\n\nOnline \nKorlátozott számban jegyek kaphatók: Wend Rövidáru és Kreatív Hobby | 2023 Érd\, Budai út 20.
URL:https://erdkultura.hu/event/soltesz-rezso-koncert/
LOCATION:SZEPES\, Alsó u. 9.\, Érd\, 2030\, Magyarország
CATEGORIES:előadás,szepes,zene
ATTACH;FMTTYPE=image/png:https://erdkultura.hu/wp-content/uploads/2025/01/Kep2.png
END:VEVENT
BEGIN:VEVENT
DTSTART;TZID=UTC:20250307T180000
DTEND;TZID=UTC:20250307T200000
DTSTAMP:20260423T015434
CREATED:20250226T095546Z
LAST-MODIFIED:20250227T144017Z
UID:4136-1741370400-1741377600@erdkultura.hu
SUMMARY:VALKÓ Gyula - Szökés a tájképből kiállításmegnyitó
DESCRIPTION:VALKÓ Gyula – Szökés a tájképből\nAz Érdi Galéria meghívja Önt és barátait VALKÓ GYULA festőművész Szökés a tájképből című kiállításának megnyitójára \n2025. március 7-én\, pénteken 18 órára \nKöszöntőt mond: DR. CSŐZIK LÁSZLÓ Érd Megyei Jogú Város polgármestere \nA kiállítást megnyitja: BÁNKI ÁKOS képzőművész\, kurátor \nZenei közreműködő: TÓTH ZSELYKE \nAz eseményen Érd egyetlen ír kocsmája\, az 1996 óta sikeresen működő Irish Dog Pub készül whisky kóstolóval\, de más ír italkülönlegességeket is lesz lehetőség megkóstolni. \nMinden kedves érdeklődőt szeretettel várunk! \nA kiállítás megtekinthető 2025. április 17-ig\, a galéria nyitvatartási idejében\, szerdán 12-20 óráig\, csütörtöktől szombatig 10-17 óráig.\n  \n\n  \nValkó Gyula kiállított festészeti sorozatai a Covid időszakához köthetők\, amikor hosszú szünet után újra visszatért a festészethez. Az elmúlt 4 év munkáit az európai és tengerentúli képzőművészet közötti kapcsolódások\, valamint Josef Albers módszertana inspirálta. A sorozat első periódusa intuitív módon született\, de idővel egyre inkább saját élményeit – gyerekkori emlékeket\, tárgyakat\, elhunyt szeretteit\, valamint meghatározó művészek és zenészek hatásait – szőtte bele műveibe. \nA „Szökés a tájképből” cím személyes jelentéssel bír\, egy zenei utalás\, amely egyfajta elmozdulást jelez korábbi alkotásaihoz képest. A színek és formák érzelmi hatást közvetítenek\, a geometria és absztrakció eszközeivel. Képei\, középpont nélküli kompozíciói arra ösztönzik a nézőt\, hogy folyamatosan fedezze fel a részleteket. \n„Mindenkinek meghagyom a saját verzióját\, mit lát bele a képembe. Ezzel a szétbontott és újrarendezett képalkotási módszerhez nyilván az érzelmi értelmezések állnak közel\, és ha meditációra sarkallnak\, elérték céljukat.” \nMunkáiban a tervezettség és az intuíció összefonódik\, az alkotási folyamat során a kompozíció folyamatosan változik. Inspirációját középkori miniatúrákból\, ikonfestészetből\, valamint a colorfield és absztrakt expresszionizmus irányzataiból meríti. Célja\, hogy művei gondolatokat és érzéseket ébresszenek\, és akár meditatív élményt nyújtsanak a néző számára. \n// Bánki Ákos\, a kiállítás kurátora // \nℹ️A szervezők műsor- és programváltozás jogát fenntartják!\nℹ️A programon résztvevők elfogadják a házirendet\, valamint elfogadják\, hogy a programon készült kép-\, hang- és videofelvételt a szervezők saját nyilvános felületeiken\, illetve egyéb médiafelületeken való megjelenés során felhasználhatnak.
URL:https://erdkultura.hu/event/valko-gyula-szokes-a-tajkepbol-kiallitasmegnyito/
LOCATION:GALÉRIA\, Alsó utca 2.\, Érd\, 2030\, Magyarország
CATEGORIES:előadás,Galéria,kiállítás,zene
ATTACH;FMTTYPE=image/jpeg:https://erdkultura.hu/wp-content/uploads/2025/02/Event-1-scaled.jpg
END:VEVENT
BEGIN:VEVENT
DTSTART;TZID=UTC:20250307T180000
DTEND;TZID=UTC:20250430T200000
DTSTAMP:20260423T015434
CREATED:20250303T114038Z
LAST-MODIFIED:20250422T103916Z
UID:4208-1741370400-1746043200@erdkultura.hu
SUMMARY:VALKÓ Gyula - Szökés a tájképből
DESCRIPTION:VALKÓ Gyula – Szökés a tájképből\nA kiállítás meghosszabbítva látogatható április 30-ig\, a galéria nyitvatartási idejében\, szerdán 12-20 óráig\, csütörtöktől szombatig 10-17 óráig. \n  \n\n  \nValkó Gyula kiállított festészeti sorozatai a Covid időszakához köthetők\, amikor hosszú szünet után újra visszatért a festészethez. Az elmúlt 4 év munkáit az európai és tengerentúli képzőművészet közötti kapcsolódások\, valamint Josef Albers módszertana inspirálta. A sorozat első periódusa intuitív módon született\, de idővel egyre inkább saját élményeit – gyerekkori emlékeket\, tárgyakat\, elhunyt szeretteit\, valamint meghatározó művészek és zenészek hatásait – szőtte bele műveibe. \nA „Szökés a tájképből” cím személyes jelentéssel bír\, egy zenei utalás\, amely egyfajta elmozdulást jelez korábbi alkotásaihoz képest. A színek és formák érzelmi hatást közvetítenek\, a geometria és absztrakció eszközeivel. Képei\, középpont nélküli kompozíciói arra ösztönzik a nézőt\, hogy folyamatosan fedezze fel a részleteket. \n„Mindenkinek meghagyom a saját verzióját\, mit lát bele a képembe. Ezzel a szétbontott és újrarendezett képalkotási módszerhez nyilván az érzelmi értelmezések állnak közel\, és ha meditációra sarkallnak\, elérték céljukat.” \nMunkáiban a tervezettség és az intuíció összefonódik\, az alkotási folyamat során a kompozíció folyamatosan változik. Inspirációját középkori miniatúrákból\, ikonfestészetből\, valamint a colorfield és absztrakt expresszionizmus irányzataiból meríti. Célja\, hogy művei gondolatokat és érzéseket ébresszenek\, és akár meditatív élményt nyújtsanak a néző számára. \n// Bánki Ákos\, a kiállítás kurátora // \nℹ️A szervezők műsor- és programváltozás jogát fenntartják!\nℹ️A programon résztvevők elfogadják a házirendet\, valamint elfogadják\, hogy a programon készült kép-\, hang- és videofelvételt a szervezők saját nyilvános felületeiken\, illetve egyéb médiafelületeken való megjelenés során felhasználhatnak. \n  \nKapcsolódó programok:\nMúzeumpedagógia \nGaléria Kreatív Műhely \nGaléria Kreatív Műhely
URL:https://erdkultura.hu/event/valko-gyula-szokes-a-tajkepbol/
LOCATION:GALÉRIA\, Alsó utca 2.\, Érd\, 2030\, Magyarország
CATEGORIES:előadás,Galéria,kiállítás,zene
ATTACH;FMTTYPE=image/jpeg:https://erdkultura.hu/wp-content/uploads/2025/03/WEB-11-scaled.jpg
END:VEVENT
BEGIN:VEVENT
DTSTART;TZID=UTC:20250312T180000
DTEND;TZID=UTC:20250312T190000
DTSTAMP:20260423T015434
CREATED:20250214T092647Z
LAST-MODIFIED:20250306T142515Z
UID:4002-1741802400-1741806000@erdkultura.hu
SUMMARY:Galéria Kreatív Műhely - Művészet a forradalomban
DESCRIPTION:Galéria Kreatív Műhely\n\nRendhagyó műhelyfoglalkozásunkon sorra vesszük a művészettörténet ikonikus forradalmi alkotásait és ezekből inspirálódva készítjük el saját alkotásainkat. \n\n\nIsmerjen meg új és izgalmas technikákat a galériában! Kéthetente kreatív alkotóműhelyeken vehet részt\, ahol szabadon kipróbálhat újabb és újabb metódusokat.\n\nA programon a részvétel díjtalan\, de regisztrációhoz kötött. Részvételi szándékát kérjük az erdigaleria@gmail.com e-mail címen jelezze. 
URL:https://erdkultura.hu/event/galeria-kreativ-muhely-5/
LOCATION:GALÉRIA\, Alsó utca 2.\, Érd\, 2030\, Magyarország
CATEGORIES:Galéria,kiállítás,tanfolyam,zene
ATTACH;FMTTYPE=image/png:https://erdkultura.hu/wp-content/uploads/2025/02/Nevtelen-terv-12.png
END:VEVENT
BEGIN:VEVENT
DTSTART;TZID=UTC:20250315T180000
DTEND;TZID=UTC:20250315T190000
DTSTAMP:20260423T015434
CREATED:20250214T094841Z
LAST-MODIFIED:20250306T134513Z
UID:4009-1742061600-1742065200@erdkultura.hu
SUMMARY:Érdi Kamarazenekar ünnepi hangversenye
DESCRIPTION:Emlékezés az 1848-as szabadságharcra − az Érdi Kamarazenekar ünnepi hangversenye \nMűsor: \n\nBartók Béla\, Erkel Ferenc\, Farkas Ferenc\, Kókai Rezső\, Orbán György\, Ránki György és Rózsavölgyi Márk alkotásai\nVezényel: Héja László\n\nMinden érdeklődőt szeretettel várunk! \nA programon a részvétel ingyenes. \n \nA szervezők a programváltozás jogát fenntartják. A programon résztvevők elfogadják a házirendet\, valamint elfogadják\, hogy a programon készült kép-\, hang- és videofelvételt a szervezők saját nyilvános felületeiken\, illetve egyéb médiafelületeken való megjelenés során felhasználhatnak. 
URL:https://erdkultura.hu/event/barokk-koncert/
LOCATION:PARKVÁROS\, Gépész u. 14.\, Érd\, 2030\, Magyarország
CATEGORIES:Parkváros,zene
ATTACH;FMTTYPE=image/png:https://erdkultura.hu/wp-content/uploads/2025/02/Web-kep-41.png
END:VEVENT
BEGIN:VEVENT
DTSTART;TZID=UTC:20250317T100000
DTEND;TZID=UTC:20250317T120000
DTSTAMP:20260423T015434
CREATED:20250214T124036Z
LAST-MODIFIED:20250214T124036Z
UID:4047-1742205600-1742212800@erdkultura.hu
SUMMARY:Zenés hétfők: "Orchideák\, fehér orchideák…"
DESCRIPTION:Kautzky Armand és Hűvösvölgyi Ildikó nosztalgiaműsora \nAz előadások időpontjai: 10:00 és 13:30 \nRegisztrációs jegy igénylése szükséges február 17-től a Szepes Gyula Művelődési Központ és a Parkvárosi Közösségi Ház információjánál! \nA program az „Idősen\, aktívan\, Érden” programsorozat keretében kerül megrendezésre.\nA részvétel az érdi 65 év felettieknek ingyenes.\n\n\n  \nA szervezők a programváltozás jogát fenntartják.\nA programon résztvevők elfogadják a házirendet\, valamint elfogadják\, hogy a programon készült kép-\, hang- és videofelvételt a szervezők saját nyilvános felületeiken\, illetve egyéb médiafelületeken való megjelenés során felhasználhatnak.
URL:https://erdkultura.hu/event/zenes-hetfok-orchideak-feher-orchideak/
LOCATION:SZEPES\, Alsó u. 9.\, Érd\, 2030\, Magyarország
CATEGORIES:előadás,Idősprogram,szepes,zene
ATTACH;FMTTYPE=image/png:https://erdkultura.hu/wp-content/uploads/2025/02/Web-kep-48.png
ORGANIZER;CN="Sz%C5%B1cs %C3%81gnes I SZEPES":MAILTO:szucs.agnes@erdkultura.hu
END:VEVENT
BEGIN:VEVENT
DTSTART;TZID=UTC:20250317T133000
DTEND;TZID=UTC:20250317T150000
DTSTAMP:20260423T015434
CREATED:20250214T124250Z
LAST-MODIFIED:20250214T124250Z
UID:4050-1742218200-1742223600@erdkultura.hu
SUMMARY:Zenés hétfők: "Orchideák\, fehér orchideák…"
DESCRIPTION:Kautzky Armand és Hűvösvölgyi Ildikó nosztalgiaműsora \nAz előadások időpontjai: 10:00 és 13:30 \nRegisztrációs jegy igénylése szükséges február 17-től a Szepes Gyula Művelődési Központ és a Parkvárosi Közösségi Ház információjánál! \nA program az „Idősen\, aktívan\, Érden” programsorozat keretében kerül megrendezésre.\nA részvétel az érdi 65 év felettieknek ingyenes.\n\n\n  \nA szervezők a programváltozás jogát fenntartják.\nA programon résztvevők elfogadják a házirendet\, valamint elfogadják\, hogy a programon készült kép-\, hang- és videofelvételt a szervezők saját nyilvános felületeiken\, illetve egyéb médiafelületeken való megjelenés során felhasználhatnak.
URL:https://erdkultura.hu/event/zenes-hetfok-orchideak-feher-orchideak-2/
LOCATION:SZEPES\, Alsó u. 9.\, Érd\, 2030\, Magyarország
CATEGORIES:előadás,Idősprogram,szepes,zene
ATTACH;FMTTYPE=image/png:https://erdkultura.hu/wp-content/uploads/2025/02/Web-kep-48.png
ORGANIZER;CN="Sz%C5%B1cs %C3%81gnes I SZEPES":MAILTO:szucs.agnes@erdkultura.hu
END:VEVENT
BEGIN:VEVENT
DTSTART;TZID=UTC:20250320T140000
DTEND;TZID=UTC:20250320T160000
DTSTAMP:20260423T015434
CREATED:20250214T125109Z
LAST-MODIFIED:20250214T125109Z
UID:4056-1742479200-1742486400@erdkultura.hu
SUMMARY:Bach Fesztivál: Regenhart Anna Blanka cselló koncertje
DESCRIPTION:Regisztráció szükséges! \nA program az „Idősen\, aktívan\, Érden” programsorozat keretében kerül megrendezésre.\nA részvétel az érdi 65 év felettieknek ingyenes.\n\n\n  \nA szervezők a programváltozás jogát fenntartják.\nA programon résztvevők elfogadják a házirendet\, valamint elfogadják\, hogy a programon készült kép-\, hang- és videofelvételt a szervezők saját nyilvános felületeiken\, illetve egyéb médiafelületeken való megjelenés során felhasználhatnak.
URL:https://erdkultura.hu/event/bach-fesztival-regenhart-anna-blanka-csello-koncertje/
LOCATION:SZEPES\, Alsó u. 9.\, Érd\, 2030\, Magyarország
CATEGORIES:előadás,Idősprogram,szepes,zene
ATTACH;FMTTYPE=image/png:https://erdkultura.hu/wp-content/uploads/2025/02/Web-kep-51.png
ORGANIZER;CN="Sz%C5%B1cs %C3%81gnes I SZEPES":MAILTO:szucs.agnes@erdkultura.hu
END:VEVENT
BEGIN:VEVENT
DTSTART;TZID=UTC:20250321T160000
DTEND;TZID=UTC:20250321T170000
DTSTAMP:20260423T015434
CREATED:20250214T110709Z
LAST-MODIFIED:20250318T094304Z
UID:4024-1742572800-1742576400@erdkultura.hu
SUMMARY:Lukin Csalogányai Népdaléneklési Fesztivál
DESCRIPTION:A Lukin László Alapfokú Művészeti Iskola zeneismeret tanszaka 2014. óta minden évben tavasszal megszervezi a Lukin Csalogányai Népdaléneklési Fesztivált. \n A verseny fő célja a magyar népdal hagyományainak megismerése\, megőrzése\, tiszteletére nevelése.  \nA jelentkező zeneiskolai tanulók szóló\, duó vagy csoport kategóriában mutatják be tudásukat\, akik a szaktanárokból álló zsűri értékelése alapján különböző elismeréseket kaphatnak. A legjobb hangú versenyző a „Lukin Csalogánya” díj elismerésben részesülhet.   
URL:https://erdkultura.hu/event/lukin-csaloganyai-nepdaleneklesi-fesztival/
LOCATION:PARKVÁROS\, Gépész u. 14.\, Érd\, 2030\, Magyarország
CATEGORIES:előadás,Parkváros,tanfolyam,zene
ATTACH;FMTTYPE=image/png:https://erdkultura.hu/wp-content/uploads/2025/02/Web-kep-42.png
END:VEVENT
BEGIN:VEVENT
DTSTART;TZID=UTC:20250322T150000
DTEND;TZID=UTC:20250322T170000
DTSTAMP:20260423T015434
CREATED:20250214T085306Z
LAST-MODIFIED:20250226T093835Z
UID:3989-1742655600-1742662800@erdkultura.hu
SUMMARY:30 éves a Poly-Art 
DESCRIPTION:Köszöntőt mond: Dr. Csőzik László polgármester   \nKözreműködnek: Harmónia Vegyeskar\, Szigeti Eszter és a Poly-Art alkotóközösségének tagjai   \nRendezvényfelelős: Daróci Lajosné \nMinden érdeklődőt várunk szeretettel!   \nA szervezők a programváltozás jogát fenntartják. A programon résztvevők elfogadják a házirendet\, valamint elfogadják\, hogy a programon készült kép-\, hang- és videofelvételt a szervezők saját nyilvános felületeiken\, illetve egyéb médiafelületeken való megjelenés során felhasználhatnak. 
URL:https://erdkultura.hu/event/30-eves-a-poly-art/
LOCATION:PARKVÁROS\, Gépész u. 14.\, Érd\, 2030\, Magyarország
CATEGORIES:előadás,kiállítás,Parkváros,zene
ATTACH;FMTTYPE=image/png:https://erdkultura.hu/wp-content/uploads/2025/02/Web-kep-30.png
END:VEVENT
BEGIN:VEVENT
DTSTART;TZID=UTC:20250322T163000
DTEND;TZID=UTC:20250322T173000
DTSTAMP:20260423T015434
CREATED:20250206T155530Z
LAST-MODIFIED:20250206T155530Z
UID:3940-1742661000-1742664600@erdkultura.hu
SUMMARY:Tavaszi daloskönyv  GRYLLUS VILMOS ZENÉS GYERMEKMŰSORA
DESCRIPTION:60 perces gyerekműsor \nISMERTETŐ \n\n\n\n\n\n\n\n\nGryllus Vilmos 1969-ben alapította meg a Kaláka együttest. 1980-ban Levente Péterrel és Döbrentey Ildikóval a Ki kopog? című rádióműsorban lépett fel. 1991-től Levente Péterrel közösen készítették a Magyar Televízióban bemutatott Égbőlpottyant mesék sorozatot. \nAz előadásról\nKedvenc dalaim a természetről szólnak\, erről fogok énekelni nektek is – vagy veletek\, ha van kedvetek. A tavaszról\, a madarakról\, bogarakról és mindenféle állatokról\, az esőről meg a pocsolyáról\, a kirándulásról meg a biciklizésről erdőn-mezőn. Vagy amiről ti szeretnétek. És az se kizárt\, hogy közben még a mesebeli erdőbe is betévedünk\, ahol a tigrissel\, vagy akár a hétfejű sárkánnyal is találkozhatunk… \n\n\n\n\nFelhívjuk figyelmét\, hogy a szervezők a változtatás jogát fenntartják.
URL:https://erdkultura.hu/event/tavaszi-daloskonyv-gryllus-vilmos-zenes-gyermekmusora/
LOCATION:SZEPES\, Alsó u. 9.\, Érd\, 2030\, Magyarország
CATEGORIES:előadás,szepes,zene
ATTACH;FMTTYPE=image/jpeg:https://erdkultura.hu/wp-content/uploads/2025/02/gryllus-erd-0322-eth.jpg
END:VEVENT
BEGIN:VEVENT
DTSTART;TZID=UTC:20250322T180000
DTEND;TZID=UTC:20250322T190000
DTSTAMP:20260423T015434
CREATED:20250214T095026Z
LAST-MODIFIED:20250214T095026Z
UID:4012-1742666400-1742670000@erdkultura.hu
SUMMARY:Sváb táncház 
DESCRIPTION:Sváb\, osztrák\, német táncok tanulása oktatóval\, közös tánccal   \nMinden érdeklődőt szerettel várunk\, a belépés ingyenes!   \nKontakt: Gabriella Schillinger schillinger.gabriella@gmail.com  
URL:https://erdkultura.hu/event/svab-tanchaz-5/
LOCATION:PARKVÁROS\, Gépész u. 14.\, Érd\, 2030\, Magyarország
CATEGORIES:előadás,Parkváros,tanfolyam,zene
ATTACH;FMTTYPE=image/png:https://erdkultura.hu/wp-content/uploads/2025/02/Web-kep-27.png
END:VEVENT
BEGIN:VEVENT
DTSTART;TZID=UTC:20250327T093000
DTEND;TZID=UTC:20250327T120000
DTSTAMP:20260423T015434
CREATED:20250219T121539Z
LAST-MODIFIED:20250313T131331Z
UID:4109-1743067800-1743076800@erdkultura.hu
SUMMARY:Délibáb Társulat - Miaú
DESCRIPTION:A Délibáb Társulat és Sólyom Tamás babaelőadása 0-4 éveseknek\nMiaú – Élőzenés babaelőadás Vlagyimir Szutyejev meséje nyomán\, 1-4 éveseknek –  \n„Egyszer volt\, hol nem volt\, volt egyszer egy kiskutya\, aki éppen kedvenc párnáján pihent. Aludt\, és mindenféle csodálatos dologról álmodott. Ám egyszer csak valami furcsa hang zavarta meg az álmát…” \n   \nKutyus\, kalandjai során – mialatt a titokzatos nyávogót keresi – megismerkedik a kakassal\, az egérrel\, a méhecskével\, a békával\, a hallal\, és végül a cicával is.   \nA felcsendülő zenék az előadás során élőben szólalnak meg és segítenek megismerni a megjelenő állatokat.   \nAz előadást követő 20 percben további állatok és közös játékra csábító dalok szórakoztatják a gyerekeket.  \nA zenéket írta és az előadást kíséri: Sólyom Tamás \n  \nAz előadás a babáknak ingyenes\, őket mi látjuk vendégül. A felnőtteknek a jegyár 1500 Ft\, de nem csak  a szülőket\, hanem a nagyszülőket is várjuk szeretettel. \n  \n\nJegyvásárlás a helyszínen\, március 11-től a Parkvárosi Közösségi Házban. \nAz előadás a babáknak ingyenes\, a felnőtteknek 1500 Ft \nNem csak a szülőket\, hanem a nagyszülőket is várjuk szeretettel!
URL:https://erdkultura.hu/event/delibab-tarsulat-miau/
LOCATION:PARKVÁROS\, Gépész u. 14.\, Érd\, 2030\, Magyarország
CATEGORIES:előadás,Parkváros,tanfolyam,zene
ATTACH;FMTTYPE=image/png:https://erdkultura.hu/wp-content/uploads/2025/02/Web-kep-52.png
END:VEVENT
BEGIN:VEVENT
DTSTART;TZID=UTC:20250327T140000
DTEND;TZID=UTC:20250327T170000
DTSTAMP:20260423T015434
CREATED:20250214T090900Z
LAST-MODIFIED:20250214T090900Z
UID:3997-1743084000-1743094800@erdkultura.hu
SUMMARY:Eszterlánc 
DESCRIPTION:„Az élet voltaképpen szép”   \nMinden hónap utolsó csütörtök délutánján\, változó zenés műsorral várja Szigeti Eszter a kikapcsolódásra vágyó érdeklődőket. A részvétel ingyenes!    \n A szervezők a programváltozás jogát fenntartják. A programon résztvevők elfogadják a házirendet\, valamint elfogadják\, hogy a programon készült kép-\, hang- és videofelvételt a szervezők saját nyilvános felületeiken\, illetve egyéb médiafelületeken való megjelenés során felhasználhatnak. 
URL:https://erdkultura.hu/event/eszterlanc-3/
LOCATION:PARKVÁROS\, Gépész u. 14.\, Érd\, 2030\, Magyarország
CATEGORIES:előadás,Parkváros,zene
ATTACH;FMTTYPE=image/png:https://erdkultura.hu/wp-content/uploads/2025/02/eszterlanc-klub-1920-x-1080-keppont.png
END:VEVENT
BEGIN:VEVENT
DTSTART;TZID=UTC:20250327T190000
DTEND;TZID=UTC:20250327T210000
DTSTAMP:20260423T015434
CREATED:20250312T105904Z
LAST-MODIFIED:20250312T105904Z
UID:4386-1743102000-1743109200@erdkultura.hu
SUMMARY:Érdi Jazz Klub: Kanizsa Gina Trió az Érdi Galériában
DESCRIPTION:Kanizsa Gina koncertjeinek változatos repertoárja hitelesen és közvetlenül szól a hallgatósághoz\, legyen szó balladáról vagy virtuóz bebop-szólóról\, a vokális jazz legnehezebb műfajának\, a vocalese-nek pedig kétségtelenül legavatottabb interpretálója itthon.\n“A vocalese lényege hogy egy lemezen elhangzott hangszeres jazzfelvételre szöveget írnak\, beleértve az eredetileg improvizált részeket is\, és ezt leéneklik\, ami gyakran akrobatikus teljesítmény. A csodálatos énekesnő\, Kanizsa Gina a műfaj egyik legjobb kommunikátora.” – Pallai Péter (jazz.hu)\nA magyar jazz-zenészeket évente rangsoroló jazz.hu pedig szakmai listájában 2023-ban és 2024-ben az év énekesnőjének választotta.\nHazánk egyik legszebb hangú énekesnője Érdre látogat március végén! \nKanizsa Gina – ének\,\nCseke Gábor – zongora\,\nSárkány Sándor – nagybőgő \nKöszönjük Érd városának és a Szepes Gyula Művelődési Központhoz tartozó Érdi Galériának a helyszín biztosítását!\nTámogató: Irk Réka (a Pernye András-díjából támogatja a koncertet)\nTámogatás: 2500 Ft/fő\n14 éven aluliaknak ingyenes\, amíg van hely.\nMiután a Galériába 60-an férnek be maximum\, aki regisztrál\, nekik biztos lesz helyük\, ha 19 óráig megérkeznek: torokbalintijazzclub@gmail.com címen.\nHelyszín: Érdi Galéria (Főtér\, Alsó u. 2.; a Galéria és a Földrajzi Múzeum kertjében van a jazzfesztivál ősszel)
URL:https://erdkultura.hu/event/erdi-jazz-klub-kanizsa-gina-trio-az-erdi-galeriaban/
LOCATION:GALÉRIA\, Alsó utca 2.\, Érd\, 2030\, Magyarország
CATEGORIES:előadás,Galéria,zene
ATTACH;FMTTYPE=image/jpeg:https://erdkultura.hu/wp-content/uploads/2025/03/483506509_687575176933855_6198321398250567542_n.jpg
END:VEVENT
END:VCALENDAR