BEGIN:VCALENDAR
VERSION:2.0
PRODID:-//ÉrdKultúra - ECPv6.8.0//NONSGML v1.0//EN
CALSCALE:GREGORIAN
METHOD:PUBLISH
X-WR-CALNAME:ÉrdKultúra
X-ORIGINAL-URL:https://erdkultura.hu
X-WR-CALDESC:Events for ÉrdKultúra
REFRESH-INTERVAL;VALUE=DURATION:PT1H
X-Robots-Tag:noindex
X-PUBLISHED-TTL:PT1H
BEGIN:VTIMEZONE
TZID:UTC
BEGIN:STANDARD
TZOFFSETFROM:+0000
TZOFFSETTO:+0000
TZNAME:UTC
DTSTART:20260101T000000
END:STANDARD
END:VTIMEZONE
BEGIN:VEVENT
DTSTART;TZID=UTC:20260310T150000
DTEND;TZID=UTC:20260310T170000
DTSTAMP:20260421T032647
CREATED:20260220T100108Z
LAST-MODIFIED:20260226T085518Z
UID:7395-1773154800-1773162000@erdkultura.hu
SUMMARY:Orkesztika - mozdulatművészet
DESCRIPTION:A program az „Idősen\, aktívan\, Érden” programsorozat keretében kerül megrendezésre.\nA részvétel az érdi 65 év felettieknek ingyenes.\n\n\n  \nA szervezők a programváltozás jogát fenntartják.\nA programon résztvevők elfogadják a házirendet\, valamint elfogadják\, hogy a programon készült kép-\, hang- és videofelvételt a szervezők saját nyilvános felületeiken\, illetve egyéb médiafelületeken való megjelenés során felhasználhatnak.
URL:https://erdkultura.hu/event/orkesztika-mozdulatmuveszet/
LOCATION:SZEPES\, Alsó u. 9.\, Érd\, 2030\, Magyarország
CATEGORIES:előadás,Idősprogram,szepes,tanfolyam
ATTACH;FMTTYPE=image/png:https://erdkultura.hu/wp-content/uploads/2025/07/Web-kep-91.png
ORGANIZER;CN="Sz%C5%B1cs %C3%81gnes I SZEPES":MAILTO:szucs.agnes@erdkultura.hu
END:VEVENT
BEGIN:VEVENT
DTSTART;TZID=UTC:20260320T120000
DTEND;TZID=UTC:20260320T140000
DTSTAMP:20260421T032647
CREATED:20260227T165140Z
LAST-MODIFIED:20260227T165140Z
UID:7492-1774008000-1774015200@erdkultura.hu
SUMMARY:3 napos Gátizomtorna ÉRDEN
DESCRIPTION:Gátizomtorna tanfolyam\, megelőzésre\, megoldásokra ÉRDEN.\nInkontinencia\, süllyedések\, önbizalomhiány\, székrekedés\, aranyér\, stressz\, lelki problémák\, változókor\, a nőiség megélése\, párkapcsolat erősítése\, orgazmus fejlesztés…….\n3 napos tréning\, a gátizmok edzésének megtanulására\, a tanfolyam után egyénre szabott tornát kapnak a résztvevők\nItt a helyed\, ha szeretnéd\, hogy :\n– nőjön az önbizalmad\, a nőiséged\, a vitalitásod\, kisugárzásod\n– oldódjon a benned lévő stressz \, feszültség\n– önfeledten tudj nevetni\, tüsszenteni\, futni\, ugrálni…\n– az aranyeres panaszaid enyhüljenek\n– javuljon a bélműködésed\n– csökkenjen a menstruációs diszkomfort érzeted\n– erősödjön a hüvelyed\, mely megelőzheti a fertőzéseket és fokozódhat az orgazmus élménye is\nLétszám max. 4 fő!!!!Bejelentkezés szükséges!\nA tanfolyam után egyénre szabott tornát kapsz a problémádra\, megelőzésre.\nHelyszín:Érd-Parkvárosi közösségi ház\n3 napos tréning:Március 20-án 12 -14-igMárcius 25-én 12 -14-igMárcius 27-én 12 -14-ig\nEgyéni tréningekre is van lehetőség\, ennek időpontja\, helyszíne egyeztetés alapján történik.\nDíja: 24 000 Ft + az egyéni torna elkészítésének költsége\, MELY SEGÍTÍ A JAVULÁST\, MEGELŐZÉST.\nBEJELENTKEZÉS SZÜKSÉGES!\nREGISZTRÁLJ AZ ALÁBBI LINKEN:https://forms.gle/7d9Yun6yiaTR5eJE7\nVagy keress az alábbi elérhetőségeken:Tóth Évi 0620 9563 364evifitness.hu@gmail.comFacebook: @evifitnesswww.evifitness.hu
URL:https://erdkultura.hu/event/3-napos-gatizomtorna-erden-2/
LOCATION:PARKVÁROS\, Gépész u. 14.\, Érd\, 2030\, Magyarország
CATEGORIES:Parkváros,tanfolyam
ATTACH;FMTTYPE=image/jpeg:https://erdkultura.hu/wp-content/uploads/2026/02/642839591_1565895415542747_4519127137068873239_n.jpg
END:VEVENT
BEGIN:VEVENT
DTSTART;TZID=UTC:20260323T140000
DTEND;TZID=UTC:20260323T150000
DTSTAMP:20260421T032647
CREATED:20260220T100827Z
LAST-MODIFIED:20260220T100827Z
UID:7401-1774274400-1774278000@erdkultura.hu
SUMMARY:Érdi Idősek Akadémiája
DESCRIPTION:Érdi Idősek Akadémiája: Mesék boldog idősekről – Boldizsár Ildikó mesekutató\, meseterapeuta előadása \nA részvételhez előzetes regisztráció szükséges! \nA program az „Idősen\, aktívan\, Érden” programsorozat keretében kerül megrendezésre.\nA részvétel az érdi 65 év felettieknek ingyenes.\n\n\nA szervezők a programváltozás jogát fenntartják.\nA programon résztvevők elfogadják a házirendet\, valamint elfogadják\, hogy a programon készült kép-\, hang- és videofelvételt a szervezők saját nyilvános felületeiken\, illetve egyéb médiafelületeken való megjelenés során felhasználhatnak.
URL:https://erdkultura.hu/event/erdi-idosek-akademiaja-6/
LOCATION:SZEPES\, Alsó u. 9.\, Érd\, 2030\, Magyarország
CATEGORIES:előadás,Idősprogram,szepes,tanfolyam
ATTACH;FMTTYPE=image/png:https://erdkultura.hu/wp-content/uploads/2025/10/Web-kep-30-1.png
ORGANIZER;CN="Sz%C5%B1cs %C3%81gnes I SZEPES":MAILTO:szucs.agnes@erdkultura.hu
END:VEVENT
BEGIN:VEVENT
DTSTART;TZID=UTC:20260326T170000
DTEND;TZID=UTC:20260326T190000
DTSTAMP:20260421T032647
CREATED:20260220T100944Z
LAST-MODIFIED:20260220T100944Z
UID:7403-1774544400-1774551600@erdkultura.hu
SUMMARY:"Bölcsesség kora - a mi korunk" - őszinte beszélgetések az időskorról
DESCRIPTION:Aki nem hal meg\, az megöregszik\, tartja a mondás. Nekünk sikerült megöregednünk\, tegyük hát fel a kérdést: hogyan szeretnénk érezni magunkat\, és mit tehetünk magunkért\, a szerethető időskorért? Őszinte beszélgetések kis csoportban\, önmagunkat és egymást emelve\, inspirálva. \nA program az „Idősen\, aktívan\, Érden” programsorozat keretében kerül megrendezésre. A részvétel az érdi 65 év fölöttiek számára ingyenes!\n\n\nA szervezők a programváltozás jogát fenntartják.\nA programon résztvevők elfogadják a házirendet\, valamint elfogadják\, hogy a programon készült kép-\, hang- és videofelvételt a szervezők saját nyilvános felületeiken\, illetve egyéb médiafelületeken való megjelenés során felhasználhatnak.
URL:https://erdkultura.hu/event/bolcsesseg-kora-a-mi-korunk-oszinte-beszelgetesek-az-idoskorrol-5/
LOCATION:SZEPES\, Alsó u. 9.\, Érd\, 2030\, Magyarország
CATEGORIES:előadás,Idősprogram,szepes,tanfolyam
ATTACH;FMTTYPE=image/png:https://erdkultura.hu/wp-content/uploads/2025/02/bolcsesseg-kora_beszelgetes.png
ORGANIZER;CN="Sz%C5%B1cs %C3%81gnes I SZEPES":MAILTO:szucs.agnes@erdkultura.hu
END:VEVENT
BEGIN:VEVENT
DTSTART;TZID=UTC:20260407T160000
DTEND;TZID=UTC:20260407T173000
DTSTAMP:20260421T032647
CREATED:20260220T092954Z
LAST-MODIFIED:20260220T093540Z
UID:7376-1775577600-1775583000@erdkultura.hu
SUMMARY:Rajzszakkör gyerekeknek
DESCRIPTION:Rajzos-festő foglalkozás 7 – 12 éves gyerekeknek a Parkvárosi Közösségi Házban\, áprilisban is kedd délutánonként 16 órától 17\,30-ig. \nA fiatalok alkotói készségeinek fejlesztéséért\, kreatív gondolkodásuk támogatásáért! \n1\,5 órányi játékos\, kreatív kikapcsolódás a gyermekednek – több órányi pihenéssel felérő szabad\, csendes óra a földszinti könyvtárban Neked! \nA gyerekek játszva fedezhetik fel a rajz- és festőeszközökben rejlő lehetőségeket\, miközben jókedvvel\, önbizalommal töltekeznek. \nAz aktuális havi program részletei mindig a https://bohemkuckom.hu/kreativfoglalkozasok/festes-gyerekeknek oldalon olvashatóak. \n  \nJelentkezni a fenti honlapon “Foglalok” menüpontnál\, érdeklődni a 20/226-2853 telefonszámon lehet! \nVárom szeretettel a gyermekeket! \nSzegedy Tamara \n  \nA szervezők a programváltozás jogát fenntartják.\nA programon résztvevők elfogadják a házirendet\, valamint elfogadják\, hogy a programon készült kép-\, hang- és videofelvételt a szervezők saját nyilvános felületeiken\, illetve egyéb médiafelületeken való megjelenés során felhasználhatnak.
URL:https://erdkultura.hu/event/rajzszakkor-gyerekeknek-14/
LOCATION:PARKVÁROS\, Gépész u. 14.\, Érd\, 2030\, Magyarország
CATEGORIES:előadás,Parkváros,tanfolyam
ATTACH;FMTTYPE=image/jpeg:https://erdkultura.hu/wp-content/uploads/2026/02/Esemenykep_rajzszakkor_2026_aprilis.jpg
END:VEVENT
BEGIN:VEVENT
DTSTART;TZID=UTC:20260414T160000
DTEND;TZID=UTC:20260414T173000
DTSTAMP:20260421T032647
CREATED:20260220T093017Z
LAST-MODIFIED:20260220T093504Z
UID:7379-1776182400-1776187800@erdkultura.hu
SUMMARY:Rajzszakkör gyerekeknek
DESCRIPTION:Rajzos-festő foglalkozás 7 – 12 éves gyerekeknek a Parkvárosi Közösségi Házban\, áprilisban is kedd délutánonként 16 órától 17\,30-ig. \nA fiatalok alkotói készségeinek fejlesztéséért\, kreatív gondolkodásuk támogatásáért! \n1\,5 órányi játékos\, kreatív kikapcsolódás a gyermekednek – több órányi pihenéssel felérő szabad\, csendes óra a földszinti könyvtárban Neked! \nA gyerekek játszva fedezhetik fel a rajz- és festőeszközökben rejlő lehetőségeket\, miközben jókedvvel\, önbizalommal töltekeznek. \nAz aktuális havi program részletei mindig a https://bohemkuckom.hu/kreativfoglalkozasok/festes-gyerekeknek oldalon olvashatóak. \n  \nJelentkezni a fenti honlapon “Foglalok” menüpontnál\, érdeklődni a 20/226-2853 telefonszámon lehet! \nVárom szeretettel a gyermekeket! \nSzegedy Tamara \n  \nA szervezők a programváltozás jogát fenntartják.\nA programon résztvevők elfogadják a házirendet\, valamint elfogadják\, hogy a programon készült kép-\, hang- és videofelvételt a szervezők saját nyilvános felületeiken\, illetve egyéb médiafelületeken való megjelenés során felhasználhatnak.
URL:https://erdkultura.hu/event/rajzszakkor-gyerekeknek-15/
LOCATION:PARKVÁROS\, Gépész u. 14.\, Érd\, 2030\, Magyarország
CATEGORIES:előadás,Parkváros,tanfolyam
ATTACH;FMTTYPE=image/jpeg:https://erdkultura.hu/wp-content/uploads/2026/02/Esemenykep_rajzszakkor_2026_aprilis.jpg
END:VEVENT
BEGIN:VEVENT
DTSTART;TZID=UTC:20260418T130000
DTEND;TZID=UTC:20260418T160000
DTSTAMP:20260421T032647
CREATED:20260227T164920Z
LAST-MODIFIED:20260227T164920Z
UID:7490-1776517200-1776528000@erdkultura.hu
SUMMARY:Matek érettségi gyorstalpaló
DESCRIPTION:Megtanítalak matek érettségizni!Ebben a 3 órában\, úgy oldunk meg feladatokat\, hogy azokat a trükköket te bármikor tudd alkalmazni az érettségin is!Megtanuljuk– használni a számológépet és a négyjegyűket.– megnézzük\,milyen funkciók vannak a számológépen\, ami hasznos lehet a számodra– megnézzük\, hogyan kell hatékonyan használni a négyjegyűt– mit hol találsz a négyjegyűben\, és mit nem találsz meg benne\n\nÁra: 12.000 FtTanfolyam indulás: min. 7 fő eseténJelentkezésnek a tanfolyam díjának kifizetése számít.Helyszín: szervezés alatt (Érd központ vagy Érd parkváros)\nAz órát Tóth Eszter\, Matek edző tartja.\nTovábbi részletek
URL:https://erdkultura.hu/event/matek-erettsegi-gyorstalpalo-2/
LOCATION:PARKVÁROS\, Gépész u. 14.\, Érd\, 2030\, Magyarország
CATEGORIES:Parkváros,tanfolyam
ATTACH;FMTTYPE=image/jpeg:https://erdkultura.hu/wp-content/uploads/2026/02/619298512_1330209745793918_2799275925155118609_n.jpg
END:VEVENT
BEGIN:VEVENT
DTSTART;TZID=UTC:20260421T150000
DTEND;TZID=UTC:20260421T170000
DTSTAMP:20260421T032647
CREATED:20260318T150844Z
LAST-MODIFIED:20260318T150844Z
UID:7689-1776783600-1776790800@erdkultura.hu
SUMMARY:Orkesztika - mozdulatművészet
DESCRIPTION:Orkesztika – mozdulatművészet. Út a szabad tánchoz\nA program az „Idősen\, aktívan\, Érden” programsorozat keretében kerül megrendezésre.\nA részvétel az érdi 65 év felettieknek ingyenes.\n\n\n  \nA szervezők a programváltozás jogát fenntartják.\nA programon résztvevők elfogadják a házirendet\, valamint elfogadják\, hogy a programon készült kép-\, hang- és videofelvételt a szervezők saját nyilvános felületeiken\, illetve egyéb médiafelületeken való megjelenés során felhasználhatnak.
URL:https://erdkultura.hu/event/orkesztika-mozdulatmuveszet-2/
LOCATION:SZEPES\, Alsó u. 9.\, Érd\, 2030\, Magyarország
CATEGORIES:előadás,Idősprogram,szepes,tanfolyam
ATTACH;FMTTYPE=image/png:https://erdkultura.hu/wp-content/uploads/2025/07/Web-kep-91.png
ORGANIZER;CN="Sz%C5%B1cs %C3%81gnes I SZEPES":MAILTO:szucs.agnes@erdkultura.hu
END:VEVENT
BEGIN:VEVENT
DTSTART;TZID=UTC:20260421T160000
DTEND;TZID=UTC:20260421T173000
DTSTAMP:20260421T032647
CREATED:20260220T093036Z
LAST-MODIFIED:20260220T093241Z
UID:7381-1776787200-1776792600@erdkultura.hu
SUMMARY:Rajzszakkör gyerekeknek
DESCRIPTION:Rajzos-festő foglalkozás 7 – 12 éves gyerekeknek a Parkvárosi Közösségi Házban\, áprilisban is kedd délutánonként 16 órától 17\,30-ig. \nA fiatalok alkotói készségeinek fejlesztéséért\, kreatív gondolkodásuk támogatásáért! \n1\,5 órányi játékos\, kreatív kikapcsolódás a gyermekednek – több órányi pihenéssel felérő szabad\, csendes óra a földszinti könyvtárban Neked! \nA gyerekek játszva fedezhetik fel a rajz- és festőeszközökben rejlő lehetőségeket\, miközben jókedvvel\, önbizalommal töltekeznek. \nAz aktuális havi program részletei mindig a https://bohemkuckom.hu/kreativfoglalkozasok/festes-gyerekeknek oldalon olvashatóak. \n  \nJelentkezni a fenti honlapon “Foglalok” menüpontnál\, érdeklődni a 20/226-2853 telefonszámon lehet! \nVárom szeretettel a gyermekeket! \nSzegedy Tamara \n  \nA szervezők a programváltozás jogát fenntartják.\nA programon résztvevők elfogadják a házirendet\, valamint elfogadják\, hogy a programon készült kép-\, hang- és videofelvételt a szervezők saját nyilvános felületeiken\, illetve egyéb médiafelületeken való megjelenés során felhasználhatnak.
URL:https://erdkultura.hu/event/rajzszakkor-gyerekeknek-16/
LOCATION:PARKVÁROS\, Gépész u. 14.\, Érd\, 2030\, Magyarország
CATEGORIES:előadás,Parkváros,tanfolyam
ATTACH;FMTTYPE=image/jpeg:https://erdkultura.hu/wp-content/uploads/2026/02/Esemenykep_rajzszakkor_2026_aprilis.jpg
END:VEVENT
BEGIN:VEVENT
DTSTART;TZID=UTC:20260422T120000
DTEND;TZID=UTC:20260422T140000
DTSTAMP:20260421T032647
CREATED:20260410T141448Z
LAST-MODIFIED:20260410T141448Z
UID:7844-1776859200-1776866400@erdkultura.hu
SUMMARY:Gátizomtorna tanfolyam
DESCRIPTION:Szüntesd meg\, enyhítsd a kellemetlen intim tüneteket\, mint a vizeletcsepegés\, méh\, – hólyag\, – végbél süllyedések\, aranyér\, székrekedés\, szülés utáni\nregeneráció\, változókori tünetek. \nHárom alkalmas tanfolyam:\n2026. április 22.\, 24. és 29.\nBejelentkezés szükséges:\nTóth Éva: 06 20/956 3364;\nevifitness.hu@gmail.com \nA tanfolyam előtt részt vehetsz egy ONLINE előadáson.\nIdőpont: 2026. április 20. 19:00\nRészvételi díj: 1.990 Ft\nBejelentkezés szükséges:\nTóth Éva: 06 20/956 3364;\nevifitness.hu@gmail.com \nA szervezők a programváltozás jogát fenntartják.\nA programon résztvevők elfogadják a házirendet\, valamint elfogadják\, hogy a programon készült kép-\, hang- és videofelvételt a szervezők saját nyilvános felületeiken\, illetve egyéb médiafelületeken való megjelenés során felhasználhatnak.
URL:https://erdkultura.hu/event/gatizomtorna-tanfolyam-4/
LOCATION:PARKVÁROS\, Gépész u. 14.\, Érd\, 2030\, Magyarország
CATEGORIES:Parkváros,tanfolyam
ATTACH;FMTTYPE=image/jpeg:https://erdkultura.hu/wp-content/uploads/2026/04/gatizomtorna-tanfolyam.jpg
END:VEVENT
BEGIN:VEVENT
DTSTART;TZID=UTC:20260423T170000
DTEND;TZID=UTC:20260423T190000
DTSTAMP:20260421T032647
CREATED:20260318T152153Z
LAST-MODIFIED:20260318T152153Z
UID:7693-1776963600-1776970800@erdkultura.hu
SUMMARY:"Bölcsesség kora - a mi korunk" - őszinte beszélgetések az időskorról
DESCRIPTION:Aki nem hal meg\, az megöregszik\, tartja a mondás. Nekünk sikerült megöregednünk\, tegyük hát fel a kérdést: hogyan szeretnénk érezni magunkat\, és mit tehetünk magunkért\, a szerethető időskorért? Őszinte beszélgetések kis csoportban\, önmagunkat és egymást emelve\, inspirálva. \nA program az „Idősen\, aktívan\, Érden” programsorozat keretében kerül megrendezésre. A részvétel az érdi 65 év fölöttiek számára ingyenes!\n\n\nA szervezők a programváltozás jogát fenntartják.\nA programon résztvevők elfogadják a házirendet\, valamint elfogadják\, hogy a programon készült kép-\, hang- és videofelvételt a szervezők saját nyilvános felületeiken\, illetve egyéb médiafelületeken való megjelenés során felhasználhatnak.
URL:https://erdkultura.hu/event/bolcsesseg-kora-a-mi-korunk-oszinte-beszelgetesek-az-idoskorrol-6/
LOCATION:SZEPES\, Alsó u. 9.\, Érd\, 2030\, Magyarország
CATEGORIES:előadás,Idősprogram,szepes,tanfolyam
ATTACH;FMTTYPE=image/png:https://erdkultura.hu/wp-content/uploads/2025/02/bolcsesseg-kora_beszelgetes.png
ORGANIZER;CN="Sz%C5%B1cs %C3%81gnes I SZEPES":MAILTO:szucs.agnes@erdkultura.hu
END:VEVENT
BEGIN:VEVENT
DTSTART;TZID=UTC:20260424T160000
DTEND;TZID=UTC:20260424T190000
DTSTAMP:20260421T032647
CREATED:20260227T164709Z
LAST-MODIFIED:20260227T164750Z
UID:7487-1777046400-1777057200@erdkultura.hu
SUMMARY:Matek érettségi gyorstalpaló
DESCRIPTION:Megtanítalak matek érettségizni!Ebben a 3 órában\, úgy oldunk meg feladatokat\, hogy azokat a trükköket te bármikor tudd alkalmazni az érettségin is!Megtanuljuk– használni a számológépet és a négyjegyűket.– megnézzük\,milyen funkciók vannak a számológépen\, ami hasznos lehet a számodra– megnézzük\, hogyan kell hatékonyan használni a négyjegyűt– mit hol találsz a négyjegyűben\, és mit nem találsz meg benne\n\nÁra: 12.000 FtTanfolyam indulás: min. 7 fő eseténJelentkezésnek a tanfolyam díjának kifizetése számít.Helyszín: szervezés alatt (Érd központ vagy Érd parkváros)\nAz órát Tóth Eszter\, Matek edző tartja.\nTovábbi részletek
URL:https://erdkultura.hu/event/matek-erettsegi-gyorstalpalo/
LOCATION:PARKVÁROS\, Gépész u. 14.\, Érd\, 2030\, Magyarország
CATEGORIES:Parkváros,tanfolyam
ATTACH;FMTTYPE=image/jpeg:https://erdkultura.hu/wp-content/uploads/2026/02/619298512_1330209745793918_2799275925155118609_n.jpg
END:VEVENT
BEGIN:VEVENT
DTSTART;TZID=UTC:20260428T160000
DTEND;TZID=UTC:20260428T173000
DTSTAMP:20260421T032647
CREATED:20260220T093107Z
LAST-MODIFIED:20260220T093300Z
UID:7383-1777392000-1777397400@erdkultura.hu
SUMMARY:Rajzszakkör gyerekeknek
DESCRIPTION:Rajzos-festő foglalkozás 7 – 12 éves gyerekeknek a Parkvárosi Közösségi Házban\, áprilisban is kedd délutánonként 16 órától 17\,30-ig. \nA fiatalok alkotói készségeinek fejlesztéséért\, kreatív gondolkodásuk támogatásáért! \n1\,5 órányi játékos\, kreatív kikapcsolódás a gyermekednek – több órányi pihenéssel felérő szabad\, csendes óra a földszinti könyvtárban Neked! \nA gyerekek játszva fedezhetik fel a rajz- és festőeszközökben rejlő lehetőségeket\, miközben jókedvvel\, önbizalommal töltekeznek. \nAz aktuális havi program részletei mindig a https://bohemkuckom.hu/kreativfoglalkozasok/festes-gyerekeknek oldalon olvashatóak. \n  \nJelentkezni a fenti honlapon “Foglalok” menüpontnál\, érdeklődni a 20/226-2853 telefonszámon lehet! \nVárom szeretettel a gyermekeket! \nSzegedy Tamara \n  \nA szervezők a programváltozás jogát fenntartják.\nA programon résztvevők elfogadják a házirendet\, valamint elfogadják\, hogy a programon készült kép-\, hang- és videofelvételt a szervezők saját nyilvános felületeiken\, illetve egyéb médiafelületeken való megjelenés során felhasználhatnak.
URL:https://erdkultura.hu/event/rajzszakkor-gyerekeknek-17/
LOCATION:PARKVÁROS\, Gépész u. 14.\, Érd\, 2030\, Magyarország
CATEGORIES:előadás,Parkváros,tanfolyam
ATTACH;FMTTYPE=image/jpeg:https://erdkultura.hu/wp-content/uploads/2026/02/Esemenykep_rajzszakkor_2026_aprilis.jpg
END:VEVENT
END:VCALENDAR