BEGIN:VCALENDAR
VERSION:2.0
PRODID:-//ÉrdKultúra - ECPv6.8.0//NONSGML v1.0//EN
CALSCALE:GREGORIAN
METHOD:PUBLISH
X-ORIGINAL-URL:https://erdkultura.hu
X-WR-CALDESC:Events for ÉrdKultúra
REFRESH-INTERVAL;VALUE=DURATION:PT1H
X-Robots-Tag:noindex
X-PUBLISHED-TTL:PT1H
BEGIN:VTIMEZONE
TZID:UTC
BEGIN:STANDARD
TZOFFSETFROM:+0000
TZOFFSETTO:+0000
TZNAME:UTC
DTSTART:20240101T000000
END:STANDARD
END:VTIMEZONE
BEGIN:VEVENT
DTSTART;TZID=UTC:20240309T110000
DTEND;TZID=UTC:20240309T170000
DTSTAMP:20260421T095034
CREATED:20240306T170739Z
LAST-MODIFIED:20240306T170739Z
UID:1321-1709982000-1710003600@erdkultura.hu
SUMMARY:Téli Tárlat Finisszázs
DESCRIPTION:Téli Tárlat 2024 finisszázs\n11 órától – Szőke Gáspár festőművész szakmai tárlatvezetése a Téli Tárlaton\n15-17 óráig – Vidd haza a tárlat színeit! – Póló és szatyorfestő workshop a Papírformával (Varga Gábor Farkas grafikussal és Simon Ágnessel)\nMegkíséreljük a tárlat színeit vászontáskákra festeni\, hogy ebben a formában vihessék magukkal emlékbe látogatóink. Vászonszatyrot biztosítunk\, de ha kedvük tartja\, hozzanak magukkal pamut pólót (egyszínű\, minta nélkül) vagy amit szívesen díszítenének.\nRemek alkalom közös családi kézműveskedésre!\nA programok ingyenesek\, de regisztrációhoz kötöttek. Kérjük\, hogy előzetes regisztrációját feltétlenül adja le a erdigaleria@gmail.com e-mail-címre. Információ kérhető telefonon is\, az Érdi Galéria telefonszámán: +36 23 360 143\nA Szervezők a programváltozás jogát fenntartják.
URL:https://erdkultura.hu/event/teli-tarlat-finisszazs/
LOCATION:GALÉRIA\, Alsó utca 2.\, Érd\, 2030\, Magyarország
CATEGORIES:kiállítás,tanfolyam
ATTACH;FMTTYPE=image/jpeg:https://erdkultura.hu/wp-content/uploads/2024/03/Finisszzs_Tli_Trlat_2024mrcius_9szombat.jpg
END:VEVENT
BEGIN:VEVENT
DTSTART;TZID=UTC:20240309T090000
DTEND;TZID=UTC:20240309T133000
DTSTAMP:20260421T095034
CREATED:20240306T150202Z
LAST-MODIFIED:20240306T165736Z
UID:1300-1709974800-1709991000@erdkultura.hu
SUMMARY:Festőklub felnőtteknek
DESCRIPTION:A 4 órás foglalkozás ára 9.000\,- Ft/fő.\nA helyszínen készpénzben\, illetve utólag átutalással is lehet rendezni a díjat.\nMi vár Rád a festőklubon?\n– 1 konkrét (mindig más) akrilfestési technika bemutatása és gyakorlása\n– rajzolási technikád fejlődése\n– gyönyörű színek kikeverése\n– saját festményed megalkotása az alapozástól az utolsó ecsetvonásokig\n– egyedi figyelem és segítség\n– kellemes\, családias hangulat\n– 4 órányi teljes kikapcsolódás\, feltöltődés\n– sikerélmény\, mely egy általad vászonra festett alkotás képében kacsint vissza\nA részvételhez kérlek mindenképp jelentkezz előre a (20)226-2853 telefonszámon\, vagy a honlapon.
URL:https://erdkultura.hu/event/festoklub-felnotteknek/
LOCATION:PARKVÁROS\, Gépész u. 14.\, Érd\, 2030\, Magyarország
CATEGORIES:tanfolyam
ATTACH;FMTTYPE=image/jpeg:https://erdkultura.hu/wp-content/uploads/2024/03/417459915_1153074689300028_1415882118346778384_n.jpg
END:VEVENT
BEGIN:VEVENT
DTSTART;TZID=UTC:20240228T100000
DTEND;TZID=UTC:20240228T120000
DTSTAMP:20260421T095034
CREATED:20240130T101357Z
LAST-MODIFIED:20240201T070237Z
UID:392-1709114400-1709121600@erdkultura.hu
SUMMARY:3 napos gátizomtorna tanfolyam
DESCRIPTION:BEJELENTKEZÉS: \n3 napos tréning:\n2024. február 14-én 10 -12-ig\n2024. február 21-én 10 -12-ig\n2024. február 28-án 10 -12-ig \nMax létszám 4 fő\nBejelentkezés szükséges!\nA tanfolyam után egyénre szabott tornát kapsz a problémádra\, megelőzésre. \nA csoportos tanfolyam díja :\n35 000 Ft\, mely tartalmazza az egyéni tornát. \nTóth Évi 0620 9563 364\, \nevifitness.hu@gmail.com\nwww.evifitness.hu
URL:https://erdkultura.hu/event/3-napos-gatizomtorna-tanfolyam-2/
LOCATION:PARKVÁROS\, Gépész u. 14.\, Érd\, 2030\, Magyarország
CATEGORIES:tanfolyam
ATTACH;FMTTYPE=image/jpeg:https://erdkultura.hu/wp-content/uploads/2024/02/ERD_KULT_tanfolyamok.jpg
ORGANIZER;CN="T%C3%B3th %C3%89vi":MAILTO:evifitness.hu@gmail.com
END:VEVENT
BEGIN:VEVENT
DTSTART;TZID=UTC:20240221T100000
DTEND;TZID=UTC:20240221T120000
DTSTAMP:20260421T095034
CREATED:20240130T101135Z
LAST-MODIFIED:20240201T070603Z
UID:388-1708509600-1708516800@erdkultura.hu
SUMMARY:3 napos gátizomtorna tanfolyam
DESCRIPTION:BEJELENTKEZÉS: \n3 napos tréning:\n2024. február 14-én 10 -12-ig\n2024. február 21-én 10 -12-ig\n2024. február 28-án 10 -12-ig \nMax létszám 4 fő\nBejelentkezés szükséges!\nA tanfolyam után egyénre szabott tornát kapsz a problémádra\, megelőzésre. \nA csoportos tanfolyam díja :\n35 000 Ft\, mely tartalmazza az egyéni tornát. \nTóth Évi 0620 9563 364\, \nevifitness.hu@gmail.com\nwww.evifitness.hu
URL:https://erdkultura.hu/event/3-napos-gatizomtorna-tanfolyam/
LOCATION:PARKVÁROS\, Gépész u. 14.\, Érd\, 2030\, Magyarország
CATEGORIES:tanfolyam
ATTACH;FMTTYPE=image/jpeg:https://erdkultura.hu/wp-content/uploads/2024/02/ERD_KULT_tanfolyamok.jpg
ORGANIZER;CN="T%C3%B3th %C3%89vi":MAILTO:evifitness.hu@gmail.com
END:VEVENT
BEGIN:VEVENT
DTSTART;TZID=UTC:20240214T100000
DTEND;TZID=UTC:20240214T120000
DTSTAMP:20260421T095034
CREATED:20240130T110335Z
LAST-MODIFIED:20240201T070512Z
UID:393-1707904800-1707912000@erdkultura.hu
SUMMARY:3 napos gátizomtorna tanfolyam
DESCRIPTION:BEJELENTKEZÉS: \n3 napos tréning:\n2024. február 14-én 10 -12-ig\n2024. február 21-én 10 -12-ig\n2024. február 28-án 10 -12-ig \nMax létszám 4 fő\nBejelentkezés szükséges!\nA tanfolyam után egyénre szabott tornát kapsz a problémádra\, megelőzésre. \nA csoportos tanfolyam díja :\n35 000 Ft\, mely tartalmazza az egyéni tornát. \nTóth Évi 0620 9563 364\, \nevifitness.hu@gmail.com\nwww.evifitness.hu
URL:https://erdkultura.hu/event/3-napos-gatizomtorna-tanfolyam-3/
LOCATION:PARKVÁROS\, Gépész u. 14.\, Érd\, 2030\, Magyarország
CATEGORIES:tanfolyam
ATTACH;FMTTYPE=image/jpeg:https://erdkultura.hu/wp-content/uploads/2024/02/ERD_KULT_tanfolyamok.jpg
ORGANIZER;CN="T%C3%B3th %C3%89vi":MAILTO:evifitness.hu@gmail.com
END:VEVENT
END:VCALENDAR