BEGIN:VCALENDAR
VERSION:2.0
PRODID:-//ÉrdKultúra - ECPv6.8.0//NONSGML v1.0//EN
CALSCALE:GREGORIAN
METHOD:PUBLISH
X-WR-CALNAME:ÉrdKultúra
X-ORIGINAL-URL:https://erdkultura.hu
X-WR-CALDESC:Events for ÉrdKultúra
REFRESH-INTERVAL;VALUE=DURATION:PT1H
X-Robots-Tag:noindex
X-PUBLISHED-TTL:PT1H
BEGIN:VTIMEZONE
TZID:UTC
BEGIN:STANDARD
TZOFFSETFROM:+0000
TZOFFSETTO:+0000
TZNAME:UTC
DTSTART:20260101T000000
END:STANDARD
END:VTIMEZONE
BEGIN:VEVENT
DTSTART;TZID=UTC:20260422T120000
DTEND;TZID=UTC:20260422T140000
DTSTAMP:20260420T060129
CREATED:20260410T141448Z
LAST-MODIFIED:20260410T141448Z
UID:7844-1776859200-1776866400@erdkultura.hu
SUMMARY:Gátizomtorna tanfolyam
DESCRIPTION:Szüntesd meg\, enyhítsd a kellemetlen intim tüneteket\, mint a vizeletcsepegés\, méh\, – hólyag\, – végbél süllyedések\, aranyér\, székrekedés\, szülés utáni\nregeneráció\, változókori tünetek. \nHárom alkalmas tanfolyam:\n2026. április 22.\, 24. és 29.\nBejelentkezés szükséges:\nTóth Éva: 06 20/956 3364;\nevifitness.hu@gmail.com \nA tanfolyam előtt részt vehetsz egy ONLINE előadáson.\nIdőpont: 2026. április 20. 19:00\nRészvételi díj: 1.990 Ft\nBejelentkezés szükséges:\nTóth Éva: 06 20/956 3364;\nevifitness.hu@gmail.com \nA szervezők a programváltozás jogát fenntartják.\nA programon résztvevők elfogadják a házirendet\, valamint elfogadják\, hogy a programon készült kép-\, hang- és videofelvételt a szervezők saját nyilvános felületeiken\, illetve egyéb médiafelületeken való megjelenés során felhasználhatnak.
URL:https://erdkultura.hu/event/gatizomtorna-tanfolyam-4/
LOCATION:PARKVÁROS\, Gépész u. 14.\, Érd\, 2030\, Magyarország
CATEGORIES:Parkváros,tanfolyam
ATTACH;FMTTYPE=image/jpeg:https://erdkultura.hu/wp-content/uploads/2026/04/gatizomtorna-tanfolyam.jpg
END:VEVENT
END:VCALENDAR