BEGIN:VCALENDAR
VERSION:2.0
PRODID:-//ÉrdKultúra - ECPv6.8.0//NONSGML v1.0//EN
CALSCALE:GREGORIAN
METHOD:PUBLISH
X-WR-CALNAME:ÉrdKultúra
X-ORIGINAL-URL:https://erdkultura.hu
X-WR-CALDESC:Events for ÉrdKultúra
REFRESH-INTERVAL;VALUE=DURATION:PT1H
X-Robots-Tag:noindex
X-PUBLISHED-TTL:PT1H
BEGIN:VTIMEZONE
TZID:UTC
BEGIN:STANDARD
TZOFFSETFROM:+0000
TZOFFSETTO:+0000
TZNAME:UTC
DTSTART:20260101T000000
END:STANDARD
END:VTIMEZONE
BEGIN:VEVENT
DTSTART;TZID=UTC:20260308T090000
DTEND;TZID=UTC:20260308T160000
DTSTAMP:20260420T072053
CREATED:20260120T153509Z
LAST-MODIFIED:20260302T144302Z
UID:7024-1772960400-1772985600@erdkultura.hu
SUMMARY:Grafit rajztanfolyam - Menő Manó Rajz Stúdió
DESCRIPTION:Fedezd fel a rajzolás rejtett erejét!\nA jobb agyféltekés rajzolás nem csupán egy kreatív technika – egy belső utazás\, amely felszabadítja a benned rejlő lehetőségeket. Erőlködés nélkül fejleszted magad\, miközben egy teljesen új látásmód tárul eléd.\n„Olyan volt\, mintha kikapcsolt volna a világ körülöttem. Elfelejtettem minden gondom\, és csak a rajzolásra koncentráltam.” – Egy korábbi résztvevő visszajelzése \n1 napos intenzív élmény\, amely örökre megváltoztatja a látásmódod és semmilyen előképzettséget nem igényel.\nA tanfolyam középpontjában a valós látás áll. A grafit különböző formáival dolgozunk\, hogy biztos alapokat adjunk\, vagy épp megerősítsük meglévő tudásod. A grafit rajztanfolyam ára tartalmazza a rajzoláshoz szükséges összes eszközt\, és a nap végén mindenki hazaviheti a ceruza csomagot\, hogy otthon se álljon meg az alkotás. \nMár több száz gyerek és felnőtt megtapasztalta ezt az élményt – most rajtad a sor!\nMár jártál nálunk?\nSokan megtiszteltek minket\, hogy többször is eljöttök közösen együtt rajzolni. Ezért számotokra bevezetünk választható modulokat az egy napos élményrajzoláson.\nAmikor már kényelmesen tudsz A4-es méretben rajzolni\, akkor itt az ideje\, hogy kipróbáld magad a nagyításban. Egy kisebb képről nagyítod fel a rajzot A3-as méretre\, és utána bármilyen méretben tudsz alkotni. Bele lehet menni a részletekbe\, például a szem rajzolás rejtelmeibe\, hozott képről rajzolni\, vagy egyszerűen gyakorolni\, közösségben alkotni. \n\n\n\nJelentkezni 10 éves kortól\, ameddig a szem ellát lehetséges.\n\n\n\n\n\n\n\n\n\n\n\n\n\n \nInstruktor: Konkoly Gabriella \nÁtadom kicsiknek és nagyoknak azt a látásmód technikát\, ami mindenkiben ott bujkál. \nJelentkezés: https://menomanorajzstudio.hu/grafit-rajztanfolyam-jelentkezes-erd-2026-03-08/\nIdőpont: 2026.03.08.09:00–16:00 \nA szervezők a programváltozás jogát fenntartják.\nA programon résztvevők elfogadják a házirendet\, valamint elfogadják\, hogy a programon készült kép-\, hang- és videofelvételt a szervezők saját nyilvános felületeiken\, illetve egyéb médiafelületeken való megjelenés során felhasználhatnak.
URL:https://erdkultura.hu/event/grafit-rajztanfolyam-meno-mano-rajz-studio/
LOCATION:SZEPES\, Alsó u. 9.\, Érd\, 2030\, Magyarország
CATEGORIES:szepes,tanfolyam
ATTACH;FMTTYPE=image/jpeg:https://erdkultura.hu/wp-content/uploads/2026/01/MMRS_ref_rajz_001.jpg
END:VEVENT
END:VCALENDAR