BEGIN:VCALENDAR
VERSION:2.0
PRODID:-//ÉrdKultúra - ECPv6.8.0//NONSGML v1.0//EN
CALSCALE:GREGORIAN
METHOD:PUBLISH
X-WR-CALNAME:ÉrdKultúra
X-ORIGINAL-URL:https://erdkultura.hu
X-WR-CALDESC:Events for ÉrdKultúra
REFRESH-INTERVAL;VALUE=DURATION:PT1H
X-Robots-Tag:noindex
X-PUBLISHED-TTL:PT1H
BEGIN:VTIMEZONE
TZID:UTC
BEGIN:STANDARD
TZOFFSETFROM:+0000
TZOFFSETTO:+0000
TZNAME:UTC
DTSTART:20250101T000000
END:STANDARD
END:VTIMEZONE
BEGIN:VEVENT
DTSTART;TZID=UTC:20251111T160000
DTEND;TZID=UTC:20260110T173000
DTSTAMP:20260420T114006
CREATED:20250901T082855Z
LAST-MODIFIED:20251103T142836Z
UID:5426-1762876800-1768066200@erdkultura.hu
SUMMARY:Rajzszakkör gyerekeknek
DESCRIPTION:Rajzos-festő foglalkozás 7 – 12 éves gyerekeknek a Parkvárosi Közösségi Házban\, november 11-től kedd délutánonként\, 16 órától 17:30-ig. \nA fiatalok alkotói készségeinek fejlesztéséért\, kreatív gondolkodásuk támogatásáért! \nAz aktuális havi program részletei mindig a https://bohemkuckom.hu/kreativfoglalkozasok/festes-gyerekeknek oldalon olvashatóak. \n  \nJelentkezni a fenti honlapon “Foglalok” menüpontnál\, érdeklődni a 20/226-2853 telefonszámon lehet! \n  \nA szervezők a programváltozás jogát fenntartják.\nA programon résztvevők elfogadják a házirendet\, valamint elfogadják\, hogy a programon készült kép-\, hang- és videofelvételt a szervezők saját nyilvános felületeiken\, illetve egyéb médiafelületeken való megjelenés során felhasználhatnak.
URL:https://erdkultura.hu/event/rajzszakkor-gyerekeknek/
LOCATION:PARKVÁROS\, Gépész u. 14.\, Érd\, 2030\, Magyarország
CATEGORIES:előadás,Parkváros,tanfolyam
ATTACH;FMTTYPE=image/jpeg:https://erdkultura.hu/wp-content/uploads/2025/10/Esemenykep_gyerek_rajzszakkor_november-1.jpg
END:VEVENT
BEGIN:VEVENT
DTSTART;TZID=UTC:20251129T080000
DTEND;TZID=UTC:20251221T170000
DTSTAMP:20260420T114006
CREATED:20251019T093819Z
LAST-MODIFIED:20251204T205911Z
UID:6031-1764403200-1766336400@erdkultura.hu
SUMMARY:Advent Érd 2025
DESCRIPTION:Ahogy az adventi fények kigyúlnak a városban\, kezdetét veszi a várakozás legszebb időszaka. A Szepes Gyula Művelődési Központ és Városi Könyvtár adventi programsorozatának keretében több helyszínen várunk benneteket\, egész decemberben! Ünnepeljünk idén is együtt! \nProgramnaptár: \n\nProgramok: november 29−30.\nProgramok: december 1−7.\nProgramok: december 8−14.\nProgramok: december 15−21.\n\n  \nÁllandó programok decemberben\n\nTematikus könyvkiemelés: ünnepi színekben\nHelyszín: Csuka Zoltán Városi Könyvtár – Felnőttkönyvtár | 2030 Érd\, Hivatalnok u. 12.\nINGYENES \n\n\nVersek az ablakban: RÍMEK – KÉPEK – KARÁCSONY\nAdvent első vasárnapjától a Felnőttkönyvtár ablakaiban látogatóink kedvenc versei és gyermekrajzok kapnak helyet\nHelyszín: Csuka Zoltán Városi Könyvtár – Felnőttkönyvtár | 2030 Érd\, Hivatalnok u. 12.\nINGYENES\n\n  \nProgramok: november 29−30.\nNovember 29.\, szombat  \n15:00 Családi karácsonyi kézműves foglalkozás  \nSkandináv papírszív-hajtogatás\nA foglalkozást tartja: Harrach Ágnes  \nHelyszín: Parkvárosi Közösségi Ház | 2030 Érd\, Gépész u. 14.  \nINGYENES\nA részvétel előzetes jelentkezéshez kötött: takacs.gabriella@erdkultura.hu  \n  \nNovember 30.\, vasárnap  \n14:00 Karácsonyi rövid filmvetítés \nHelyszín: Érdi Galéria | 2030 Érd\, Alsó u. 2.\n \nINGYENES  \n  \n14:30−16:00 Adventi kézműves foglalkozás gyerekeknek  \nHelyszín: Érdi Galéria | 2030 Érd\, Alsó u. 2.\n \nINGYENES  \n  \n16:00 Jegesmaci barátai \nZenés bábjáték az Ametist Bábszínház előadásában.  \nHelyszín: Parkvárosi Közösségi Ház | 2030 Érd\, Gépész u. 14.  \nJegyár: 3.500 Ft \n  \n16:30 I. városi gyertyagyújtás  \nKözreműködik az Érdi Kőrösi Csoma Sándor Általános Iskola kórusa.  \nHelyszín: Érd\, Főtér  \n  \nProgramok: december 1−7.\nDecember 1−4. \nKarácsonyváró kézműves foglalkozások a Gyermekkönyvtárban \nHelyszín: Csuka Zoltán Városi Könyvtár – Gyermekkönyvtár | 2030 Érd\, Hivatalnok u. 12.\n \nINGYENES\nA részvétel előzetes jelentkezéshez kötött: gyk@csukalib.hu vagy 06 23/740-268. \n  \nDecember 4.\, csütörtök  \n13:00–18:00 Karácsonyi könyvturi a Könyvkeréknél \nVálogasson ingyen a több mint 60.000 kötet között\, és találjon barátainak\, családtagjainak karácsonyra ajándékot!  \nHelyszín: Könyvkerék | 2030 Érd\, Jázmin u. 8.  \nA program az „Idősen\, aktívan\, Érden” programsorozat keretében kerül megrendezésre. A részvétel az érdi 65 év felettieknek ingyenes.  \n  \nDecember 5.\, péntek  \n16:00 Mikulás koncert Szigeti Eszterrel  \nHelyszín: Parkvárosi Közösségi Ház | 2030 Érd\, Gépész u. 14.  \nINGYENES\nRegisztrációs jegy igénylése szükséges\, a jegyek átvehetők a Parkvárosi Közösségi Ház információs pultjánál.  \n  \n17:00 Fotózás a Mikulással  \nHelyszín: Parkvárosi Közösségi Ház | 2030 Érd\, Gépész u. 14.  \nINGYENES\nA részvétel előzetes jelentkezéshez kötött: keszei.virag@erdkultura.hu  \n  \nDecember 6.\, szombat  \n10:00 Alma Zenekar – Mikulás-napi családi koncert  \nHelyszín: Szepes Gyula Művelődési Központ | 2030 Érd\, Alsó u. 9.  \nJegyár: 3.990 Ft−4.990 Ft  \n  \n11:00 Fotózás a Mikulással \nHelyszín: Szepes Gyula Művelődési Központ | 2030 Érd\, Alsó u. 9.  \nINGYENES            \n  \nDecember 7.\, vasárnap  \n11:30–13:00 ÉTC Táncszakosztály évzáró\, ünnepi gálaműsora  \nHelyszín: Szepes Gyula Művelődési Központ | 2030 Érd\, Alsó u. 9.  \nJegyár: 4.500 Ft \n  \n14:00 Karácsonyi rövid filmvetítés  \nHelyszín: Érdi Galéria | 2030 Érd\, Alsó u. 2.  \nINGYENES  \n  \n14:30−16:00 Adventi kézműves foglalkozás gyerekeknek  \nHelyszín: Érdi Galéria | 2030 Érd\, Alsó u. 2.  \nINGYENES  \n  \n15:00 Karácsonyi műsor az Érdi Bukovinai Székely Népdalkör Egyesület előadásában \nKarácsonyi népénekek\, Hadikfalvi betlehemes  \nHelyszín: Szepes Gyula Művelődési Központ | 2030 Érd\, Alsó u. 9.  \nINGYENES  \n  \n15:30 Gitáriskola Érd − Kiss gitáriskola karácsonyi koncertje  \nHelyszín: Parkvárosi Közösségi Ház | 2030 Érd\, Gépész u. 14.  \nJegyek elővételben a Kiss gitáriskolában igényelhetők! \n  \n16:30 II. városi gyertyagyújtás  \nKözreműködik az Érdi Bukovinai Székely Népdalkör Egyesület.  \nHelyszín: Érd\, Főtér  \n  \nProgramok: december 8−14.\nDecember 8.\, hétfő  \nKarácsonyi mesés délután − diafilmvetítés és kézműves foglalkozás  \nHelyszín: Parkvárosi Fiókkönyvtár | 2030 Érd\, Gépész u. 14.  \nINGYENES  \n  \nDecember 10.\, szerda  \n10:00 Decemberi csillagok a Portéka Színpad előadásában  \nHelyszín: Csuka Zoltán Városi Könyvtár – Gyermekkönyvtár | 2030 Érd\, Hivatalnok u. 12.  \nINGYENES\nA részvétel előzetes jelentkezéshez kötött: gyk@csukalib.hu vagy 06 23/740-268 \n  \n17:00 Karácsonyra hangolódás Gergely Róberttel  \nHelyszín: Csuka Zoltán Városi Könyvtár – Felnőttkönyvtár | 2030 Érd\, Hivatalnok u. 12.  \nINGYENES  \n  \nDecember 12.\, péntek  \n10:00  Karácsonyi kézműves foglalkozás az Érdi Galériában \nHelyszín: Érdi Galéria | 2030 Érd\, Alsó u. 2.  \nA program az „Idősen\, aktívan\, Érden” programsorozat keretében kerül megrendezésre. A részvétel az érdi 65 év felettieknek ingyenes\, de előzetes regisztráció szükséges a szucs.agnes@erdkultura.hu e-mail címen.  \n  \nDecember 13.\, szombat  \n18:00 A Csodapadlás  – a JP Dance Company karácsonyi előadása  \nHelyszín: Szepes Gyula Művelődési Központ | 2030 Érd\, Alsó u. 9.  \nJegyár: 4.500 Ft \n  \nDecember 14.\, vasárnap  \n14:00 Karácsonyi rövid filmvetítés  \nHelyszín: Érdi Galéria | 2030 Érd\, Alsó u. 2.  \nINGYENES  \n  \n14:30−16:00 Adventi kézműves foglalkozás gyerekeknek  \nHelyszín: Érdi Galéria | 2030 Érd\, Alsó u. 2.  \nINGYENES  \n  \n16:30 III. városi gyertyagyújtás  \nKözreműködik a Rosenbrücke-Hanselbeck Sváb Hagyományőrző Egyesület.  \nHelyszín: Érd\, Főtér  \n  \nProgramok: december 15−21.\n  \nDecember 17. és 18.  \n13:30 Idősek Karácsonya 2025: Örökzöld operett – a Molnár György Trió és Szolnoki Tibor-Zsadon Andrea műsora  \nHelyszín: Szepes Gyula Művelődési Központ | 2030 Érd\, Alsó u. 9.  \nA program az „Idősen\, aktívan\, Érden” programsorozat keretében kerül megrendezésre. A részvétel az érdi 65 év felettieknek ingyenes\, de regisztrációs jegy váltása szükséges. A regisztrációs jegyek november 18-től elérhetőek a Szepes Gyula Művelődési Központ és a Parkvárosi Közösségi Ház információs pultjaiban.  \n  \nDecember 19.\, péntek \n19:00 Retró koncert Érden \nAlma Latina Együttes \nSztárvendégek:  Magyar Csaba\, Express együttes\, és mások \nHelyszín: Szepes Gyula Művelődési Központ | 2030 Érd\, Alsó u. 9. \nJegyár: 3.000 Ft \n  \nDecember 20.\, szombat  \n17:00 A Rosenbrücke-Hanselbeck Sváb Hagyományőrző Egyesület énekkarának karácsonyi koncertje  \nHelyszín: Parkvárosi Közösségi Ház | 2030 Érd\, Gépész u. 14.  \nINGYENES  \n  \n19:00 Kovács Kati ünnepi koncertje  \nHelyszín: Szepes Gyula Művelődési Központ | 2030 Érd\, Alsó u. 9.  \nJegyár: 9.990 Ft−10.990 Ft  \n  \nDecember 21.\, vasárnap  \n14:00 Karácsonyi rövid filmvetítés  \nHelyszín: Érdi Galéria | 2030 Érd\, Alsó u. 2.  \nINGYENES  \n  \n14:30−16:00 Adventi kézműves foglalkozás gyerekeknek  \nHelyszín: Érdi Galéria | 2030 Érd\, Alsó u. 2.  \nINGYENES  \n  \n16:30 IV. városi gyertyagyújtás  \nKözreműködik Szigeti Eszter énekes.  \nHelyszín: Érd\, Főtér  \n  \n17:30 Karácsonyi ének családi musical a Körúti Színház előadásában  \nHelyszín: Szepes Gyula Művelődési Központ | 2030 Érd\, Alsó u. 9.  \nJegyár: 6.000 Ft \n  \nVárunk benneteket szeretettel ünnepi programsorozatunkon! \n  \nA szervezők a programváltozás jogát fenntartják. A programon résztvevők elfogadják a házirendet\, valamint elfogadják\, hogy a programon készült kép-\, hang- és videofelvételt a szervezők saját nyilvános felületeiken\, illetve egyéb médiafelületeken való megjelenés során felhasználhatnak.
URL:https://erdkultura.hu/event/adventi-programok-erden-2025/
LOCATION:SZEPES\, Alsó u. 9.\, Érd\, 2030\, Magyarország
CATEGORIES:előadás,szepes,tanfolyam,zene
ATTACH;FMTTYPE=image/jpeg:https://erdkultura.hu/wp-content/uploads/2025/10/advent_erd_2025-scaled.jpg
END:VEVENT
END:VCALENDAR