BEGIN:VCALENDAR
VERSION:2.0
PRODID:-//ÉrdKultúra - ECPv6.8.0//NONSGML v1.0//EN
CALSCALE:GREGORIAN
METHOD:PUBLISH
X-ORIGINAL-URL:https://erdkultura.hu
X-WR-CALDESC:Events for ÉrdKultúra
REFRESH-INTERVAL;VALUE=DURATION:PT1H
X-Robots-Tag:noindex
X-PUBLISHED-TTL:PT1H
BEGIN:VTIMEZONE
TZID:UTC
BEGIN:STANDARD
TZOFFSETFROM:+0000
TZOFFSETTO:+0000
TZNAME:UTC
DTSTART:20250101T000000
END:STANDARD
END:VTIMEZONE
BEGIN:VEVENT
DTSTART;TZID=UTC:20251101T160000
DTEND;TZID=UTC:20251130T173000
DTSTAMP:20260420T125812
CREATED:20251021T101356Z
LAST-MODIFIED:20251103T143223Z
UID:6072-1762012800-1764523800@erdkultura.hu
SUMMARY:Rajzszakkör gyerekeknek
DESCRIPTION:Rajzos-festő foglalkozás 7 – 12 éves gyerekeknek a Parkvárosi Közösségi Házban\, novemberben is kedd délutánonként 16 órától 17:30 óráig. \nA fiatalok alkotói készségeinek fejlesztéséért\, kreatív gondolkodásuk támogatásáért! \nNovemberben Tersánszky Józsi Jenő: Misi Mókus kalandjai című könyvéből inspirálódunk. \nAz örökmozgó mókuskölyök világa elevenedik meg a gyerekek rajzain\, miközben jókedvvel\, önbizalommal töltekeznek. \nAz aktuális havi program részletei mindig a https://bohemkuckom.hu/kreativfoglalkozasok/festes-gyerekeknek oldalon olvashatóak. \n  \nJelentkezni a fenti honlapon “Foglalok” menüpontnál\, érdeklődni a 20/226-2853 telefonszámon lehet! \nVárom szeretettel a gyermekeket! Szegedy Tamara \nA szervezők a programváltozás jogát fenntartják. A programon résztvevők elfogadják a házirendet\, valamint elfogadják\, hogy a programon készült kép-\, hang- és videofelvételt a szervezők saját nyilvános felületeiken\, illetve egyéb médiafelületeken való megjelenés során felhasználhatnak.
URL:https://erdkultura.hu/event/rajzszakkor-gyerekeknek-4/
LOCATION:PARKVÁROS\, Gépész u. 14.\, Érd\, 2030\, Magyarország
CATEGORIES:Parkváros,tanfolyam
ATTACH;FMTTYPE=image/jpeg:https://erdkultura.hu/wp-content/uploads/2025/10/Esemenykep_gyerek_rajzszakkor_november-1.jpg
END:VEVENT
BEGIN:VEVENT
DTSTART;TZID=UTC:20251110T140000
DTEND;TZID=UTC:20251110T150000
DTSTAMP:20260420T125812
CREATED:20251020T122753Z
LAST-MODIFIED:20251027T093517Z
UID:6046-1762783200-1762786800@erdkultura.hu
SUMMARY:Érdi Idősek Akadémiája
DESCRIPTION:Érdi Idősek Akadémiája: XIX. századi virtuális kocsmatúra a pesti belvárosban – sörkóstolóval \nFedezze fel velünk a magyar vendéglátás izgalmas történetét az elmúlt évszázadok tükrében! Megismerhetik a 18. századi Pest-Buda vendégfogadóinak mindennapjait\, azok hangulatát és jellemzőit\, majd a 19. századi városi vendéglátás két világát: az előkelőbb\, elegáns vendéglőket és a „késdobáló” szintű kocsmákat\, ahol a társadalmi rang és a szolgáltatások szintje élesen elkülönült. \nKülön figyelmet szentelünk a híres cigányprímások szerepének a vendéglátóhelyek életében\, akik nem csupán a hangulatot\, hanem a hely presztízsét is meghatározták. Végül bemutatjuk\, hogyan váltak egyes kocsmák és vendéglők a politikai élet színtereivé\, és miként szolgáltak fontos kiindulópontként ismert történelmi eseményekhez. \nAz előadás után a Köleses Söröző jóvoltából sörkóstolón is részt vehetnek! \nA részvételhez előzetes regisztráció szükséges! \n  \nA program az „Idősen\, aktívan\, Érden” programsorozat keretében kerül megrendezésre.\nA részvétel az érdi 65 év felettieknek ingyenes.\n\n\n  \nA szervezők a programváltozás jogát fenntartják.\nA programon résztvevők elfogadják a házirendet\, valamint elfogadják\, hogy a programon készült kép-\, hang- és videofelvételt a szervezők saját nyilvános felületeiken\, illetve egyéb médiafelületeken való megjelenés során felhasználhatnak.
URL:https://erdkultura.hu/event/erdi-idosek-akademiaja-3/
LOCATION:SZEPES\, Alsó u. 9.\, Érd\, 2030\, Magyarország
CATEGORIES:előadás,Idősprogram,szepes,tanfolyam
ATTACH;FMTTYPE=image/png:https://erdkultura.hu/wp-content/uploads/2025/10/Web-kep-30-1.png
ORGANIZER;CN="Sz%C5%B1cs %C3%81gnes I SZEPES":MAILTO:szucs.agnes@erdkultura.hu
END:VEVENT
END:VCALENDAR