BEGIN:VCALENDAR
VERSION:2.0
PRODID:-//ÉrdKultúra - ECPv6.8.0//NONSGML v1.0//EN
CALSCALE:GREGORIAN
METHOD:PUBLISH
X-ORIGINAL-URL:https://erdkultura.hu
X-WR-CALDESC:Events for ÉrdKultúra
REFRESH-INTERVAL;VALUE=DURATION:PT1H
X-Robots-Tag:noindex
X-PUBLISHED-TTL:PT1H
BEGIN:VTIMEZONE
TZID:UTC
BEGIN:STANDARD
TZOFFSETFROM:+0000
TZOFFSETTO:+0000
TZNAME:UTC
DTSTART:20250101T000000
END:STANDARD
END:VTIMEZONE
BEGIN:VEVENT
DTSTART;TZID=UTC:20250910T080000
DTEND;TZID=UTC:20251031T170000
DTSTAMP:20260420T141215
CREATED:20250903T082812Z
LAST-MODIFIED:20251018T063824Z
UID:5449-1757491200-1761930000@erdkultura.hu
SUMMARY:Szabadulószoba az Érdi Galériában - Meghosszabbítva október 31-ig!
DESCRIPTION:Szabadulószoba az Érdi Galériában \nElőkerülhet Batthyány Fülöp herceg kincse az Érdi Galériában? \nFedezzétek fel más szemmel a kiállítóteret\, oldjátok meg a feladatokat\, és találjátok meg az elveszett kincset! \n2-6 fős csapatok jelentkezését várjuk! \nIdőtartam: kb. 1 óra\nJegyár: 1.000 Ft/fő \nFigyelem! A jelentkezés alkalmával előzetes időpontegyeztetés szükséges! \nKedves Látogatók! Felhívjuk figyelmüket\, hogy intézményünk szeptember 12-én és 13-án\, valamint szeptember 19-én és 20-án külső rendezvény miatt zárva tart. \nNyitvatartásunk:\n\nhétfő-kedd:   zárva\nszerda:      14:00-20:00\ncsütörtök:    13:00-18:00\npéntek:       13:00-18:00\nszombat:     10:00-14:00\nvasárnap:    zárva\n\nJelentkezés és további információ: erdigaleria@gmail.com
URL:https://erdkultura.hu/event/szabaduloszoba-az-erdi-galeriaban/
LOCATION:GALÉRIA\, Alsó utca 2.\, Érd\, 2030\, Magyarország
CATEGORIES:előadás,Galéria,kiállítás,tanfolyam
ATTACH;FMTTYPE=image/png:https://erdkultura.hu/wp-content/uploads/2025/09/Nevtelen-terv-4.png
END:VEVENT
BEGIN:VEVENT
DTSTART;TZID=UTC:20250929T133000
DTEND;TZID=UTC:20250929T150000
DTSTAMP:20260420T141215
CREATED:20250724T122755Z
LAST-MODIFIED:20250916T125741Z
UID:5221-1759152600-1759158000@erdkultura.hu
SUMMARY:Érdi Idősek Akadémiája
DESCRIPTION:Egy csepptől az egészség teljességéig – Béres József\, a Béres Gyógyszergyár Zrt. volt elnökének előadása \n Regisztráció szükséges! \n  \nA program az „Idősen\, aktívan\, Érden” programsorozat keretében kerül megrendezésre.\nA részvétel az érdi 65 év felettieknek ingyenes.\n\n\n  \nA szervezők a programváltozás jogát fenntartják.\nA programon résztvevők elfogadják a házirendet\, valamint elfogadják\, hogy a programon készült kép-\, hang- és videofelvételt a szervezők saját nyilvános felületeiken\, illetve egyéb médiafelületeken való megjelenés során felhasználhatnak.
URL:https://erdkultura.hu/event/erdi-idosek-akademiaja-2/
LOCATION:SZEPES\, Alsó u. 9.\, Érd\, 2030\, Magyarország
CATEGORIES:előadás,Idősprogram,szepes,tanfolyam
ATTACH;FMTTYPE=image/jpeg:https://erdkultura.hu/wp-content/uploads/2025/07/Fb_event-4-scaled.jpg
ORGANIZER;CN="Sz%C5%B1cs %C3%81gnes I SZEPES":MAILTO:szucs.agnes@erdkultura.hu
END:VEVENT
END:VCALENDAR