BEGIN:VCALENDAR
VERSION:2.0
PRODID:-//ÉrdKultúra - ECPv6.8.0//NONSGML v1.0//EN
CALSCALE:GREGORIAN
METHOD:PUBLISH
X-WR-CALNAME:ÉrdKultúra
X-ORIGINAL-URL:https://erdkultura.hu
X-WR-CALDESC:Events for ÉrdKultúra
REFRESH-INTERVAL;VALUE=DURATION:PT1H
X-Robots-Tag:noindex
X-PUBLISHED-TTL:PT1H
BEGIN:VTIMEZONE
TZID:UTC
BEGIN:STANDARD
TZOFFSETFROM:+0000
TZOFFSETTO:+0000
TZNAME:UTC
DTSTART:20250101T000000
END:STANDARD
END:VTIMEZONE
BEGIN:VEVENT
DTSTART;TZID=UTC:20250906T090000
DTEND;TZID=UTC:20250906T160000
DTSTAMP:20260420T151900
CREATED:20250904T090642Z
LAST-MODIFIED:20250904T090829Z
UID:5485-1757149200-1757174400@erdkultura.hu
SUMMARY:Az Érdi Kertbarát Kör Jubileumi Terménybemutatója
DESCRIPTION:Az Érdi Kertbarát Kör szeretettel meghívja Önt\, és kedves családját a 25. évi jubileumi terménybemutatójára\, szeptember 6-án\, 9 órától 16 óráig a Szepes Gyula Művelődési Központban!\nProgramok: \n9:00 Vendégek köszöntése és a terménybemutató megnyitása\n9:15 Megnyitó műsor: A Bukovinai Székely Népdalkör Civil társaság közreműködésével.\nAz IRKA-KÖR tagjai versekkel készülnek. A programot óvodások műsora követi.\n9:35 Az elismerések átadása\, az „Én kis kertem” rajzpályázat díjátadása\n9:50-16:00-ig Mag és növény cserebere\, és ajándékozás\, szaktanácsadás\n11:00 és 15:00 órakor A „Kiskertész” program vetélkedője: Növény- és terményfelismerés és szellemi totó \nDélután: szakmai előadások vetítéssel \n14:00 Az ősz az új tavasz! Ősszel is vethetünk! Fűszerek\, és zöldségek. Glavati Zsuzsanna\n14:30 Fito Horm „…ami természetesen jár a növénynek!”\nNövénytáplálás: Keresztes Zoltán szaktanácsadó \n 
URL:https://erdkultura.hu/event/az-erdi-kertbarat-kor-jubileumi-termenybemutatoja/
LOCATION:SZEPES\, Alsó u. 9.\, Érd\, 2030\, Magyarország
CATEGORIES:Idősprogram,kiállítás,szepes,tanfolyam
ATTACH;FMTTYPE=image/png:https://erdkultura.hu/wp-content/uploads/2025/09/Kepernyokep-2025-09-04-110445.png
END:VEVENT
END:VCALENDAR