BEGIN:VCALENDAR
VERSION:2.0
PRODID:-//ÉrdKultúra - ECPv6.8.0//NONSGML v1.0//EN
CALSCALE:GREGORIAN
METHOD:PUBLISH
X-WR-CALNAME:ÉrdKultúra
X-ORIGINAL-URL:https://erdkultura.hu
X-WR-CALDESC:Events for ÉrdKultúra
REFRESH-INTERVAL;VALUE=DURATION:PT1H
X-Robots-Tag:noindex
X-PUBLISHED-TTL:PT1H
BEGIN:VTIMEZONE
TZID:UTC
BEGIN:STANDARD
TZOFFSETFROM:+0000
TZOFFSETTO:+0000
TZNAME:UTC
DTSTART:20250101T000000
END:STANDARD
END:VTIMEZONE
BEGIN:VEVENT
DTSTART;TZID=UTC:20250625T180000
DTEND;TZID=UTC:20250625T200000
DTSTAMP:20260420T191152
CREATED:20250526T082833Z
LAST-MODIFIED:20250602T085524Z
UID:4945-1750874400-1750881600@erdkultura.hu
SUMMARY:Galéria Kreatív Műhely
DESCRIPTION:Légy saját divatterveződ! – Textilfestő Kreatív Műhely  \nSzeretnéd egyedivé tenni kedvenc pólódat\, vagy feldobni a vászontáskádat? Akkor itt a helyed!\nEzen a foglalkozáson lehetőséget adunk arra\, hogy felújítsd régi ruháidat.  \nHozd el saját pólódat\, pulcsidat\, táskád\, nadrágod\, vagy cipődet\, és díszítsd őket egyedi mintákkal\, színekkel\, saját kezűleg!  \n(A hozott ruha anyaga vászon\, pamut vagy len legyen)  \nKérlek viselj olyan ruhát\, amit nem sajnálsz\, ha festékes lesz!  \n  \nMit kínálunk?\nTextil festékek\, ecsetek\, sablonok\, nyomdákat\, díszítő eszközök (gombok\, cérnák\, fonalak)  \nSegítség és támogatás\, ha nem tudod\, hol kezdj neki.\nBarátságos\, laza légkör\, ahol nyugodtan alkothatsz.  \n  \nA programon a részvétel díjtalan\, de regisztrációhoz kötött. Részvételi szándékát kérjük\, az erdigaleria@gmail.com e-mail címen jelezze.   \nA szervezők a programváltozás jogát fenntartják.\nA programon résztvevők elfogadják a házirendet\, valamint elfogadják\, hogy a programon készült kép-\, hang- és videofelvételt a szervezők saját nyilvános felületeiken\, illetve egyéb médiafelületeken való megjelenés során felhasználhatnak.
URL:https://erdkultura.hu/event/galeria-kreativ-muhely-10/
LOCATION:GALÉRIA\, Alsó utca 2.\, Érd\, 2030\, Magyarország
CATEGORIES:előadás,Galéria,tanfolyam
ATTACH;FMTTYPE=image/png:https://erdkultura.hu/wp-content/uploads/2025/05/Web-kep-82.png
END:VEVENT
END:VCALENDAR