BEGIN:VCALENDAR
VERSION:2.0
PRODID:-//ÉrdKultúra - ECPv6.8.0//NONSGML v1.0//EN
CALSCALE:GREGORIAN
METHOD:PUBLISH
X-WR-CALNAME:ÉrdKultúra
X-ORIGINAL-URL:https://erdkultura.hu
X-WR-CALDESC:Events for ÉrdKultúra
REFRESH-INTERVAL;VALUE=DURATION:PT1H
X-Robots-Tag:noindex
X-PUBLISHED-TTL:PT1H
BEGIN:VTIMEZONE
TZID:UTC
BEGIN:STANDARD
TZOFFSETFROM:+0000
TZOFFSETTO:+0000
TZNAME:UTC
DTSTART:20250101T000000
END:STANDARD
END:VTIMEZONE
BEGIN:VEVENT
DTSTART;TZID=UTC:20250611T180000
DTEND;TZID=UTC:20250611T200000
DTSTAMP:20260420T191206
CREATED:20250526T082625Z
LAST-MODIFIED:20250604T073100Z
UID:4943-1749664800-1749672000@erdkultura.hu
SUMMARY:Galéria Kreatív Műhely
DESCRIPTION:Készíts tájképet vegyes technikával!  \nRajzolj\, fess\, vágj és ragassz!\nNem mindennapi tájképeket fogunk készíteni\, amihez nem szükséges rajztudás\, csak te és a kreativitásod.\nA képedhez ihletet meríthetsz a kiállítás képeiből\, de készíthetsz egy általad kitalált világot is\, vagy egy helyet\, ahová el szeretnél jutni.  \nMit használhatsz? Szinte bármit!\n-festéket\n-textildarabokat\, fonalakat\, szalagokat\n-alufóliát\, celofánt\n-színespapírt\, kartont\, újságokat\n-filctollat\, ceruzát\, zsírkrétát\n-olló\, ragasztó\, ragasztópisztoly\n-vagy amit még magaddal hozol  \n  \nA programon a részvétel díjtalan\, de regisztrációhoz kötött. Részvételi szándékát kérjük\, az erdigaleria@gmail.com e-mail címen jelezze.   \nA szervezők a programváltozás jogát fenntartják.\nA programon résztvevők elfogadják a házirendet\, valamint elfogadják\, hogy a programon készült kép-\, hang- és videofelvételt a szervezők saját nyilvános felületeiken\, illetve egyéb médiafelületeken való megjelenés során felhasználhatnak.
URL:https://erdkultura.hu/event/galeria-kreativ-muhely-9/
LOCATION:GALÉRIA\, Alsó utca 2.\, Érd\, 2030\, Magyarország
CATEGORIES:előadás,Galéria,tanfolyam
ATTACH;FMTTYPE=image/png:https://erdkultura.hu/wp-content/uploads/2025/05/Web-kep-80.png
END:VEVENT
END:VCALENDAR