BEGIN:VCALENDAR
VERSION:2.0
PRODID:-//ÉrdKultúra - ECPv6.8.0//NONSGML v1.0//EN
CALSCALE:GREGORIAN
METHOD:PUBLISH
X-WR-CALNAME:ÉrdKultúra
X-ORIGINAL-URL:https://erdkultura.hu
X-WR-CALDESC:Events for ÉrdKultúra
REFRESH-INTERVAL;VALUE=DURATION:PT1H
X-Robots-Tag:noindex
X-PUBLISHED-TTL:PT1H
BEGIN:VTIMEZONE
TZID:UTC
BEGIN:STANDARD
TZOFFSETFROM:+0000
TZOFFSETTO:+0000
TZNAME:UTC
DTSTART:20250101T000000
END:STANDARD
END:VTIMEZONE
BEGIN:VEVENT
DTSTART;TZID=UTC:20250329T123000
DTEND;TZID=UTC:20250329T180000
DTSTAMP:20260420T231708
CREATED:20250306T085134Z
LAST-MODIFIED:20250313T074537Z
UID:4255-1743251400-1743271200@erdkultura.hu
SUMMARY:Élet - Öröm\, Biztonság
DESCRIPTION:Közös délután az Ága-Boga Nagycsaládosok Érdi Egyesülete szervezésében: \n\nPintér Béla koncert\nMagzatnaplóm kerekasztal-beszélgetés\nBába az otthonunkban (Béres Edina)\nJó segíteni – Tinikről védőnőktől\nGyermekeink az internet világában\nÉletmentő gyakorlatok (Vöröskereszt)\nGyermekfoglalkozások\, piciknek babasarok\nÓránként értékes nyeremények\nVéradás (10:00-15:00)\n\nÉs még sokan mások! \nA program ingyenes\, de regisztrációhoz kötött! \nRegisztrációs link: https://forms.gle/ibBMjaTgvYVohMTd7
URL:https://erdkultura.hu/event/elet-orom-biztonsag/
LOCATION:SZEPES\, Alsó u. 9.\, Érd\, 2030\, Magyarország
CATEGORIES:előadás,szepes,tanfolyam
ATTACH;FMTTYPE=image/png:https://erdkultura.hu/wp-content/uploads/2025/03/agaboga.png
END:VEVENT
BEGIN:VEVENT
DTSTART;TZID=UTC:20250329T180000
DTEND;TZID=UTC:20250329T180000
DTSTAMP:20260420T231708
CREATED:20250214T090305Z
LAST-MODIFIED:20250214T090313Z
UID:3995-1743271200-1743271200@erdkultura.hu
SUMMARY:Parkvárosi Filmklub
DESCRIPTION:Havonta egy alkalommal. A belépés ingyenes! \nA szervezők a programváltozás jogát fenntartják. A programon résztvevők elfogadják a házirendet\, valamint elfogadják\, hogy a programon készült kép-\, hang- és videofelvételt a szervezők saját nyilvános felületeiken\, illetve egyéb médiafelületeken való megjelenés során felhasználhatnak. 
URL:https://erdkultura.hu/event/parkvarosi-filmklub-2/
LOCATION:PARKVÁROS\, Gépész u. 14.\, Érd\, 2030\, Magyarország
CATEGORIES:előadás,film,Parkváros,tanfolyam
ATTACH;FMTTYPE=image/png:https://erdkultura.hu/wp-content/uploads/2025/02/parkvarosi-filmklub-1.png
END:VEVENT
END:VCALENDAR