BEGIN:VCALENDAR
VERSION:2.0
PRODID:-//ÉrdKultúra - ECPv6.8.0//NONSGML v1.0//EN
CALSCALE:GREGORIAN
METHOD:PUBLISH
X-WR-CALNAME:ÉrdKultúra
X-ORIGINAL-URL:https://erdkultura.hu
X-WR-CALDESC:Events for ÉrdKultúra
REFRESH-INTERVAL;VALUE=DURATION:PT1H
X-Robots-Tag:noindex
X-PUBLISHED-TTL:PT1H
BEGIN:VTIMEZONE
TZID:UTC
BEGIN:STANDARD
TZOFFSETFROM:+0000
TZOFFSETTO:+0000
TZNAME:UTC
DTSTART:20250101T000000
END:STANDARD
END:VTIMEZONE
BEGIN:VEVENT
DTSTART;TZID=UTC:20250320T080000
DTEND;TZID=UTC:20250327T170000
DTSTAMP:20260420T231651
CREATED:20250228T114614Z
LAST-MODIFIED:20250228T114614Z
UID:4200-1742457600-1743094800@erdkultura.hu
SUMMARY:Internet Fiesta (országos könyvtári program)
DESCRIPTION:Az Internet Society és az Európai Unió Cordis programja 1999-től hirdette meg az Internet Fiesta programját\, aminek célja az internet minél szélesebb körben történő népszerűsítése volt. \nMagyarország 2000-től kapcsolódik a nemzetközi programsorozathoz\, a könyvtárak rövidesen a magyar Internet Fiesta motorjai lettek. A programok célja kiegészült a digitális írástudás terjesztésével és az internet felhasználási lehetőségeinek minél szélesebb körű bemutatásával. \nGyermekkönyvtár: \nInternet Fiesta: a digitális írástudáshoz kapcsolódó könyvkiemelés \n  \nFelnőttkönyvtár: \nInternet Fiesta (országos könyvtári program): \n\nKvízjáték az online világról a mesterséges intelligencia által készített ajándék könyvjelzőkért\nSzabadulószoba a Facebookon\nMurphy a könyvtárban – szórakoztató összeállítás közösségi felületeinken
URL:https://erdkultura.hu/event/internet-fiesta-orszagos-konyvtari-program/
CATEGORIES:előadás,film,kiállítás,Könyvtár,közönségtalálkozó,tanfolyam
END:VEVENT
BEGIN:VEVENT
DTSTART;TZID=UTC:20250321T140000
DTEND;TZID=UTC:20250321T170000
DTSTAMP:20260420T231651
CREATED:20250228T113012Z
LAST-MODIFIED:20250228T113012Z
UID:4178-1742565600-1742576400@erdkultura.hu
SUMMARY:Víz világnapi tanulmányi verseny
DESCRIPTION:Víz világnapi tanulmányi verseny \nEgyfordulós földrajzverseny \nRésztvevők: érdi tankerületi iskolák \nKorosztály: 7-8. és 9-11. évfolyamosok (külön kategória) \nLétszám: 3 fős csapatok. Egy iskola legfeljebb 2 csapatot indíthat.
URL:https://erdkultura.hu/event/viz-vilagnapi-tanulmanyi-verseny/
CATEGORIES:előadás,Múzeum,tanfolyam
END:VEVENT
BEGIN:VEVENT
DTSTART;TZID=UTC:20250321T160000
DTEND;TZID=UTC:20250321T170000
DTSTAMP:20260420T231651
CREATED:20250214T110709Z
LAST-MODIFIED:20250318T094304Z
UID:4024-1742572800-1742576400@erdkultura.hu
SUMMARY:Lukin Csalogányai Népdaléneklési Fesztivál
DESCRIPTION:A Lukin László Alapfokú Művészeti Iskola zeneismeret tanszaka 2014. óta minden évben tavasszal megszervezi a Lukin Csalogányai Népdaléneklési Fesztivált. \n A verseny fő célja a magyar népdal hagyományainak megismerése\, megőrzése\, tiszteletére nevelése.  \nA jelentkező zeneiskolai tanulók szóló\, duó vagy csoport kategóriában mutatják be tudásukat\, akik a szaktanárokból álló zsűri értékelése alapján különböző elismeréseket kaphatnak. A legjobb hangú versenyző a „Lukin Csalogánya” díj elismerésben részesülhet.   
URL:https://erdkultura.hu/event/lukin-csaloganyai-nepdaleneklesi-fesztival/
LOCATION:PARKVÁROS\, Gépész u. 14.\, Érd\, 2030\, Magyarország
CATEGORIES:előadás,Parkváros,tanfolyam,zene
ATTACH;FMTTYPE=image/png:https://erdkultura.hu/wp-content/uploads/2025/02/Web-kep-42.png
END:VEVENT
END:VCALENDAR