BEGIN:VCALENDAR
VERSION:2.0
PRODID:-//ÉrdKultúra - ECPv6.8.0//NONSGML v1.0//EN
CALSCALE:GREGORIAN
METHOD:PUBLISH
X-ORIGINAL-URL:https://erdkultura.hu
X-WR-CALDESC:Events for ÉrdKultúra
REFRESH-INTERVAL;VALUE=DURATION:PT1H
X-Robots-Tag:noindex
X-PUBLISHED-TTL:PT1H
BEGIN:VTIMEZONE
TZID:UTC
BEGIN:STANDARD
TZOFFSETFROM:+0000
TZOFFSETTO:+0000
TZNAME:UTC
DTSTART:20250101T000000
END:STANDARD
END:VTIMEZONE
BEGIN:VEVENT
DTSTART;TZID=UTC:20250320T080000
DTEND;TZID=UTC:20250327T170000
DTSTAMP:20260420T231915
CREATED:20250228T114614Z
LAST-MODIFIED:20250228T114614Z
UID:4200-1742457600-1743094800@erdkultura.hu
SUMMARY:Internet Fiesta (országos könyvtári program)
DESCRIPTION:Az Internet Society és az Európai Unió Cordis programja 1999-től hirdette meg az Internet Fiesta programját\, aminek célja az internet minél szélesebb körben történő népszerűsítése volt. \nMagyarország 2000-től kapcsolódik a nemzetközi programsorozathoz\, a könyvtárak rövidesen a magyar Internet Fiesta motorjai lettek. A programok célja kiegészült a digitális írástudás terjesztésével és az internet felhasználási lehetőségeinek minél szélesebb körű bemutatásával. \nGyermekkönyvtár: \nInternet Fiesta: a digitális írástudáshoz kapcsolódó könyvkiemelés \n  \nFelnőttkönyvtár: \nInternet Fiesta (országos könyvtári program): \n\nKvízjáték az online világról a mesterséges intelligencia által készített ajándék könyvjelzőkért\nSzabadulószoba a Facebookon\nMurphy a könyvtárban – szórakoztató összeállítás közösségi felületeinken
URL:https://erdkultura.hu/event/internet-fiesta-orszagos-konyvtari-program/
CATEGORIES:előadás,film,kiállítás,Könyvtár,közönségtalálkozó,tanfolyam
END:VEVENT
BEGIN:VEVENT
DTSTART;TZID=UTC:20250320T170000
DTEND;TZID=UTC:20250320T190000
DTSTAMP:20260420T231915
CREATED:20250214T125512Z
LAST-MODIFIED:20250228T102453Z
UID:4059-1742490000-1742497200@erdkultura.hu
SUMMARY:Új! "Bölcsesség kora - a mi korunk" - őszinte beszélgetések az időskorról
DESCRIPTION:Aki nem hal meg\, az megöregszik\, tartja a mondás. Nekünk sikerült megöregednünk\, tegyük hát fel a kérdést: hogyan szeretnénk érezni magunkat\, és mit tehetünk magunkért\, a szerethető időskorért? Őszinte beszélgetések kis csoportban\, önmagunkat és egymást emelve\, inspirálva. \n  \nA program az „Idősen\, aktívan\, Érden” programsorozat keretében kerül megrendezésre.\nA részvétel az érdi 65 év felettieknek ingyenes\, de előzetes regisztrációhoz kötött!\n\n\n  \nA szervezők a programváltozás jogát fenntartják.\nA programon résztvevők elfogadják a házirendet\, valamint elfogadják\, hogy a programon készült kép-\, hang- és videofelvételt a szervezők saját nyilvános felületeiken\, illetve egyéb médiafelületeken való megjelenés során felhasználhatnak.
URL:https://erdkultura.hu/event/uj-bolcsesseg-kora-a-mi-korunk-oszinte-beszelgetesek-az-idoskorrol/
LOCATION:SZEPES\, Alsó u. 9.\, Érd\, 2030\, Magyarország
CATEGORIES:előadás,Idősprogram,szepes,tanfolyam
ATTACH;FMTTYPE=image/png:https://erdkultura.hu/wp-content/uploads/2025/02/bolcsesseg-kora_beszelgetes.png
ORGANIZER;CN="Sz%C5%B1cs %C3%81gnes I SZEPES":MAILTO:szucs.agnes@erdkultura.hu
END:VEVENT
END:VCALENDAR