BEGIN:VCALENDAR
VERSION:2.0
PRODID:-//ÉrdKultúra - ECPv6.8.0//NONSGML v1.0//EN
CALSCALE:GREGORIAN
METHOD:PUBLISH
X-WR-CALNAME:ÉrdKultúra
X-ORIGINAL-URL:https://erdkultura.hu
X-WR-CALDESC:Events for ÉrdKultúra
REFRESH-INTERVAL;VALUE=DURATION:PT1H
X-Robots-Tag:noindex
X-PUBLISHED-TTL:PT1H
BEGIN:VTIMEZONE
TZID:UTC
BEGIN:STANDARD
TZOFFSETFROM:+0000
TZOFFSETTO:+0000
TZNAME:UTC
DTSTART:20250101T000000
END:STANDARD
END:VTIMEZONE
BEGIN:VEVENT
DTSTART;TZID=UTC:20250205T080000
DTEND;TZID=UTC:20250316T170000
DTSTAMP:20260421T002539
CREATED:20250127T130528Z
LAST-MODIFIED:20250127T130735Z
UID:3874-1738742400-1742144400@erdkultura.hu
SUMMARY:Csudarumli Padlásműhely - Sziszi kézműves tárgyainak kiállítása
DESCRIPTION:Csudarumli Padlásműhely – Sziszi kézműves tárgyainak kiállítása \nA kiállítás március 16-ig tekinthető meg a Szepes Gyula Művelődési Központ előtéri kiállítóterében. \n„A Csudarumli műhelyben jelenleg főként plüssből készítek figurákat\, legtöbbször saját szabásminta alapján. Alapanyagok tekintetében nem ismerek kivételt. Minden anyaggal imádok dolgozni\, legyen az fenyőtű vagy fűzvessző\, fa\, textil vagy papír. A plüss járműveim talán a legnépszerűbbek\, de nagyon sok egyedi megrendelést is kapok. Egyre többször merül fel az együtt alkotás igénye!  \nKüldetésemnek tartom\, hogy népszerűsítsem a kétkezi munka örömét\, ezért gyerekeknek tartok alkalmanként varrós foglalkozást\, iskolában\, szülinapi zsúron vagy táborokban. Régi vágyam\, hogy saját műhelyemben is tartsak ilyesmit\, nemcsak gyerekeknek! Idővel a kosárfonásba is bevonnám az érdeklődőket…  \nA kiállítás reprezentálja\, hogy mennyi minden érdekel\, és milyen hasznos és szép csudákat lehet létrehozni a saját két kezünkkel. Ha alkotnál velem valami szépet\, vagy gyermekednek szeretnél élményt adni\, kérlek\, keress meg. Várlak!” \nSziszi \n 
URL:https://erdkultura.hu/event/csudarumli-padlasmuhely-sziszi-kezmuves-targyainak-kiallitasa/
LOCATION:SZEPES\, Alsó u. 9.\, Érd\, 2030\, Magyarország
CATEGORIES:kiállítás,szepes,tanfolyam
ATTACH;FMTTYPE=image/png:https://erdkultura.hu/wp-content/uploads/2025/01/Web-kep-22.png
END:VEVENT
BEGIN:VEVENT
DTSTART;TZID=UTC:20250205T190000
DTEND;TZID=UTC:20250205T203000
DTSTAMP:20260421T002539
CREATED:20250108T085754Z
LAST-MODIFIED:20250108T085754Z
UID:3673-1738782000-1738787400@erdkultura.hu
SUMMARY:Érdi Jóga nyílt nap nőknek
DESCRIPTION:Idén februárban újra ingyenes\, bemutató alkalom az új jógázók számára! Regisztrálj mielőbb\, mert a legutóbbi nyílt napokon is teltház volt!\nOktató: Takács Neléta Linda\, okleveles hatha jóga oktató\, női önismereti mentor\, életvezetési és párkapcsolati tanácsadó\, erőszakmentes kommunikáció tréner\, kétgyermekes édesanya.\nAZ ELSŐ BEMUTATÓ ALKALOM TELJESEN INGYENES!Azt követően minden szerda este 19:00 órától jógázunk a Parkvárosi Közösségi Házban!\nGYERE PRÓBÁLD KI!\nIngyenes\, de regisztrációhoz kötött. Bővebb infók és regisztráció: https://neleta.hu/joganyiltnap\n\nKiknek ajánlom?\nTeljesen kezdőknek és akár több éve jógázóknak is ajánlom az órákat\, ha:-szeretnéd alaposan átmozgatni magad egy szuper közösségben-néha fáj a nyakad\, a hátad a vállad\, meg itt is\, meg ott is (és nem kaptál az orvosodtól ellenjavallatot a jógáról)-gyakran vagy esténként fáradt\, feszült-ülőmunkát végzel (ilyen esetben kötelező)-sokat ülsz autóban vagy buszon/vonaton (szintén kötelező)-tetszik ez a mozgásforma és szeretnél rendszeresen\, egy oktatóval gyakorolni\n\nFigyelem! Komoly mozgásszervi problémák esetén mindenképpen kérd ki az orvosod tanácsát! A jógaórákat mindenki saját felelősségére látogatja!\nMit kell hoznod magaddal?\nEgy egyszerű jógaszőnyeget (a polifoam nem jó\, mert csúszik)\, amit már 3000-4000 Ft-ért is be lehet szerezni.Egy pléd a relaxációhoz\, illetve majd jól jöhet a fejed vagy térded alá is különböző gyakorlatoknálKényelmes sportruházatban gyere\, amiben akár fordított testhelyzetnél sem érzed majd magad kellemetlenülVizet\, bár közben alapvetően nem javasolt inni\, de utána igen:)\n\nKÉRLEK ÉRKEZZ IDŐBEN! Az óra 19:00-kor kezdődik\, ezért javaslom\, hogy minimum előtte 5 perccel már legyél ott\, hogy időben el tudjuk kezdeni!\nÉs ez egész évben lesz?\nIgen\, a közösségi ház nyitva tartása szerint június végéig tartom az órákat\, utána egész nyáron szabadtéren is jógázunk az érdi Klímaparkban.\nNem titkolom\, hogy szeretnék egy stabil\, érdi\, női közösséget szervezni\, úgyhogy ha te is vágysz erre\, akkor itt a helyed!\nÉs ha tetszik\, és rendszeresen szeretnék járni?A helyszínen mindent megbeszélünk\, felteheted kérdéseidet és bérlet akció is lesz!\n\nNamaste\,Neléta\,Az érdi nők jógamentora
URL:https://erdkultura.hu/event/erdi-joga-nyilt-nap-noknek/
LOCATION:PARKVÁROS\, Gépész u. 14.\, Érd\, 2030\, Magyarország
CATEGORIES:Parkváros,tanfolyam
ATTACH;FMTTYPE=image/jpeg:https://erdkultura.hu/wp-content/uploads/2025/01/joga-noknek-erden.jpg
END:VEVENT
END:VCALENDAR