BEGIN:VCALENDAR
VERSION:2.0
PRODID:-//ÉrdKultúra - ECPv6.8.0//NONSGML v1.0//EN
CALSCALE:GREGORIAN
METHOD:PUBLISH
X-WR-CALNAME:ÉrdKultúra
X-ORIGINAL-URL:https://erdkultura.hu
X-WR-CALDESC:Events for ÉrdKultúra
REFRESH-INTERVAL;VALUE=DURATION:PT1H
X-Robots-Tag:noindex
X-PUBLISHED-TTL:PT1H
BEGIN:VTIMEZONE
TZID:UTC
BEGIN:STANDARD
TZOFFSETFROM:+0000
TZOFFSETTO:+0000
TZNAME:UTC
DTSTART:20240101T000000
END:STANDARD
END:VTIMEZONE
BEGIN:VEVENT
DTSTART;TZID=UTC:20241207T140000
DTEND;TZID=UTC:20241207T170000
DTSTAMP:20260421T034645
CREATED:20241121T091510Z
LAST-MODIFIED:20241121T124117Z
UID:3259-1733580000-1733590800@erdkultura.hu
SUMMARY:Karácsonyfa-díszítő verseny a Galériában!
DESCRIPTION:🎄Karácsonyfa-díszítő versenyt hirdet a Szepes Gyula Művelődési Központ! \n📋Nevezni egyénileg\, vagy csoportosan is lehet\, az alábbi email-címen: szilvasi.dora@szepesmk.hu \n📅Határidő: 2024. december 2. A részvétel ingyenes! Amennyiben mégsem tudtok részt venni az eseményen\, kérjük jelezzétek a következő emailcímen: szilvasi.dora@szepesmk.hu \n🌟Várunk Benneteket december 7-én\, 14:00 órára az Érdi Galériába! Fenyőfát és áramhasználatot mindenki számára biztosítunk! \n🌠Mit hozz magaddal? A képzelőerődet\, a jó hangulatod\, illetve mindent\, amivel dekorálni szeretnél. \n🎁A legkreatívabb\, legszebb fa alkotói jutalomban részesülnek. Az ünnepi eredményhirdetésre és díjátadóra 2024. december 8-án\, az Adventi forgatag rendezvény keretein belül kerül sor. \n🌠A kész alkotásokat december 8-tól december 20-áig lehet megtekinteni az Érdi Galériában\, a galéria nyitvatartási idejében. \n🎄Dekorálásra fel! \nA Karácsonyfa-díszítő verseny támogatója az Érd és Környéke Ipartestületi Egyesület.
URL:https://erdkultura.hu/event/karacsonyfa-diszito-verseny-a-galeriaban/
LOCATION:SZEPES\, Alsó u. 9.\, Érd\, 2030\, Magyarország
CATEGORIES:előadás,kiállítás,szepes,tanfolyam
ATTACH;FMTTYPE=image/png:https://erdkultura.hu/wp-content/uploads/2024/11/FB-eemeny-borito-12.png
END:VEVENT
END:VCALENDAR