BEGIN:VCALENDAR
VERSION:2.0
PRODID:-//ÉrdKultúra - ECPv6.8.0//NONSGML v1.0//EN
CALSCALE:GREGORIAN
METHOD:PUBLISH
X-ORIGINAL-URL:https://erdkultura.hu
X-WR-CALDESC:Events for ÉrdKultúra
REFRESH-INTERVAL;VALUE=DURATION:PT1H
X-Robots-Tag:noindex
X-PUBLISHED-TTL:PT1H
BEGIN:VTIMEZONE
TZID:UTC
BEGIN:STANDARD
TZOFFSETFROM:+0000
TZOFFSETTO:+0000
TZNAME:UTC
DTSTART:20240101T000000
END:STANDARD
END:VTIMEZONE
BEGIN:VEVENT
DTSTART;TZID=UTC:20241201T130000
DTEND;TZID=UTC:20241201T170000
DTSTAMP:20260421T034735
CREATED:20241115T104901Z
LAST-MODIFIED:20241121T123900Z
UID:3218-1733058000-1733072400@erdkultura.hu
SUMMARY:Adventi koszorú és grincsfa-készítés a Galériában!
DESCRIPTION:🎄Várunk Benneteket sok szeretettel december 1-jén 13 órától\, vasárnap délután\, karácsonyi workshopunkon. Grincsfa vagy adventi koszorú\, a PajorDecor kézműves foglalkozásán\, mindkettőt könnyedén\, szakmai segítséggel el tudjátok készíteni. \n📍Helyszín: Érdi Galéria (2030 Érd\, Alsó utca 2.) \nA workshopom maximum 20 fő tud részt venni! \n🎁Mit tudtok majd készíteni? \n🎁Adventi koszorúkat és grincsfákat kétféle méretben: 80 és 120 cm \nA workshop részvételi díja 2000 Ft/fő melyet személyesen tudsz befizetni az Érdi Galériában előre egyeztetett időpontban (szilvasi.dora@szepesmk.hu). \nFigyelem! Az elkészített adventi koszorú ára felhasznált alapanyagok függvényében változik. Fizetési lehetőség a program végén\, készpénzben\, a helyszínen!\nA hatalmas választékból mindenki kedvére válogathat majd\, a program végén pedig a regisztrációs díj levonódik a teljes összegből! \n🎄Grincsfa:\n80 cm-es világító ledszalaggal\, kerámiakaspóban 9.000 Ft\n120 cm-es világító ledszalaggal\, kerámiakaspóban 10.000 Ft \n🤗A foglalkozásra kicsiket és nagyokat egyaránt várunk. Mivel ragasztópisztollyal fogunk dolgozni\, ezért 12 éven aluli gyermekek kizárólag szülői felügyelettel vehetnek részt. \nVárunk Titeket sok szeretettel!
URL:https://erdkultura.hu/event/adventi-koszoru-es-grincsfa-keszites-a-galeriaban/
LOCATION:SZEPES\, Alsó u. 9.\, Érd\, 2030\, Magyarország
CATEGORIES:előadás,kiállítás,közönségtalálkozó,szepes,tanfolyam
ATTACH;FMTTYPE=image/png:https://erdkultura.hu/wp-content/uploads/2024/11/FB-eemeny-borito-4.png
END:VEVENT
END:VCALENDAR