BEGIN:VCALENDAR
VERSION:2.0
PRODID:-//ÉrdKultúra - ECPv6.8.0//NONSGML v1.0//EN
CALSCALE:GREGORIAN
METHOD:PUBLISH
X-ORIGINAL-URL:https://erdkultura.hu
X-WR-CALDESC:Events for ÉrdKultúra
REFRESH-INTERVAL;VALUE=DURATION:PT1H
X-Robots-Tag:noindex
X-PUBLISHED-TTL:PT1H
BEGIN:VTIMEZONE
TZID:UTC
BEGIN:STANDARD
TZOFFSETFROM:+0000
TZOFFSETTO:+0000
TZNAME:UTC
DTSTART:20240101T000000
END:STANDARD
END:VTIMEZONE
BEGIN:VEVENT
DTSTART;TZID=UTC:20241121T150000
DTEND;TZID=UTC:20241121T170000
DTSTAMP:20260421T052918
CREATED:20241113T134921Z
LAST-MODIFIED:20241113T134921Z
UID:3202-1732201200-1732208400@erdkultura.hu
SUMMARY:Skiccek & sketchek - Alkotni az alkotás öröméért
DESCRIPTION:Scroll down for English! \nKiskamaszoknak és kamaszoknak is ajánljuk! \nSkiccek & sketchek – Alkotni az alkotás öröméért. Lágy és laza vonalakkal átrajzolni a bennünket körülvevő világot. Meditatív\, tudatos\, alkotó jelenlét minden csütörtökön a galériában. A foglalkozás angol nyelven zajlik\, alapfokú angollal könnyedén megérthető. \nA programjainkra a belépés díjtalan! Jelentkezési szándékát\, kérjük\, jelezze az erdigaleria@gmail.com e-mail címen.\n.\n.\n.\nRecommended for pre-teens and teens! \nSketches & Drawings – Creating for the joy of creation. Redrawing the world around us with soft and loose lines. A meditative\, mindful\, and creative presence every Thursday at the gallery. The sessions are conducted in English and can be easily understood with a basic knowledge. \nEntry to our programs is free! If you wish to register\, please do it by email via erdigaleria@gmail.com.
URL:https://erdkultura.hu/event/skiccek-sketchek-alkotni-az-alkotas-oromeert-5/
LOCATION:GALÉRIA\, Alsó utca 2.\, Érd\, 2030\, Magyarország
CATEGORIES:Galéria,kiállítás,tanfolyam
ATTACH;FMTTYPE=image/jpeg:https://erdkultura.hu/wp-content/uploads/2024/11/465445092_122223733460009095_4372676868168397444_n.jpg
END:VEVENT
BEGIN:VEVENT
DTSTART;TZID=UTC:20241121T163000
DTEND;TZID=UTC:20241121T170000
DTSTAMP:20260421T052918
CREATED:20241113T135159Z
LAST-MODIFIED:20241113T135159Z
UID:3207-1732206600-1732208400@erdkultura.hu
SUMMARY:Stitching - Lassú\, meditatív alkotás textilre hímzőfonallal
DESCRIPTION:Scroll down for English! \nKiskamaszoknak és kamaszoknak is ajánljuk! \nStiching – Lassú\, meditatív alkotás textilre hímzőfonallal. Csendes öltögetés fonallal\, alkotó hímzés a galériában. Felfrissítheted ruháidat\, készíthetsz könyvborítót is ezzel a technikával. A foglalkozás alapfokú angol nyelvtudással látogatható. \nA programjainkra a belépés díjtalan! Jelentkezési szándékát\, kérjük\, jelezze az erdigaleria@gmail.com e-mail címen.\n.\n.\n.\nRecommended for pre-teens and teens! \nStitching – Slow\, meditative creation on fabric with embroidery technique. Quiet stitching with thread\, creative embroidery at the gallery. You can refresh your clothes or create a book cover with this method. The session is accessible with a basic knowledge of English. \nEntry to our programs is free! If you wish to register\, please do it by email via erdigaleria@gmail.com.
URL:https://erdkultura.hu/event/stitching-lassu-meditativ-alkotas-textilre-himzofonallal-2/
LOCATION:GALÉRIA\, Alsó utca 2.\, Érd\, 2030\, Magyarország
CATEGORIES:Galéria,kiállítás,tanfolyam
ATTACH;FMTTYPE=image/jpeg:https://erdkultura.hu/wp-content/uploads/2024/11/464028271_122221191344009095_2639925575969241220_n.jpg
END:VEVENT
BEGIN:VEVENT
DTSTART;TZID=UTC:20241121T170000
DTEND;TZID=UTC:20241121T183000
DTSTAMP:20260421T052918
CREATED:20241018T155515Z
LAST-MODIFIED:20241018T155515Z
UID:2903-1732208400-1732213800@erdkultura.hu
SUMMARY:IRKA
DESCRIPTION:Az érdi Irodalomkedvelők klubjának havi programja \nKlubvezető: Daróczi Lajosné
URL:https://erdkultura.hu/event/irka-2/
LOCATION:GALÉRIA\, Alsó utca 2.\, Érd\, 2030\, Magyarország
CATEGORIES:előadás,Galéria,Idősprogram,tanfolyam
ATTACH;FMTTYPE=image/png:https://erdkultura.hu/wp-content/uploads/2024/03/Web-kep-23.png
END:VEVENT
END:VCALENDAR