BEGIN:VCALENDAR
VERSION:2.0
PRODID:-//ÉrdKultúra - ECPv6.8.0//NONSGML v1.0//EN
CALSCALE:GREGORIAN
METHOD:PUBLISH
X-WR-CALNAME:ÉrdKultúra
X-ORIGINAL-URL:https://erdkultura.hu
X-WR-CALDESC:Events for ÉrdKultúra
REFRESH-INTERVAL;VALUE=DURATION:PT1H
X-Robots-Tag:noindex
X-PUBLISHED-TTL:PT1H
BEGIN:VTIMEZONE
TZID:UTC
BEGIN:STANDARD
TZOFFSETFROM:+0000
TZOFFSETTO:+0000
TZNAME:UTC
DTSTART:20240101T000000
END:STANDARD
END:VTIMEZONE
BEGIN:VEVENT
DTSTART;TZID=UTC:20240919T140000
DTEND;TZID=UTC:20240919T170000
DTSTAMP:20260421T083434
CREATED:20240824T132733Z
LAST-MODIFIED:20240826T091654Z
UID:2268-1726754400-1726765200@erdkultura.hu
SUMMARY:Egészségére! Növényi esszenciák
DESCRIPTION:Egészségére! Növényi eszenciák – előadás az illóolajokról és felhasználásukról a mindennapokban (Vásárlási lehetőséggel!) \nAz esemény az Idősen\, aktívan Érden programsorozat keretein belül kerül megrendezésre. \nA részvétel az érdi 65 év felettieknek ingyenes! \n  \n 
URL:https://erdkultura.hu/event/egeszsegere-novenyi-esszenciak/
LOCATION:SZEPES\, Alsó u. 9.\, Érd\, 2030\, Magyarország
CATEGORIES:előadás,Idősprogram,szepes,tanfolyam
ATTACH;FMTTYPE=image/png:https://erdkultura.hu/wp-content/uploads/2024/08/Web-kep-86.png
END:VEVENT
END:VCALENDAR