BEGIN:VCALENDAR
VERSION:2.0
PRODID:-//ÉrdKultúra - ECPv6.8.0//NONSGML v1.0//EN
CALSCALE:GREGORIAN
METHOD:PUBLISH
X-WR-CALNAME:ÉrdKultúra
X-ORIGINAL-URL:https://erdkultura.hu
X-WR-CALDESC:Events for ÉrdKultúra
REFRESH-INTERVAL;VALUE=DURATION:PT1H
X-Robots-Tag:noindex
X-PUBLISHED-TTL:PT1H
BEGIN:VTIMEZONE
TZID:UTC
BEGIN:STANDARD
TZOFFSETFROM:+0000
TZOFFSETTO:+0000
TZNAME:UTC
DTSTART:20240101T000000
END:STANDARD
END:VTIMEZONE
BEGIN:VEVENT
DTSTART;TZID=UTC:20240909T100000
DTEND;TZID=UTC:20240909T170000
DTSTAMP:20260421T083441
CREATED:20240902T090230Z
LAST-MODIFIED:20240902T090230Z
UID:2355-1725876000-1725901200@erdkultura.hu
SUMMARY:Kerekítő\, a mondókázó mindennapokért!
DESCRIPTION:Újra vár a KEREKÍTŐ a Szepesben! \n2024.09.09.-től minden hétfőn 10-től. \nSzeretettel várjuk a legkisebb korosztályt és családjukat hétfő délelőttönként a Szepesi Gyula Művelődési Központban! Mondókákkal\, dalokkal\, hangszerekkel\, bábjátékkal\, tornaszeres játéktérrel és Kerekítő manóval! \n  \n💙 10:00 Kerekítő Mondókázó (0-3 éveseknek) \n💙 10:45 Kerekítő Manó Torna (1-3 éveseknek) \n  \n„Kerekítő\, a mondókázó mindennapokért!” \nKerekítő Mondókázó 0-3 éves korig – HÉTFŐNKÉNT 10:00-től \nÖlbeli játékok\, mondókák\, lovagoltatás\, lógázás\, hintáztatás\, cirókázás\, csúszdáztatás\, zsuppolás élő hangszerjátékkal\, népi hangszerekkel\, népdalokkal\, sétáltatókkal és bábjátékkal színesítve. Nagymamáinktól örökölt játékaink az érzelmi biztonság és a művészeti-zenei nevelés bölcsője. Az első évek mondókáinak szeretetnyelve\, az érintés\, ölelés és mosoly mely egy életen át elkíséri. \nKerekítő Manó Torna 1-3 éveseknek – HÉTFŐNKÉNT 10:45-től \nKerekítő manó bábos jeleneteivel\, tornaszeres játéktérrel. Ölbeli játékok\, mondókák a Kerekítő könyvsorozat népi gyűjtése nyomán\, dalokkal\, hangszerjátékkal színesítve. A foglalkozás Kerekítő manó hétköznapi és jelesnapi vonatkozású bábos jeleneteivel kezdődik és tornaszeres játéktérrel zárul. Az ejtőernyős labdás móka és egyedi átmozgató sorunk a nagymozgásoknak is teret ad. … \nFoglalkozások: hétfőnként 10.00 és 10.45-től \nRészvételi díj: 5 alkalmas bérlet/család (fél évig lejárható): 9000 Ft\, alkalmi jegy/család: 2000 Ft \nFoglalkozásvezető: Dulai Rita \nElérhetőség: rita.dulai6@gmail.com \nWeb: www.kerekito.hu
URL:https://erdkultura.hu/event/kerekito-a-mondokazo-mindennapokert/
LOCATION:SZEPES\, Alsó u. 9.\, Érd\, 2030\, Magyarország
CATEGORIES:előadás,szepes,tanfolyam
ATTACH;FMTTYPE=image/png:https://erdkultura.hu/wp-content/uploads/2024/09/Web-kep-90.png
END:VEVENT
END:VCALENDAR