BEGIN:VCALENDAR
VERSION:2.0
PRODID:-//ÉrdKultúra - ECPv6.8.0//NONSGML v1.0//EN
CALSCALE:GREGORIAN
METHOD:PUBLISH
X-WR-CALNAME:ÉrdKultúra
X-ORIGINAL-URL:https://erdkultura.hu
X-WR-CALDESC:Events for ÉrdKultúra
REFRESH-INTERVAL;VALUE=DURATION:PT1H
X-Robots-Tag:noindex
X-PUBLISHED-TTL:PT1H
BEGIN:VTIMEZONE
TZID:UTC
BEGIN:STANDARD
TZOFFSETFROM:+0000
TZOFFSETTO:+0000
TZNAME:UTC
DTSTART:20240101T000000
END:STANDARD
END:VTIMEZONE
BEGIN:VEVENT
DTSTART;TZID=UTC:20240801T080000
DTEND;TZID=UTC:20240831T170000
DTSTAMP:20260421T083253
CREATED:20240618T075818Z
LAST-MODIFIED:20240618T075818Z
UID:2122-1722499200-1725123600@erdkultura.hu
SUMMARY:Felnőttkönyvtár - Posztolj egy verset az ablakba: Francia költők versei
DESCRIPTION:
URL:https://erdkultura.hu/event/felnottkonyvtar-posztolj-egy-verset-az-ablakba-francia-koltok-versei/
CATEGORIES:előadás,Könyvtár,tanfolyam
END:VEVENT
END:VCALENDAR