BEGIN:VCALENDAR
VERSION:2.0
PRODID:-//ÉrdKultúra - ECPv6.8.0//NONSGML v1.0//EN
CALSCALE:GREGORIAN
METHOD:PUBLISH
X-ORIGINAL-URL:https://erdkultura.hu
X-WR-CALDESC:Events for ÉrdKultúra
REFRESH-INTERVAL;VALUE=DURATION:PT1H
X-Robots-Tag:noindex
X-PUBLISHED-TTL:PT1H
BEGIN:VTIMEZONE
TZID:UTC
BEGIN:STANDARD
TZOFFSETFROM:+0000
TZOFFSETTO:+0000
TZNAME:UTC
DTSTART:20240101T000000
END:STANDARD
END:VTIMEZONE
BEGIN:VEVENT
DTSTART;TZID=UTC:20240701T080000
DTEND;TZID=UTC:20240731T170000
DTSTAMP:20260421T110940
CREATED:20240618T075505Z
LAST-MODIFIED:20240618T075505Z
UID:2115-1719820800-1722445200@erdkultura.hu
SUMMARY:Felnőttkönyvtár - Tematikus könyvválogatás: változó témákkal és kínálattal
DESCRIPTION:
URL:https://erdkultura.hu/event/felnottkonyvtar-tematikus-konyvvalogatas-valtozo-temakkal-es-kinalattal-2/
CATEGORIES:előadás,Könyvtár,tanfolyam
END:VEVENT
BEGIN:VEVENT
DTSTART;TZID=UTC:20240701T080000
DTEND;TZID=UTC:20240731T170000
DTSTAMP:20260421T110940
CREATED:20240618T075639Z
LAST-MODIFIED:20240618T075639Z
UID:2118-1719820800-1722445200@erdkultura.hu
SUMMARY:Felnőttkönyvtár - Posztolj egy verset az ablakba: Női költők versei
DESCRIPTION:
URL:https://erdkultura.hu/event/felnottkonyvtar-posztolj-egy-verset-az-ablakba-noi-koltok-versei/
CATEGORIES:előadás,Könyvtár,tanfolyam
END:VEVENT
BEGIN:VEVENT
DTSTART;TZID=UTC:20240701T080000
DTEND;TZID=UTC:20240731T170000
DTSTAMP:20260421T110940
CREATED:20240618T075733Z
LAST-MODIFIED:20240618T075733Z
UID:2120-1719820800-1722445200@erdkultura.hu
SUMMARY:Felnőttkönyvtár: Zsákbamacska játék kortárs magyar szerzők műveiből
DESCRIPTION:
URL:https://erdkultura.hu/event/felnottkonyvtar-zsakbamacska-jatek-kortars-magyar-szerzok-muveibol/
CATEGORIES:előadás,Könyvtár,tanfolyam
END:VEVENT
END:VCALENDAR