BEGIN:VCALENDAR
VERSION:2.0
PRODID:-//ÉrdKultúra - ECPv6.8.0//NONSGML v1.0//EN
CALSCALE:GREGORIAN
METHOD:PUBLISH
X-ORIGINAL-URL:https://erdkultura.hu
X-WR-CALDESC:Events for ÉrdKultúra
REFRESH-INTERVAL;VALUE=DURATION:PT1H
X-Robots-Tag:noindex
X-PUBLISHED-TTL:PT1H
BEGIN:VTIMEZONE
TZID:UTC
BEGIN:STANDARD
TZOFFSETFROM:+0000
TZOFFSETTO:+0000
TZNAME:UTC
DTSTART:20240101T000000
END:STANDARD
END:VTIMEZONE
BEGIN:VEVENT
DTSTART;TZID=UTC:20240613T150000
DTEND;TZID=UTC:20240613T170000
DTSTAMP:20260421T123548
CREATED:20240522T154454Z
LAST-MODIFIED:20240522T154454Z
UID:2002-1718290800-1718298000@erdkultura.hu
SUMMARY:Vidd haza a Kaleidoszkóp tárlat színeit! - Póló és szatyorfestő workshop a Papírformával
DESCRIPTION:Megkíséreljük a tárlat színeit vászontáskákra festeni\, Varga Gábor Farkas grafikus és Simon Ágnes szakértő vezetésével\, hogy ebben a formában vihessék magukkal emlékbe látogatóink. Vászonszatyrot biztosítunk\, de ha kedvük tartja\, hozzanak magukkal pamut pólót (egyszínű\, minta nélkülit)\, vagy amit szívesen díszítenének. Belépődíj: 500 Ft.
URL:https://erdkultura.hu/event/vidd-haza-a-kaleidoszkop-tarlat-szineit-polo-es-szatyorfesto-workshop-a-papirformaval/
LOCATION:GALÉRIA\, Alsó utca 2.\, Érd\, 2030\, Magyarország
CATEGORIES:Galéria,kiállítás,tanfolyam
ATTACH;FMTTYPE=image/png:https://erdkultura.hu/wp-content/uploads/2024/05/Web-kep-60.png
END:VEVENT
BEGIN:VEVENT
DTSTART;TZID=UTC:20240613T150000
DTEND;TZID=UTC:20240613T170000
DTSTAMP:20260421T123548
CREATED:20240524T100446Z
LAST-MODIFIED:20240524T100446Z
UID:2055-1718290800-1718298000@erdkultura.hu
SUMMARY:Természetbúvár szakkör 9-12 éveseknek
DESCRIPTION:Siposné Szigethy Anna és Sipos György vezetésével \nA program díjtalan\, de előzetes regisztrációhoz kötött! \ne-mail: regisztracio@foldrajzimuzeum.hu
URL:https://erdkultura.hu/event/termeszetbuvar-szakkor-9-12-eveseknek-2/
LOCATION:MÚZEUM\, Budai út 4.\, Érd\, 2030\, Magyarország
CATEGORIES:előadás,Múzeum,tanfolyam
END:VEVENT
END:VCALENDAR