BEGIN:VCALENDAR
VERSION:2.0
PRODID:-//ÉrdKultúra - ECPv6.8.0//NONSGML v1.0//EN
CALSCALE:GREGORIAN
METHOD:PUBLISH
X-WR-CALNAME:ÉrdKultúra
X-ORIGINAL-URL:https://erdkultura.hu
X-WR-CALDESC:Events for ÉrdKultúra
REFRESH-INTERVAL;VALUE=DURATION:PT1H
X-Robots-Tag:noindex
X-PUBLISHED-TTL:PT1H
BEGIN:VTIMEZONE
TZID:UTC
BEGIN:STANDARD
TZOFFSETFROM:+0000
TZOFFSETTO:+0000
TZNAME:UTC
DTSTART:20240101T000000
END:STANDARD
END:VTIMEZONE
BEGIN:VEVENT
DTSTART;TZID=UTC:20240526T170000
DTEND;TZID=UTC:20240526T200000
DTSTAMP:20260421T135213
CREATED:20240429T092633Z
LAST-MODIFIED:20240515T105033Z
UID:1875-1716742800-1716753600@erdkultura.hu
SUMMARY:Horvát táncház
DESCRIPTION:
URL:https://erdkultura.hu/event/horvat-tanchaz/
LOCATION:PARKVÁROS\, Gépész u. 14.\, Érd\, 2030\, Magyarország
CATEGORIES:előadás,Parkváros,tanfolyam,zene
ATTACH;FMTTYPE=image/jpeg:https://erdkultura.hu/wp-content/uploads/2024/04/Ensemble__Kolo__dancing_folk_dance_of_Gnjilane.jpg
END:VEVENT
BEGIN:VEVENT
DTSTART;TZID=UTC:20240526T180000
DTEND;TZID=UTC:20240526T193000
DTSTAMP:20260421T135213
CREATED:20240524T102209Z
LAST-MODIFIED:20240524T102209Z
UID:2059-1716746400-1716751800@erdkultura.hu
SUMMARY:Érdi Csillagászati Klub
DESCRIPTION:Leviczki Anita geográfus\, muzeológus: Helyünk a mindenségben \nA programon a részvétel ingyenes!
URL:https://erdkultura.hu/event/erdi-csillagaszati-klub/
CATEGORIES:előadás,Múzeum,tanfolyam
END:VEVENT
END:VCALENDAR