BEGIN:VCALENDAR
VERSION:2.0
PRODID:-//ÉrdKultúra - ECPv6.8.0//NONSGML v1.0//EN
CALSCALE:GREGORIAN
METHOD:PUBLISH
X-WR-CALNAME:ÉrdKultúra
X-ORIGINAL-URL:https://erdkultura.hu
X-WR-CALDESC:Events for ÉrdKultúra
REFRESH-INTERVAL;VALUE=DURATION:PT1H
X-Robots-Tag:noindex
X-PUBLISHED-TTL:PT1H
BEGIN:VTIMEZONE
TZID:UTC
BEGIN:STANDARD
TZOFFSETFROM:+0000
TZOFFSETTO:+0000
TZNAME:UTC
DTSTART:20240101T000000
END:STANDARD
END:VTIMEZONE
BEGIN:VEVENT
DTSTART;TZID=UTC:20240518T140000
DTEND;TZID=UTC:20240518T170000
DTSTAMP:20260421T135215
CREATED:20240422T092716Z
LAST-MODIFIED:20240508T112215Z
UID:1802-1716040800-1716051600@erdkultura.hu
SUMMARY:A szövés varázsa – Előadással egybekötött szövő workshop Tápai Nóra iparművésszel
DESCRIPTION:A szövés varázsa – Előadással egybekötött szövő workshop Tápai Nóra iparművésszel  \nNóra kísérletező művésznek tartja magát\, végzettsége szerint falikárpit és szőnyegtervező – kivitelező. Szereti saját maga megszőni a terveit.  \nA workshop menete:  \n– bevezetés a szövés történetébe\, klasszikus és kortárs művészek bemutatása vetítéssel\, szakkönyvekkel\,  \n– a szövőkeret\, a fonalak és a szerszámok használatának bemutatása\, a felvetés ismertetése\, a lánc és vetülék fogalma\, a nyüst szerepe\,  \n– a torontáli\, a svéd és a francia gobelin szövés ismertetése és bemutatása\,  \n– a résztvevők elfoglalják a helyüket a szövőkeretek mellett\, tetszés szerinti színes fonalakat választanak és abból babákat kevernek\,  \n– vezetés mellett elkezdődik a szövés – 18 cm széles felvetésre – a résztvevők folytatják a munkát saját tempójukban a foglakozás végéig\,  \n– a szövés ideje alatt a vezető mindenkivel egyenként is foglalkozik  \nAz esemény a Hincz Gyula 120 programsorozat része.  \nRészvételi díj 8.000 Ft/fő\, a programot 14 éves kortól ajánljuk. Az előadás külön is megtekinthető\, melynek részvételi díja 1.000 Ft/fő. \n Jegyet váltani a helyszínen\, készpénzben lehetséges! \nElőzetes regisztráció szükséges: erdigaleria@gmail.com  
URL:https://erdkultura.hu/event/a-szoves-varazsa-eloadassal-egybekotott-szovo-workshop-tapai-nora-iparmuvesszel-2/
LOCATION:GALÉRIA\, Alsó utca 2.\, Érd\, 2030\, Magyarország
CATEGORIES:előadás,Galéria,tanfolyam
ATTACH;FMTTYPE=image/png:https://erdkultura.hu/wp-content/uploads/2024/03/Web-kep-22.png
END:VEVENT
END:VCALENDAR