BEGIN:VCALENDAR
VERSION:2.0
PRODID:-//ÉrdKultúra - ECPv6.8.0//NONSGML v1.0//EN
CALSCALE:GREGORIAN
METHOD:PUBLISH
X-WR-CALNAME:ÉrdKultúra
X-ORIGINAL-URL:https://erdkultura.hu
X-WR-CALDESC:Events for ÉrdKultúra
REFRESH-INTERVAL;VALUE=DURATION:PT1H
X-Robots-Tag:noindex
X-PUBLISHED-TTL:PT1H
BEGIN:VTIMEZONE
TZID:UTC
BEGIN:STANDARD
TZOFFSETFROM:+0000
TZOFFSETTO:+0000
TZNAME:UTC
DTSTART:20260101T000000
END:STANDARD
END:VTIMEZONE
BEGIN:VEVENT
DTSTART;TZID=UTC:20260203T160000
DTEND;TZID=UTC:20260203T173000
DTSTAMP:20260420T071911
CREATED:20251114T144726Z
LAST-MODIFIED:20251114T144726Z
UID:6464-1770134400-1770139800@erdkultura.hu
SUMMARY:Rajzszakkör gyerekeknek
DESCRIPTION:Rajzos-festő foglalkozás 7 – 12 éves gyerekeknek a Parkvárosi Közösségi Házban\, februárban is kedd délutánonként 16 órától 17:30-ig. \nA fiatalok alkotói készségeinek fejlesztéséért\, kreatív gondolkodásuk támogatásáért! \n1\,5 órányi játékos\, kreatív kikapcsolódás a gyermekednek – több órányi pihenéssel felérő szabad\, csendes óra a földszinti könyvtárban Neked! \nA gyerekek játszva fedezhetik fel a rajz- és festőeszközökben rejlő lehetőségeket\, miközben jókedvvel\, önbizalommal töltekeznek. \nAz aktuális havi program részletei mindig a https://bohemkuckom.hu/kreativfoglalkozasok/festes-gyerekeknek oldalon olvashatóak. \n  \nJelentkezni a fenti honlapon “Foglalok” menüpontnál\, érdeklődni a 20/226-2853 telefonszámon lehet! \nVárom szeretettel a gyermekeket! \nSzegedy Tamara \n  \nA szervezők a programváltozás jogát fenntartják.\nA programon résztvevők elfogadják a házirendet\, valamint elfogadják\, hogy a programon készült kép-\, hang- és videofelvételt a szervezők saját nyilvános felületeiken\, illetve egyéb médiafelületeken való megjelenés során felhasználhatnak.
URL:https://erdkultura.hu/event/rajzszakkor-gyerekeknek-5/
LOCATION:PARKVÁROS\, Gépész u. 14.\, Érd\, 2030\, Magyarország
CATEGORIES:előadás,Parkváros,tanfolyam
ATTACH;FMTTYPE=image/jpeg:https://erdkultura.hu/wp-content/uploads/2025/11/Esemenykep_2026_februar_gyerek-1.jpg
END:VEVENT
BEGIN:VEVENT
DTSTART;TZID=UTC:20260210T160000
DTEND;TZID=UTC:20260210T173000
DTSTAMP:20260420T071911
CREATED:20251114T144757Z
LAST-MODIFIED:20251114T144757Z
UID:6467-1770739200-1770744600@erdkultura.hu
SUMMARY:Rajzszakkör gyerekeknek
DESCRIPTION:Rajzos-festő foglalkozás 7 – 12 éves gyerekeknek a Parkvárosi Közösségi Házban\, februárban is kedd délutánonként 16 órától 17:30-ig. \nA fiatalok alkotói készségeinek fejlesztéséért\, kreatív gondolkodásuk támogatásáért! \n1\,5 órányi játékos\, kreatív kikapcsolódás a gyermekednek – több órányi pihenéssel felérő szabad\, csendes óra a földszinti könyvtárban Neked! \nA gyerekek játszva fedezhetik fel a rajz- és festőeszközökben rejlő lehetőségeket\, miközben jókedvvel\, önbizalommal töltekeznek. \nAz aktuális havi program részletei mindig a https://bohemkuckom.hu/kreativfoglalkozasok/festes-gyerekeknek oldalon olvashatóak. \n  \nJelentkezni a fenti honlapon “Foglalok” menüpontnál\, érdeklődni a 20/226-2853 telefonszámon lehet! \nVárom szeretettel a gyermekeket! \nSzegedy Tamara \n  \nA szervezők a programváltozás jogát fenntartják.\nA programon résztvevők elfogadják a házirendet\, valamint elfogadják\, hogy a programon készült kép-\, hang- és videofelvételt a szervezők saját nyilvános felületeiken\, illetve egyéb médiafelületeken való megjelenés során felhasználhatnak.
URL:https://erdkultura.hu/event/rajzszakkor-gyerekeknek-6/
LOCATION:PARKVÁROS\, Gépész u. 14.\, Érd\, 2030\, Magyarország
CATEGORIES:előadás,Parkváros,tanfolyam
ATTACH;FMTTYPE=image/jpeg:https://erdkultura.hu/wp-content/uploads/2025/11/Esemenykep_2026_februar_gyerek-1.jpg
END:VEVENT
BEGIN:VEVENT
DTSTART;TZID=UTC:20260214T090000
DTEND;TZID=UTC:20260214T130000
DTSTAMP:20260420T071911
CREATED:20251114T144330Z
LAST-MODIFIED:20251114T144330Z
UID:6459-1771059600-1771074000@erdkultura.hu
SUMMARY:Festőklub felnőtteknek
DESCRIPTION:A legkorábban érkező tavaszi madarak közé tartoznak a pajzsoscankók és az aranylilék\, amelyek már február közepén megjelenhetnek. \nA tavasz hírnökeihez csatlakozva festményeinken kora tavaszi szépségeket festünk februárban. \nFelnőtteknek szóló festőklub a Parkvárosi Közösségi Házban február 14. és 21-én – havonta 2 alkalommal is\, választható vagy ismételhető\, szombat délelőtt 9 órától 13 óráig. \n  \nFebruári témánk: A festés öröme a Tiéd! – A tavasz hírnökei \n  \nA festőklubon a teljesen kezdők és a gyakorlottabbak is megtalálják az örömöt és a kihívást! \n  \nMinden alkalommal feszített vászonra\, akrilfestékkel készülnek a fő alkotások. \nVáltozatos színkeverési feladatokkal és festészeti technikákkal gazdagítjuk tudásunkat. \n  \nCélunk\, hogy egyediséget\, hangulatot\, érzéseket visszatükröző képek születhessenek\, miközben az alkotók a hétköznapi rutinból kikapcsolódnak. \nAz aktuális havi részletes program itt érhető el: https://bohemkuckom.hu/kreativfoglalkozasok/festoklub \n  \nJelentkezni a fenti honlapon “Foglalok” menüpontnál\, érdeklődni a 20/226-2853 telefonszámon lehet! \nVárom szeretettel a kikapcsolódásra vágyó Hölgyeket\, Urakat! \n  \nSzegedy Tamara \n  \nA szervezők a programváltozás jogát fenntartják.\nA programon résztvevők elfogadják a házirendet\, valamint elfogadják\, hogy a programon készült kép-\, hang- és videofelvételt a szervezők saját nyilvános felületeiken\, illetve egyéb médiafelületeken való megjelenés során felhasználhatnak.
URL:https://erdkultura.hu/event/festoklub-felnotteknek-15/
LOCATION:PARKVÁROS\, Gépész u. 14.\, Érd\, 2030\, Magyarország
CATEGORIES:előadás,kiállítás,Parkváros,tanfolyam
ATTACH;FMTTYPE=image/jpeg:https://erdkultura.hu/wp-content/uploads/2025/11/Esemenykep_fb_2026_februar-1.jpg
END:VEVENT
BEGIN:VEVENT
DTSTART;TZID=UTC:20260217T100000
DTEND;TZID=UTC:20260217T170000
DTSTAMP:20260420T071911
CREATED:20260110T111813Z
LAST-MODIFIED:20260110T111813Z
UID:6941-1771322400-1771347600@erdkultura.hu
SUMMARY:Társasjáték- és kártyaklub
DESCRIPTION:A program az „Idősen\, aktívan\, Érden” programsorozat keretében kerül megrendezésre.  \n A részvétel az érdi 65 év felettieknek ingyenes.  \nA szervezők a programváltozás jogát fenntartják.\nA programon résztvevők elfogadják a házirendet\, valamint elfogadják\, hogy a programon készült kép-\, hang- és videofelvételt a szervezők saját nyilvános felületeiken\, illetve egyéb médiafelületeken való megjelenés során felhasználhatnak. 
URL:https://erdkultura.hu/event/tarsasjatek-es-kartyaklub-8/
LOCATION:PARKVÁROS\, Gépész u. 14.\, Érd\, 2030\, Magyarország
CATEGORIES:Idősprogram,Parkváros,tanfolyam
ATTACH;FMTTYPE=image/png:https://erdkultura.hu/wp-content/uploads/2025/02/Web-kep-32.png
END:VEVENT
BEGIN:VEVENT
DTSTART;TZID=UTC:20260217T160000
DTEND;TZID=UTC:20260217T173000
DTSTAMP:20260420T071911
CREATED:20251114T144816Z
LAST-MODIFIED:20251114T144816Z
UID:6469-1771344000-1771349400@erdkultura.hu
SUMMARY:Rajzszakkör gyerekeknek
DESCRIPTION:Rajzos-festő foglalkozás 7 – 12 éves gyerekeknek a Parkvárosi Közösségi Házban\, februárban is kedd délutánonként 16 órától 17:30-ig. \nA fiatalok alkotói készségeinek fejlesztéséért\, kreatív gondolkodásuk támogatásáért! \n1\,5 órányi játékos\, kreatív kikapcsolódás a gyermekednek – több órányi pihenéssel felérő szabad\, csendes óra a földszinti könyvtárban Neked! \nA gyerekek játszva fedezhetik fel a rajz- és festőeszközökben rejlő lehetőségeket\, miközben jókedvvel\, önbizalommal töltekeznek. \nAz aktuális havi program részletei mindig a https://bohemkuckom.hu/kreativfoglalkozasok/festes-gyerekeknek oldalon olvashatóak. \n  \nJelentkezni a fenti honlapon “Foglalok” menüpontnál\, érdeklődni a 20/226-2853 telefonszámon lehet! \nVárom szeretettel a gyermekeket! \nSzegedy Tamara \n  \nA szervezők a programváltozás jogát fenntartják.\nA programon résztvevők elfogadják a házirendet\, valamint elfogadják\, hogy a programon készült kép-\, hang- és videofelvételt a szervezők saját nyilvános felületeiken\, illetve egyéb médiafelületeken való megjelenés során felhasználhatnak.
URL:https://erdkultura.hu/event/rajzszakkor-gyerekeknek-7/
LOCATION:PARKVÁROS\, Gépész u. 14.\, Érd\, 2030\, Magyarország
CATEGORIES:előadás,Parkváros,tanfolyam
ATTACH;FMTTYPE=image/jpeg:https://erdkultura.hu/wp-content/uploads/2025/11/Esemenykep_2026_februar_gyerek-1.jpg
END:VEVENT
BEGIN:VEVENT
DTSTART;TZID=UTC:20260221T090000
DTEND;TZID=UTC:20260221T130000
DTSTAMP:20260420T071911
CREATED:20251114T144403Z
LAST-MODIFIED:20251114T144508Z
UID:6462-1771664400-1771678800@erdkultura.hu
SUMMARY:Festőklub felnőtteknek
DESCRIPTION:A legkorábban érkező tavaszi madarak közé tartoznak a pajzsoscankók és az aranylilék\, amelyek már február közepén megjelenhetnek. \nA tavasz hírnökeihez csatlakozva festményeinken kora tavaszi szépségeket festünk februárban. \nFelnőtteknek szóló festőklub a Parkvárosi Közösségi Házban február 14. és 21-én – havonta 2 alkalommal is\, választható vagy ismételhető\, szombat délelőtt 9 órától 13 óráig. \n  \nFebruári témánk: A festés öröme a Tiéd! – A tavasz hírnökei \n  \nA festőklubon a teljesen kezdők és a gyakorlottabbak is megtalálják az örömöt és a kihívást! \n  \nMinden alkalommal feszített vászonra\, akrilfestékkel készülnek a fő alkotások. \nVáltozatos színkeverési feladatokkal és festészeti technikákkal gazdagítjuk tudásunkat. \n  \nCélunk\, hogy egyediséget\, hangulatot\, érzéseket visszatükröző képek születhessenek\, miközben az alkotók a hétköznapi rutinból kikapcsolódnak. \nAz aktuális havi részletes program itt érhető el: https://bohemkuckom.hu/kreativfoglalkozasok/festoklub \n  \nJelentkezni a fenti honlapon “Foglalok” menüpontnál\, érdeklődni a 20/226-2853 telefonszámon lehet! \nVárom szeretettel a kikapcsolódásra vágyó Hölgyeket\, Urakat! \n  \nSzegedy Tamara \n  \nA szervezők a programváltozás jogát fenntartják.\nA programon résztvevők elfogadják a házirendet\, valamint elfogadják\, hogy a programon készült kép-\, hang- és videofelvételt a szervezők saját nyilvános felületeiken\, illetve egyéb médiafelületeken való megjelenés során felhasználhatnak.
URL:https://erdkultura.hu/event/festoklub-felnotteknek-16/
LOCATION:PARKVÁROS\, Gépész u. 14.\, Érd\, 2030\, Magyarország
CATEGORIES:előadás,kiállítás,Parkváros,tanfolyam
ATTACH;FMTTYPE=image/jpeg:https://erdkultura.hu/wp-content/uploads/2025/11/Esemenykep_fb_2026_februar-1.jpg
END:VEVENT
BEGIN:VEVENT
DTSTART;TZID=UTC:20260224T160000
DTEND;TZID=UTC:20260224T173000
DTSTAMP:20260420T071911
CREATED:20251114T144828Z
LAST-MODIFIED:20251114T144851Z
UID:6471-1771948800-1771954200@erdkultura.hu
SUMMARY:Rajzszakkör gyerekeknek
DESCRIPTION:Rajzos-festő foglalkozás 7 – 12 éves gyerekeknek a Parkvárosi Közösségi Házban\, februárban is kedd délutánonként 16 órától 17:30-ig. \nA fiatalok alkotói készségeinek fejlesztéséért\, kreatív gondolkodásuk támogatásáért! \n1\,5 órányi játékos\, kreatív kikapcsolódás a gyermekednek – több órányi pihenéssel felérő szabad\, csendes óra a földszinti könyvtárban Neked! \nA gyerekek játszva fedezhetik fel a rajz- és festőeszközökben rejlő lehetőségeket\, miközben jókedvvel\, önbizalommal töltekeznek. \nAz aktuális havi program részletei mindig a https://bohemkuckom.hu/kreativfoglalkozasok/festes-gyerekeknek oldalon olvashatóak. \n  \nJelentkezni a fenti honlapon “Foglalok” menüpontnál\, érdeklődni a 20/226-2853 telefonszámon lehet! \nVárom szeretettel a gyermekeket! \nSzegedy Tamara \n  \nA szervezők a programváltozás jogát fenntartják.\nA programon résztvevők elfogadják a házirendet\, valamint elfogadják\, hogy a programon készült kép-\, hang- és videofelvételt a szervezők saját nyilvános felületeiken\, illetve egyéb médiafelületeken való megjelenés során felhasználhatnak.
URL:https://erdkultura.hu/event/rajzszakkor-gyerekeknek-8/
LOCATION:PARKVÁROS\, Gépész u. 14.\, Érd\, 2030\, Magyarország
CATEGORIES:előadás,Parkváros,tanfolyam
ATTACH;FMTTYPE=image/jpeg:https://erdkultura.hu/wp-content/uploads/2025/11/Esemenykep_2026_februar_gyerek-1.jpg
END:VEVENT
BEGIN:VEVENT
DTSTART;TZID=UTC:20260226T170000
DTEND;TZID=UTC:20260226T190000
DTSTAMP:20260420T071911
CREATED:20251212T094229Z
LAST-MODIFIED:20260123T121143Z
UID:6754-1772125200-1772132400@erdkultura.hu
SUMMARY:"Bölcsesség kora - a mi korunk" - őszinte beszélgetések az időskorról
DESCRIPTION:Aki nem hal meg\, az megöregszik\, tartja a mondás. Nekünk sikerült megöregednünk\, tegyük hát fel a kérdést: hogyan szeretnénk érezni magunkat\, és mit tehetünk magunkért\, a szerethető időskorért? Őszinte beszélgetések kis csoportban\, önmagunkat és egymást emelve\, inspirálva. \nA programon való részvételhez előzetes regisztráció szükséges a szucs.agnes@erdkultura.hu e-mail címen. \nA program az „Idősen\, aktívan\, Érden” programsorozat keretében kerül megrendezésre. A részvétel az érdi 65 év fölöttiek számára ingyenes!\n\n\n  \nA szervezők a programváltozás jogát fenntartják.\nA programon résztvevők elfogadják a házirendet\, valamint elfogadják\, hogy a programon készült kép-\, hang- és videofelvételt a szervezők saját nyilvános felületeiken\, illetve egyéb médiafelületeken való megjelenés során felhasználhatnak.
URL:https://erdkultura.hu/event/bolcsesseg-kora-a-mi-korunk-oszinte-beszelgetesek-az-idoskorrol-4/
LOCATION:SZEPES\, Alsó u. 9.\, Érd\, 2030\, Magyarország
CATEGORIES:előadás,Idősprogram,szepes,tanfolyam
ATTACH;FMTTYPE=image/png:https://erdkultura.hu/wp-content/uploads/2025/02/bolcsesseg-kora_beszelgetes.png
ORGANIZER;CN="Sz%C5%B1cs %C3%81gnes I SZEPES":MAILTO:szucs.agnes@erdkultura.hu
END:VEVENT
END:VCALENDAR