BEGIN:VCALENDAR
VERSION:2.0
PRODID:-//ÉrdKultúra - ECPv6.8.0//NONSGML v1.0//EN
CALSCALE:GREGORIAN
METHOD:PUBLISH
X-WR-CALNAME:ÉrdKultúra
X-ORIGINAL-URL:https://erdkultura.hu
X-WR-CALDESC:Events for ÉrdKultúra
REFRESH-INTERVAL;VALUE=DURATION:PT1H
X-Robots-Tag:noindex
X-PUBLISHED-TTL:PT1H
BEGIN:VTIMEZONE
TZID:UTC
BEGIN:STANDARD
TZOFFSETFROM:+0000
TZOFFSETTO:+0000
TZNAME:UTC
DTSTART:20250101T000000
END:STANDARD
END:VTIMEZONE
BEGIN:VEVENT
DTSTART;TZID=UTC:20250630T080000
DTEND;TZID=UTC:20250704T170000
DTSTAMP:20260420T163237
CREATED:20250409T085053Z
LAST-MODIFIED:20250409T085115Z
UID:4643-1751270400-1751648400@erdkultura.hu
SUMMARY:NYÁRI SZÍNJÁTSZÓ TÁBOR ÉRDEN!
DESCRIPTION:A KÖRÚTI SZÍNHÁZ SZÍNIISKOLÁJÁNAK NYÁRI TÁBORA\n(っ◔◡◔)っ NYÁRI SZÍNJÁTSZÓ TÁBOR ÉRDEN!JÚNIUS 30.-JÚLIUS 4. ÉS JÚLIUS 7-11.\nHa 8-16 éves vagy és csak otthon unnád a július első két hetét\, akkor most figyelj. A Körúti Körúti Színház immár 15 éves színiiskolája ismét nyári tábort rendez. (Nem csak színiiskolásoknak.) Mindenkinek\, aki kicsit is úgy érzi\, színpad közelébe szeretne kerülni\,vagy igazi színészektől lesné el a szakmát\, vagy csak barátkozna kreatív módon. Gyere el és tölts el velünk a színpadon egy kis időt!Amit tanulhatsz:¤ színpadi mozgás¤ színpadi beszéd¤ színpadi jelenlétAmi rád vár\, az sokkal több:¤ barátok¤ egy nyitott csapat¤ sok nevetésA tábor minden nap 9:00-16:00-ig tart. Igény szerint a gyerekeknek ügyeletet biztosítunk 7:45-től.\nÉRDEKLŐDNI: +36304573900\nTÁBOR JELENTKEZÉSI LAP:https://forms.gle/aWNVzmhqv9YVDGzt5
URL:https://erdkultura.hu/event/nyari-szinjatszo-tabor-erden-2/
LOCATION:SZEPES\, Alsó u. 9.\, Érd\, 2030\, Magyarország
CATEGORIES:előadás,szepes,tanfolyam
ATTACH;FMTTYPE=image/jpeg:https://erdkultura.hu/wp-content/uploads/2025/04/489034498_714099270969449_3581382646752370695_n.jpg
END:VEVENT
BEGIN:VEVENT
DTSTART;TZID=UTC:20250707T080000
DTEND;TZID=UTC:20250711T170000
DTSTAMP:20260420T163237
CREATED:20250409T084819Z
LAST-MODIFIED:20250409T085142Z
UID:4639-1751875200-1752253200@erdkultura.hu
SUMMARY:NYÁRI SZÍNJÁTSZÓ TÁBOR ÉRDEN!
DESCRIPTION:A KÖRÚTI SZÍNHÁZ SZÍNIISKOLÁJÁNAK NYÁRI TÁBORA\n(っ◔◡◔)っ NYÁRI SZÍNJÁTSZÓ TÁBOR ÉRDEN!JÚNIUS 30.-JÚLIUS 4. ÉS JÚLIUS 7-11.\nHa 8-16 éves vagy és csak otthon unnád a július első két hetét\, akkor most figyelj. A Körúti Körúti Színház immár 15 éves színiiskolája ismét nyári tábort rendez. (Nem csak színiiskolásoknak.) Mindenkinek\, aki kicsit is úgy érzi\, színpad közelébe szeretne kerülni\,vagy igazi színészektől lesné el a szakmát\, vagy csak barátkozna kreatív módon. Gyere el és tölts el velünk a színpadon egy kis időt!Amit tanulhatsz:¤ színpadi mozgás¤ színpadi beszéd¤ színpadi jelenlétAmi rád vár\, az sokkal több:¤ barátok¤ egy nyitott csapat¤ sok nevetésA tábor minden nap 9:00-16:00-ig tart. Igény szerint a gyerekeknek ügyeletet biztosítunk 7:45-től.\nÉRDEKLŐDNI: +36304573900\nTÁBOR JELENTKEZÉSI LAP:https://forms.gle/aWNVzmhqv9YVDGzt5
URL:https://erdkultura.hu/event/nyari-szinjatszo-tabor-erden/
LOCATION:SZEPES\, Alsó u. 9.\, Érd\, 2030\, Magyarország
CATEGORIES:előadás,szepes,tanfolyam
ATTACH;FMTTYPE=image/jpeg:https://erdkultura.hu/wp-content/uploads/2025/04/489034498_714099270969449_3581382646752370695_n.jpg
END:VEVENT
BEGIN:VEVENT
DTSTART;TZID=UTC:20250709T180000
DTEND;TZID=UTC:20250709T200000
DTSTAMP:20260420T163237
CREATED:20250617T101104Z
LAST-MODIFIED:20250617T102839Z
UID:5067-1752084000-1752091200@erdkultura.hu
SUMMARY:Galéria Kreatív Műhely
DESCRIPTION:Kavics Tic-Tac-Toe Workshop – Játék\, amit te készítesz! \nSzeretnél egy olyan játékot\, amit saját kezűleg készítettél el\, és akár a nyaralásra is magaddal viheted? \nGyere el erre a különleges\, nyári hangulatú kreatív foglalkozásra\, ahol kavicsból készíthetsz egy vidám és hordozható Tic-Tac-Toe (amőba) játékot! \nMit fogunk csinálni? \n\n10 db kavicsot festünk két csapat színei szerint\nA játékhoz tartozó játékmezőt is készíthetsz egy vászonzsákra\, amibe a köveket csomagoljuk\nA készlet tartalma: 10 db festett játékkavics (2 játékoshoz)\, vászonzsák (hordozható játékhoz)\, a zsák hátuljára festhető játéktábla \n\nMiért különleges ez a workshop? \nTeljesen egyedi ajándék vagy utazójáték\nTökéletes strandoláshoz\, utazáshoz\, piknikhez\nGyerekeknek és felnőtteknek egyaránt élvezetes! \nKinek ajánljuk? Családoknak\, barátoknak\, pároknak. Gyerekeknek kb. 6 éves kortól (szülői segítséggel)  \nRegisztráció: erdigaleria@gmail.com \n\nA szervezők a programváltozás jogát fenntartják.\nA programon résztvevők elfogadják a házirendet\, valamint elfogadják\, hogy a programon készült kép-\, hang- és videofelvételt a szervezők saját nyilvános felületeiken\, illetve egyéb médiafelületeken való megjelenés során felhasználhatnak.
URL:https://erdkultura.hu/event/galeria-kreativ-muhely-11/
LOCATION:GALÉRIA\, Alsó utca 2.\, Érd\, 2030\, Magyarország
CATEGORIES:előadás,Galéria,tanfolyam
ATTACH;FMTTYPE=image/png:https://erdkultura.hu/wp-content/uploads/2025/06/Web-kep-87.png
END:VEVENT
BEGIN:VEVENT
DTSTART;TZID=UTC:20250714T100000
DTEND;TZID=UTC:20250718T103000
DTSTAMP:20260420T163237
CREATED:20250604T121059Z
LAST-MODIFIED:20250606T154607Z
UID:5017-1752487200-1752834600@erdkultura.hu
SUMMARY:Baba-mama zeneovi 2-3 éveseknek!
DESCRIPTION:Minden foglalkozás 30 perces. Minden kedves érdeklődőt szeretettel várunk! \nJúlius 14-től 18-ig\, 10:00-10:30 \nÁr: 7500 Ft (Befizetésre az első órán van lehetőség!) \nJelentkezés: eve.toth@gmail.com
URL:https://erdkultura.hu/event/baba-mama-zeneovi-2-3-evesenek/
LOCATION:PARKVÁROS\, Gépész u. 14.\, Érd\, 2030\, Magyarország
CATEGORIES:előadás,Parkváros,tanfolyam,zene
ATTACH;FMTTYPE=image/png:https://erdkultura.hu/wp-content/uploads/2025/06/IMG_8856.png
END:VEVENT
BEGIN:VEVENT
DTSTART;TZID=UTC:20250714T103000
DTEND;TZID=UTC:20250718T110000
DTSTAMP:20260420T163237
CREATED:20250604T120923Z
LAST-MODIFIED:20250606T154704Z
UID:5014-1752489000-1752836400@erdkultura.hu
SUMMARY:Hangszeres előképző zeneovi 4-6 éveseknek!
DESCRIPTION:Minden foglalkozás 30 perces. Minden kedves érdeklődőt szeretettel várunk! \nJúlius 14-től 18-ig\, 10:30-11:00 \nÁr: 7500 Ft (Befizetésre az első órán van lehetőség!) \nJelentkezés: eve.toth@gmail.com
URL:https://erdkultura.hu/event/hangszeres-elokepzo-zeneovi-4-6-eveseknek/
LOCATION:PARKVÁROS\, Gépész u. 14.\, Érd\, 2030\, Magyarország
CATEGORIES:előadás,Parkváros,tanfolyam,zene
ATTACH;FMTTYPE=image/png:https://erdkultura.hu/wp-content/uploads/2025/06/IMG_8857.png
END:VEVENT
BEGIN:VEVENT
DTSTART;TZID=UTC:20250728T080000
DTEND;TZID=UTC:20250801T170000
DTSTAMP:20260420T163237
CREATED:20250505T074835Z
LAST-MODIFIED:20250520T085545Z
UID:4868-1753689600-1754067600@erdkultura.hu
SUMMARY:Színjátszó tábor a Parkvárosi Közösségi Házban!
DESCRIPTION:Színjátszó tábor a Parkvárosi Közösségi Házban! \nIdőpont: 2025. július 28. − augusztus 1. \nHelyszín: Parkvárosi Közösségi Ház | 2030 Érd\, Gépész utca 14. \nRészvételi díj (napi háromszori étkezéssel): 50.000 Ft \nJelentkezni a takacs.gabriella@szepesmk.hu e-mail címen lehet! \nA táborban Némedi-Varga Tímeától\, Trokán Annától és Havasi Tamástól tanulhatják meg a színjátszás fortélyait a 12−18 év közötti gyerekek. \n2025. augusztus 1-jén\, péntek délután a Parkvárosi Közösségi Ház színpadán premier előadással zárjuk a tábort!
URL:https://erdkultura.hu/event/szinjatszo-tabor-a-parkvarosi-kozossegi-hazban/
LOCATION:PARKVÁROS\, Gépész u. 14.\, Érd\, 2030\, Magyarország
CATEGORIES:előadás,Parkváros,tanfolyam
ATTACH;FMTTYPE=image/png:https://erdkultura.hu/wp-content/uploads/2025/05/WEB-3-scaled.png
END:VEVENT
END:VCALENDAR