BEGIN:VCALENDAR
VERSION:2.0
PRODID:-//ÉrdKultúra - ECPv6.8.0//NONSGML v1.0//EN
CALSCALE:GREGORIAN
METHOD:PUBLISH
X-ORIGINAL-URL:https://erdkultura.hu
X-WR-CALDESC:Events for ÉrdKultúra
REFRESH-INTERVAL;VALUE=DURATION:PT1H
X-Robots-Tag:noindex
X-PUBLISHED-TTL:PT1H
BEGIN:VTIMEZONE
TZID:UTC
BEGIN:STANDARD
TZOFFSETFROM:+0000
TZOFFSETTO:+0000
TZNAME:UTC
DTSTART:20250101T000000
END:STANDARD
END:VTIMEZONE
BEGIN:VEVENT
DTSTART;TZID=UTC:20250107T163000
DTEND;TZID=UTC:20250107T173000
DTSTAMP:20260421T003454
CREATED:20241211T095727Z
LAST-MODIFIED:20241211T095727Z
UID:3454-1736267400-1736271000@erdkultura.hu
SUMMARY:Szenior örömtánc tanfolyam kezdőknek-Érd
DESCRIPTION:SZENIOROKNAK kezdő tánc tanfolyam indul 2025. január 7-től Érden\, a Parkvárosi Közösségi Házban | 2030 Érd\, Gépész utca 14.\n\n55 év felett vagy? Szeretsz táncolni\, de nincs kivel?Gyere az „Érdi Szenior Örömtánc” csoportba.\n\nKeddenként\, 16:30-kor találkozunk\, ha még dolgozol\, akkor is csatlakozhass.\nTánctudás nem kell! Egyedül is jöhetsz\, csupán kényelmes váltócipőt hozz magaddal.Jó zenékre\, jó társaságban múlatjuk az időt hetente több alkalommal.\n\nRövid\, gyorsan tanulható\, lendületes táncokat táncolunk körben\, párban\, egyénileg (Line dance)\, és kis csoportokban is. Kíméletes tánclépések az izmainkhoz igazodó könnyed figurák.\nGyere\, és próbáld ki\, hátha megtetszik!A mozgásra egyre nagyobb szükségünk van az idő múlásával\, hogy megőrizhessük fittségünket.\n\nAz első alkalom január 7. kedd 16:30Első óra ingyenes.Regisztrálni Hollenczer Katalin tánctanárnál lehet telefonon 06-30-203-7155 vagy e-mailben hollenczer01@gmail.com
URL:https://erdkultura.hu/event/szenior-oromtanc-tanfolyam-kezdoknek-erd/
LOCATION:PARKVÁROS\, Gépész u. 14.\, Érd\, 2030\, Magyarország
CATEGORIES:Parkváros,tanfolyam
ATTACH;FMTTYPE=image/jpeg:https://erdkultura.hu/wp-content/uploads/2024/12/Erd-Tancv.-Vilma-st-scaled.jpg
END:VEVENT
BEGIN:VEVENT
DTSTART;TZID=UTC:20250111T090000
DTEND;TZID=UTC:20250111T130000
DTSTAMP:20260421T003454
CREATED:20241122T124000Z
LAST-MODIFIED:20241122T124000Z
UID:3279-1736586000-1736600400@erdkultura.hu
SUMMARY:Festőklub felnőtteknek
DESCRIPTION:Felnőtteknek szóló festőklub a Parkvárosi Közösségi Házban – havonta egyszer\, minden hónap második szombat délelőtt 9 órától 13 óráig \n  \nE festőklubon a teljesen kezdők és gyakorlottabbak is megtalálják az örömöt és a kihívást! \n  \nMinden alkalommal feszített vászonra\, akrilfestékkel készülnek a fő alkotások. \nA ragyogó színkörből színkeverési feladatokkal és festészeti technikákkal gazdagítjuk tudásunkat. \n  \nCélunk\, hogy egyediséget\, hangulatot\, érzéseket visszatükröző képek születhessenek\, miközben az alkotók a hétköznapi rutinból kikapcsolódnak\, az alkotási folyamat közben feltöltődnek. \nAz aktuális havi részletes program itt érhető el: https://bohemkuckom.hu/kreativfoglalkozasok/festoklub \n  \nÉrdeklődni és jelentkezni a fenti honlapon\, info@bohemkuckom.hu e-mail címen vagy Szegedy Tamaránál a 20/226-2853 telefonszámon lehet!
URL:https://erdkultura.hu/event/festoklub-felnotteknek-6/
LOCATION:PARKVÁROS\, Gépész u. 14.\, Érd\, 2030\, Magyarország
CATEGORIES:előadás,Parkváros,tanfolyam
ATTACH;FMTTYPE=image/jpeg:https://erdkultura.hu/wp-content/uploads/2024/11/Esemenykep_fb_felnott_20250111-2.jpg
END:VEVENT
BEGIN:VEVENT
DTSTART;TZID=UTC:20250111T150000
DTEND;TZID=UTC:20250111T170000
DTSTAMP:20260421T003454
CREATED:20241219T090133Z
LAST-MODIFIED:20250107T090755Z
UID:3581-1736607600-1736614800@erdkultura.hu
SUMMARY:Kiállítászáró családi nap Eőry Emil Eltemetett és megvalósult álmok című emlékkiállításban
DESCRIPTION:Kreatív foglalkozások 15:00-tól: rajzold meg a saját zoetrope szalagodat\, készíts kitűzőt Eőry Emil arcképével vagy alkosd meg önarcképedet a kiállítás anyagából ihletet merítve.\n\n18 órától közös\, szubjektív tárlatvezetésen vehettek részt\, ahol személyesen kapcsolódhatunk az alkotásokhoz és felfedezhetjük\, hogy milyen sokféleképpen szólíthatnak meg minket a kiállított művek\, kinek mit jelentenek.\n\nA hangulatról 17 órától Arany Gold Zoltán gondoskodik gramofonjával és hanglemezeivel.\n\nA szervezők a programváltozás jogát fenntartják.\nA programon résztvevők elfogadják a házirendet\, valamint elfogadják\, hogy a programon készült kép-\, hang- és videofelvételt a szervezők saját nyilvános felületeiken\, illetve egyéb médiafelületeken való megjelenés során felhasználhatnak. \nVárunk Benneteket!
URL:https://erdkultura.hu/event/eltemetett-es-megvalosult-almok-finisszazs/
LOCATION:GALÉRIA\, Alsó utca 2.\, Érd\, 2030\, Magyarország
CATEGORIES:előadás,Galéria,kiállítás,közönségtalálkozó,tanfolyam,zene
ATTACH;FMTTYPE=image/jpeg:https://erdkultura.hu/wp-content/uploads/2024/10/erdkulturahonlap_1200x680px_color3.jpg
END:VEVENT
BEGIN:VEVENT
DTSTART;TZID=UTC:20250115T080000
DTEND;TZID=UTC:20250115T170000
DTSTAMP:20260421T003454
CREATED:20241211T125103Z
LAST-MODIFIED:20241211T125137Z
UID:3459-1736928000-1736960400@erdkultura.hu
SUMMARY:Téli Tárlat 2025 - Felhívás
DESCRIPTION:
URL:https://erdkultura.hu/event/teli-tarlat-2025-felhivas/
LOCATION:GALÉRIA\, Alsó utca 2.\, Érd\, 2030\, Magyarország
CATEGORIES:Galéria,kiállítás,tanfolyam
ATTACH;FMTTYPE=image/png:https://erdkultura.hu/wp-content/uploads/2024/12/Felhivas-Teli-Tarlat-2025-csoportos-kepzomuveszeti-kiallitas-az-Erdi-Galeriaban-2025.-januar-24.-–-marcius-1.-Tisztelt-Alkotok-kedves-Muveszek-Az-Erdi-Galeria-Teli-Tarlat-2025-cimen-az-elmult-ev.png
END:VEVENT
BEGIN:VEVENT
DTSTART;TZID=UTC:20250116T000000
DTEND;TZID=UTC:20250116T000000
DTSTAMP:20260421T003454
CREATED:20250116T111437Z
LAST-MODIFIED:20250116T111649Z
UID:3749-1736985600-1736985600@erdkultura.hu
SUMMARY:Belső értékeink nyomában
DESCRIPTION:Önismeret\, személyiségfejlesztés \nA rendezvény az Idősen\, aktívan Érden programsorozat keretében kerül megrendezésre\, belépés az érdi 65 év felettiek számára ingyenes!
URL:https://erdkultura.hu/event/belso-ertekeink-nyomaban/
LOCATION:GALÉRIA\, Alsó utca 2.\, Érd\, 2030\, Magyarország
CATEGORIES:Galéria,közönségtalálkozó,tanfolyam
ATTACH;FMTTYPE=image/png:https://erdkultura.hu/wp-content/uploads/2025/01/Web-kep-11.png
END:VEVENT
BEGIN:VEVENT
DTSTART;TZID=UTC:20250118T090000
DTEND;TZID=UTC:20250118T130000
DTSTAMP:20260421T003454
CREATED:20241122T124137Z
LAST-MODIFIED:20241122T124137Z
UID:3282-1737190800-1737205200@erdkultura.hu
SUMMARY:Rajz-festő foglalkozás gyerekeknek
DESCRIPTION:Rajzos-festő foglalkozás gyerekeknek a Parkvárosi Közösségi Házban 2025-ben egzotikus állataink témában folytatódik! A fiatalok alkotói készségeinek fejlesztéséért\, kreatív gondolkodásuk támogatásáért! \nElső alkalommal január 18-án\, szombat délelőtt várom szeretettel az alkotásra nyitott\, rajzolni szerető gyermekeket! \nA foglalkozás reggel 9 órától 13 óráig tart. \nHavonta egy-egy újabb egzotikus állat kerül terítékre\, azaz papírra\, vászonra. \nSor kerül például a kenguru formás testére\, a tigris szőrős bundájára és a strucc mókás lábaira is! \nAz állatokat különböző technikákkal keltjük életre – rajzoljuk szénnel\, porpasztellel\, ceruzával\, illetve festjük akrilfestékkel vagy akvarellel\, tintával. A foglalkozásokon az állatokból mindenki egy pecsételésre alkalmas dúcot is készíthet magának. \nAz aktuális program részletei mindig a https://bohemkuckom.hu/kreativfoglalkozasok/festes-gyerekeknek oldalon olvashatóak. \nÉrdeklődni és jelentkezni a fenti honlapon\, info@bohemkuckom.hu e-mail címen vagy a 20/226-2853 telefonszámon lehet! \nVárom szeretettel a gyermekeket! Szegedy Tamara
URL:https://erdkultura.hu/event/rajz-festo-foglalkozas-gyerekeknek/
LOCATION:PARKVÁROS\, Gépész u. 14.\, Érd\, 2030\, Magyarország
CATEGORIES:előadás,Parkváros,tanfolyam
ATTACH;FMTTYPE=image/jpeg:https://erdkultura.hu/wp-content/uploads/2024/11/Esemenykep_fb_gyerek_20250118-2.jpg
END:VEVENT
BEGIN:VEVENT
DTSTART;TZID=UTC:20250129T180000
DTEND;TZID=UTC:20250129T200000
DTSTAMP:20260421T003454
CREATED:20250114T110340Z
LAST-MODIFIED:20250114T110340Z
UID:3734-1738173600-1738180800@erdkultura.hu
SUMMARY:Galéria Kreatív Műhely
DESCRIPTION:A Téli Tárlat 2025 alkotásaiból inspirálódva parafrázisokat készítünk vegyes technikával az alkotókedvű résztvevőkkel. A foglalkozáson való részvétel semmilyen művészeti előképzettséget vagy gyakorlatot nem kíván. \nA foglalkozást Rosta Helga múzeumpedagógus vezeti. \nA szervezők a programváltozás jogát fenntartják.\nA programon résztvevők elfogadják a házirendet\, valamint elfogadják\, hogy a programon készült kép-\, hang- és videofelvételt a szervezők saját nyilvános felületeiken\, illetve egyéb médiafelületeken való megjelenés során felhasználhatnak.
URL:https://erdkultura.hu/event/galeria-kreativ-muhely-2/
LOCATION:GALÉRIA\, Alsó utca 2.\, Érd\, 2030\, Magyarország
CATEGORIES:előadás,Galéria,kiállítás,tanfolyam
ATTACH;FMTTYPE=image/png:https://erdkultura.hu/wp-content/uploads/2025/01/Web-kep-7.png
END:VEVENT
END:VCALENDAR