BEGIN:VCALENDAR
VERSION:2.0
PRODID:-//ÉrdKultúra - ECPv6.8.0//NONSGML v1.0//EN
CALSCALE:GREGORIAN
METHOD:PUBLISH
X-WR-CALNAME:ÉrdKultúra
X-ORIGINAL-URL:https://erdkultura.hu
X-WR-CALDESC:Events for ÉrdKultúra
REFRESH-INTERVAL;VALUE=DURATION:PT1H
X-Robots-Tag:noindex
X-PUBLISHED-TTL:PT1H
BEGIN:VTIMEZONE
TZID:UTC
BEGIN:STANDARD
TZOFFSETFROM:+0000
TZOFFSETTO:+0000
TZNAME:UTC
DTSTART:20240101T000000
END:STANDARD
END:VTIMEZONE
BEGIN:VEVENT
DTSTART;TZID=UTC:20241107T150000
DTEND;TZID=UTC:20241107T170000
DTSTAMP:20260421T035520
CREATED:20241025T141651Z
LAST-MODIFIED:20241025T141651Z
UID:3006-1730991600-1730998800@erdkultura.hu
SUMMARY:Skiccek & sketchek - Alkotni az alkotás öröméért
DESCRIPTION:Scroll down for English! \nKiskamaszoknak és kamaszoknak is ajánljuk! \nSkiccek & sketchek – Alkotni az alkotás öröméért. Lágy és laza vonalakkal átrajzolni a bennünket körülvevő világot. Meditatív\, tudatos\, alkotó jelenlét minden csütörtökön a galériában. A foglalkozás angol nyelven zajlik\, alapfokú angollal könnyedén megérthető. \nA programjainkra a belépés díjtalan! Jelentkezési szándékát\, kérjük\, jelezze az erdigaleria@gmail.com e-mail címen.\n.\n.\n.\nRecommended for pre-teens and teens! \nSketches & Drawings – Creating for the joy of creation. Redrawing the world around us with soft and loose lines. A meditative\, mindful\, and creative presence every Thursday at the gallery. The sessions are conducted in English and can be easily understood with a basic knowledge. \nEntry to our programs is free! If you wish to register\, please do it by email via erdigaleria@gmail.com.
URL:https://erdkultura.hu/event/skiccek-sketchek-alkotni-az-alkotas-oromeert-3/
LOCATION:GALÉRIA\, Alsó utca 2.\, Érd\, 2030\, Magyarország
CATEGORIES:előadás,Galéria,kiállítás,tanfolyam
ATTACH;FMTTYPE=image/jpeg:https://erdkultura.hu/wp-content/uploads/2024/10/463826589_122221191002009095_2362865790013914015_n.jpg
END:VEVENT
BEGIN:VEVENT
DTSTART;TZID=UTC:20241107T163000
DTEND;TZID=UTC:20241107T180000
DTSTAMP:20260421T035520
CREATED:20241025T142051Z
LAST-MODIFIED:20241104T174511Z
UID:3011-1730997000-1731002400@erdkultura.hu
SUMMARY:Stitching - Lassú\, meditatív alkotás textilre hímzőfonallal
DESCRIPTION:Scroll down for English! \nKiskamaszoknak és kamaszoknak is ajánljuk! \nStiching – Lassú\, meditatív alkotás textilre hímzőfonallal. Csendes öltögetés fonallal\, alkotó hímzés a galériában. Felfrissítheted ruháidat\, készíthetsz könyvborítót is ezzel a technikával. A foglalkozás alapfokú angol nyelvtudással látogatható. \nA programjainkra a belépés díjtalan! Jelentkezési szándékát\, kérjük\, jelezze az erdigaleria@gmail.com e-mail címen.\n.\n.\n.\nRecommended for pre-teens and teens! \nStitching – Slow\, meditative creation on fabric with embroidery technique. Quiet stitching with thread\, creative embroidery at the gallery. You can refresh your clothes or create a book cover with this method. The session is accessible with a basic knowledge of English. \nEntry to our programs is free! If you wish to register\, please do it by email via erdigaleria@gmail.com.
URL:https://erdkultura.hu/event/stiching-lassu-meditativ-alkotas-textilre-himzofonallal-3/
LOCATION:GALÉRIA\, Alsó utca 2.\, Érd\, 2030\, Magyarország
CATEGORIES:előadás,Galéria,kiállítás,tanfolyam
ATTACH;FMTTYPE=image/jpeg:https://erdkultura.hu/wp-content/uploads/2024/10/464028271_122221191344009095_2639925575969241220_n-1.jpg
END:VEVENT
BEGIN:VEVENT
DTSTART;TZID=UTC:20241109T090000
DTEND;TZID=UTC:20241109T130000
DTSTAMP:20260421T035520
CREATED:20240824T092709Z
LAST-MODIFIED:20241024T100416Z
UID:2235-1731142800-1731157200@erdkultura.hu
SUMMARY:Festőklub felnőtteknek
DESCRIPTION:Felnőtteknek szóló festőklub a Parkvárosi Közösségi Házban – havonta egyszer\, minden hónap második szombat délelőtt 9 órától 13 óráig \nE festőklubon a teljesen kezdők és gyakorlottabbak is megtalálják az örömöt és a kihívást! \nMinden alkalommal feszített vászonra\, akrilfestékkel készülnek a fő alkotások. A ragyogó színkörből színkeverési feladatokkal és festészeti technikákkal gazdagítjuk tudásunkat. \nCélunk\, hogy egyediséget\, hangulatot\, érzéseket visszatükröző képek születhessenek\, miközben az alkotók a hétköznapi rutinból kikapcsolódnak\, az alkotási folyamat közben feltöltődnek. \nA program további részletei https://bohemkuckom.hu/kreativfoglalkozasok/festoklub oldalon olvashatóak. \nÉrdeklődni és jelentkezni a fenti honlapon\, info@bohemkuckom.hu e-mail címen vagy Szegedy Tamaránál a 20/226-2853 telefonszámon lehet!
URL:https://erdkultura.hu/event/festoklub-felnotteknek-4/
LOCATION:PARKVÁROS\, Gépész u. 14.\, Érd\, 2030\, Magyarország
CATEGORIES:előadás,Parkváros,tanfolyam
ATTACH;FMTTYPE=image/jpeg:https://erdkultura.hu/wp-content/uploads/2024/08/Erdkultura_kep2-1.jpg
END:VEVENT
BEGIN:VEVENT
DTSTART;TZID=UTC:20241109T190000
DTEND;TZID=UTC:20241109T200000
DTSTAMP:20260421T035520
CREATED:20241020T183442Z
LAST-MODIFIED:20241105T103323Z
UID:2964-1731178800-1731182400@erdkultura.hu
SUMMARY:Táncolnék veled-elmarad
DESCRIPTION:Elmarad \nFlamenco – tánclehetőség hölgyeknek a flamenco napja alkalmából! \nTánclehetőség egyedülállóknak és pároknak. Sajátítsátok el közismert táncok alapjait ismét egy fergeteges táncesten!  Széchenyi Petra és Széchenyi Krisztián mindketten a Táncművészeti Egyetemen végzett professzionális táncművészek\, akik Kanadától Japánig áttáncolták a világot és most itt vannak\, hogy nektek is tanítsanak néhány lépést. \nGyertek és kóstoljatok bele a különböző stílusokba\, hogy a következő buliban már ti lehessetek a táncparkett ördögei! Érdeklődés: +36703239285\, díj: 2500 Ft/fő
URL:https://erdkultura.hu/event/tancolnek-veled/
LOCATION:PARKVÁROS\, Gépész u. 14.\, Érd\, 2030\, Magyarország
CATEGORIES:Parkváros,tanfolyam
ATTACH;FMTTYPE=image/png:https://erdkultura.hu/wp-content/uploads/2024/10/FB-eemeny-borito-3.png
END:VEVENT
BEGIN:VEVENT
DTSTART;TZID=UTC:20241112T100000
DTEND;TZID=UTC:20241112T123000
DTSTAMP:20260421T035520
CREATED:20241018T155206Z
LAST-MODIFIED:20241018T155206Z
UID:2901-1731405600-1731414600@erdkultura.hu
SUMMARY:Belső értékeink nyomában - önismeret\, személyiségfejlesztés
DESCRIPTION:Belső értékeink nyomában – önismeret\, személyiségfejlesztés \nAz előadás az Idősen\, aktívan Érden programsorozat keretein belül kerül megrendezésre\, az érdi 65 év felettieknek a belépés ingyenes!
URL:https://erdkultura.hu/event/belso-ertekeink-nyomaban-onismeret-szemelyisegfejlesztes-2/
LOCATION:GALÉRIA\, Alsó utca 2.\, Érd\, 2030\, Magyarország
CATEGORIES:előadás,Galéria,Idősprogram,tanfolyam
ATTACH;FMTTYPE=image/png:https://erdkultura.hu/wp-content/uploads/2024/05/Web-kep-59.png
ORGANIZER;CN="Sz%C5%B1cs %C3%81gnes I SZEPES":MAILTO:szucs.agnes@erdkultura.hu
END:VEVENT
BEGIN:VEVENT
DTSTART;TZID=UTC:20241113T100000
DTEND;TZID=UTC:20241113T170000
DTSTAMP:20260421T035520
CREATED:20241018T150608Z
LAST-MODIFIED:20241106T134301Z
UID:2884-1731492000-1731517200@erdkultura.hu
SUMMARY:Senior Ki Mit Tud-Elmarad
DESCRIPTION:Nevezni a jelentkezési lap leadásával lehet november 6-ig! Az előadás az Idősen\, aktívan Érden programsorozat keretein belül kerül megrendezésre\, az érdi 65 év felettieknek a belépés ingyenes!
URL:https://erdkultura.hu/event/senior-ki-mit-tud/
LOCATION:SZEPES\, Alsó u. 9.\, Érd\, 2030\, Magyarország
CATEGORIES:előadás,Idősprogram,szepes,tanfolyam,zene
ATTACH;FMTTYPE=image/png:https://erdkultura.hu/wp-content/uploads/2024/10/Web-kep-6.png
ORGANIZER;CN="Sz%C5%B1cs %C3%81gnes I SZEPES":MAILTO:szucs.agnes@erdkultura.hu
END:VEVENT
BEGIN:VEVENT
DTSTART;TZID=UTC:20241113T180000
DTEND;TZID=UTC:20241113T200000
DTSTAMP:20260421T035520
CREATED:20241107T095732Z
LAST-MODIFIED:20241107T095732Z
UID:3138-1731520800-1731528000@erdkultura.hu
SUMMARY:Galéria Kreatív Műhely Valkó Gyula festőművésszel
DESCRIPTION:Galéria Kreatív Műhely Valkó Gyula festőművésszel november 13-án! \nEzen az alkalmon Valkó Gyula festőművész lesz velünk\, egy közös alkotásra. A következőkre számíthatunk: „A workshopon megkísérlem bemutatni az egyik általam gyakran használt kollázs-montázs technikát\, színes festett papírokkal\, vagy egyéb magazinokból\, újságokból újraalkotunk fekete-fehér\, vagy színes  képeket. Személyesebb\, bensőségesebb alkotásokat\, vázlatokat hozunk létre. Megkarcoljuk az absztrakció határait is\, segítségül hívjuk Josef Albers volt Bauhaus mester tematikus színdinamikáját is. De ha csak szeretnél kikapcsolódva\, játszva újragondolni kedvenc élményedet\, fényképedet\, valakiről\, valamiről\, akkor itt a helyed.”
URL:https://erdkultura.hu/event/galeria-kreativ-muhely-valko-gyula-festomuvesszel/
LOCATION:GALÉRIA\, Alsó utca 2.\, Érd\, 2030\, Magyarország
CATEGORIES:előadás,Galéria,kiállítás,tanfolyam
ATTACH;FMTTYPE=image/jpeg:https://erdkultura.hu/wp-content/uploads/2024/11/Pollock-scaled.jpg
END:VEVENT
BEGIN:VEVENT
DTSTART;TZID=UTC:20241114T150000
DTEND;TZID=UTC:20241114T170000
DTSTAMP:20260421T035520
CREATED:20241113T134817Z
LAST-MODIFIED:20241113T134817Z
UID:3199-1731596400-1731603600@erdkultura.hu
SUMMARY:Skiccek & sketchek - Alkotni az alkotás öröméért
DESCRIPTION:Scroll down for English! \nKiskamaszoknak és kamaszoknak is ajánljuk! \nSkiccek & sketchek – Alkotni az alkotás öröméért. Lágy és laza vonalakkal átrajzolni a bennünket körülvevő világot. Meditatív\, tudatos\, alkotó jelenlét minden csütörtökön a galériában. A foglalkozás angol nyelven zajlik\, alapfokú angollal könnyedén megérthető. \nA programjainkra a belépés díjtalan! Jelentkezési szándékát\, kérjük\, jelezze az erdigaleria@gmail.com e-mail címen.\n.\n.\n.\nRecommended for pre-teens and teens! \nSketches & Drawings – Creating for the joy of creation. Redrawing the world around us with soft and loose lines. A meditative\, mindful\, and creative presence every Thursday at the gallery. The sessions are conducted in English and can be easily understood with a basic knowledge. \nEntry to our programs is free! If you wish to register\, please do it by email via erdigaleria@gmail.com.
URL:https://erdkultura.hu/event/skiccek-sketchek-alkotni-az-alkotas-oromeert-4/
LOCATION:GALÉRIA\, Alsó utca 2.\, Érd\, 2030\, Magyarország
CATEGORIES:Galéria,kiállítás,tanfolyam
ATTACH;FMTTYPE=image/jpeg:https://erdkultura.hu/wp-content/uploads/2024/11/465445092_122223733460009095_4372676868168397444_n.jpg
END:VEVENT
BEGIN:VEVENT
DTSTART;TZID=UTC:20241114T163000
DTEND;TZID=UTC:20241114T170000
DTSTAMP:20260421T035520
CREATED:20241113T135041Z
LAST-MODIFIED:20241113T135041Z
UID:3204-1731601800-1731603600@erdkultura.hu
SUMMARY:Stitching - Lassú\, meditatív alkotás textilre hímzőfonallal
DESCRIPTION:Scroll down for English! \nKiskamaszoknak és kamaszoknak is ajánljuk! \nStiching – Lassú\, meditatív alkotás textilre hímzőfonallal. Csendes öltögetés fonallal\, alkotó hímzés a galériában. Felfrissítheted ruháidat\, készíthetsz könyvborítót is ezzel a technikával. A foglalkozás alapfokú angol nyelvtudással látogatható. \nA programjainkra a belépés díjtalan! Jelentkezési szándékát\, kérjük\, jelezze az erdigaleria@gmail.com e-mail címen.\n.\n.\n.\nRecommended for pre-teens and teens! \nStitching – Slow\, meditative creation on fabric with embroidery technique. Quiet stitching with thread\, creative embroidery at the gallery. You can refresh your clothes or create a book cover with this method. The session is accessible with a basic knowledge of English. \nEntry to our programs is free! If you wish to register\, please do it by email via erdigaleria@gmail.com.
URL:https://erdkultura.hu/event/stitching-lassu-meditativ-alkotas-textilre-himzofonallal/
LOCATION:GALÉRIA\, Alsó utca 2.\, Érd\, 2030\, Magyarország
CATEGORIES:előadás,Galéria,kiállítás,tanfolyam
ATTACH;FMTTYPE=image/jpeg:https://erdkultura.hu/wp-content/uploads/2024/11/464028271_122221191344009095_2639925575969241220_n.jpg
END:VEVENT
BEGIN:VEVENT
DTSTART;TZID=UTC:20241118T100000
DTEND;TZID=UTC:20241118T170000
DTSTAMP:20260421T035520
CREATED:20251021T114735Z
LAST-MODIFIED:20251021T114735Z
UID:6086-1731924000-1731949200@erdkultura.hu
SUMMARY:Senior Társasjáték- és Kártyaklub
DESCRIPTION:Az esemény az Idősen\, aktívan Érden programsorozat keretein belül kerül megrendezésre. \nA részvétel az érdi 65 év felettieknek ingyenes! \n  \nA szervezők a programváltozás jogát fenntartják.\nA programon résztvevők elfogadják a házirendet\, valamint elfogadják\, hogy a programon készült kép-\, hang- és videofelvételt a szervezők saját nyilvános felületeiken\, illetve egyéb médiafelületeken való megjelenés során felhasználhatnak.
URL:https://erdkultura.hu/event/senior-tarsasjatek-es-kartyaklub-5/
LOCATION:PARKVÁROS\, Gépész u. 14.\, Érd\, 2030\, Magyarország
CATEGORIES:előadás,Idősprogram,Parkváros,tanfolyam
ATTACH;FMTTYPE=image/png:https://erdkultura.hu/wp-content/uploads/2024/04/Web-kep-45.png
END:VEVENT
BEGIN:VEVENT
DTSTART;TZID=UTC:20241120T180000
DTEND;TZID=UTC:20241120T200000
DTSTAMP:20260421T035520
CREATED:20241107T100633Z
LAST-MODIFIED:20241107T100633Z
UID:3141-1732125600-1732132800@erdkultura.hu
SUMMARY:Galéria Kreatív Műhely Dudás Kriszta képzőművésszel
DESCRIPTION:Galéria Kreatív Műhely Dudás Kriszta képzőművésszel november 20-án! \nEzen a szerda estén Dudás Kriszta képzőművész lesz velünk.  Az Eőry Emil kiállításból\, önmagunkból és egymásból merítve ihletet\, kollázs technikával alkothatunk önarcképeket.
URL:https://erdkultura.hu/event/galeria-kreativ-muhely-dudas-kriszta-kepzomuvesszel/
LOCATION:GALÉRIA\, Alsó utca 2.\, Érd\, 2030\, Magyarország
CATEGORIES:előadás,Galéria,kiállítás,tanfolyam
ATTACH;FMTTYPE=image/jpeg:https://erdkultura.hu/wp-content/uploads/2024/11/image004.jpg
END:VEVENT
BEGIN:VEVENT
DTSTART;TZID=UTC:20241121T150000
DTEND;TZID=UTC:20241121T170000
DTSTAMP:20260421T035520
CREATED:20241113T134921Z
LAST-MODIFIED:20241113T134921Z
UID:3202-1732201200-1732208400@erdkultura.hu
SUMMARY:Skiccek & sketchek - Alkotni az alkotás öröméért
DESCRIPTION:Scroll down for English! \nKiskamaszoknak és kamaszoknak is ajánljuk! \nSkiccek & sketchek – Alkotni az alkotás öröméért. Lágy és laza vonalakkal átrajzolni a bennünket körülvevő világot. Meditatív\, tudatos\, alkotó jelenlét minden csütörtökön a galériában. A foglalkozás angol nyelven zajlik\, alapfokú angollal könnyedén megérthető. \nA programjainkra a belépés díjtalan! Jelentkezési szándékát\, kérjük\, jelezze az erdigaleria@gmail.com e-mail címen.\n.\n.\n.\nRecommended for pre-teens and teens! \nSketches & Drawings – Creating for the joy of creation. Redrawing the world around us with soft and loose lines. A meditative\, mindful\, and creative presence every Thursday at the gallery. The sessions are conducted in English and can be easily understood with a basic knowledge. \nEntry to our programs is free! If you wish to register\, please do it by email via erdigaleria@gmail.com.
URL:https://erdkultura.hu/event/skiccek-sketchek-alkotni-az-alkotas-oromeert-5/
LOCATION:GALÉRIA\, Alsó utca 2.\, Érd\, 2030\, Magyarország
CATEGORIES:Galéria,kiállítás,tanfolyam
ATTACH;FMTTYPE=image/jpeg:https://erdkultura.hu/wp-content/uploads/2024/11/465445092_122223733460009095_4372676868168397444_n.jpg
END:VEVENT
BEGIN:VEVENT
DTSTART;TZID=UTC:20241121T163000
DTEND;TZID=UTC:20241121T170000
DTSTAMP:20260421T035520
CREATED:20241113T135159Z
LAST-MODIFIED:20241113T135159Z
UID:3207-1732206600-1732208400@erdkultura.hu
SUMMARY:Stitching - Lassú\, meditatív alkotás textilre hímzőfonallal
DESCRIPTION:Scroll down for English! \nKiskamaszoknak és kamaszoknak is ajánljuk! \nStiching – Lassú\, meditatív alkotás textilre hímzőfonallal. Csendes öltögetés fonallal\, alkotó hímzés a galériában. Felfrissítheted ruháidat\, készíthetsz könyvborítót is ezzel a technikával. A foglalkozás alapfokú angol nyelvtudással látogatható. \nA programjainkra a belépés díjtalan! Jelentkezési szándékát\, kérjük\, jelezze az erdigaleria@gmail.com e-mail címen.\n.\n.\n.\nRecommended for pre-teens and teens! \nStitching – Slow\, meditative creation on fabric with embroidery technique. Quiet stitching with thread\, creative embroidery at the gallery. You can refresh your clothes or create a book cover with this method. The session is accessible with a basic knowledge of English. \nEntry to our programs is free! If you wish to register\, please do it by email via erdigaleria@gmail.com.
URL:https://erdkultura.hu/event/stitching-lassu-meditativ-alkotas-textilre-himzofonallal-2/
LOCATION:GALÉRIA\, Alsó utca 2.\, Érd\, 2030\, Magyarország
CATEGORIES:Galéria,kiállítás,tanfolyam
ATTACH;FMTTYPE=image/jpeg:https://erdkultura.hu/wp-content/uploads/2024/11/464028271_122221191344009095_2639925575969241220_n.jpg
END:VEVENT
BEGIN:VEVENT
DTSTART;TZID=UTC:20241121T170000
DTEND;TZID=UTC:20241121T183000
DTSTAMP:20260421T035520
CREATED:20241018T155515Z
LAST-MODIFIED:20241018T155515Z
UID:2903-1732208400-1732213800@erdkultura.hu
SUMMARY:IRKA
DESCRIPTION:Az érdi Irodalomkedvelők klubjának havi programja \nKlubvezető: Daróczi Lajosné
URL:https://erdkultura.hu/event/irka-2/
LOCATION:GALÉRIA\, Alsó utca 2.\, Érd\, 2030\, Magyarország
CATEGORIES:előadás,Galéria,Idősprogram,tanfolyam
ATTACH;FMTTYPE=image/png:https://erdkultura.hu/wp-content/uploads/2024/03/Web-kep-23.png
END:VEVENT
BEGIN:VEVENT
DTSTART;TZID=UTC:20241129T110000
DTEND;TZID=UTC:20241129T130000
DTSTAMP:20260421T035520
CREATED:20241029T183946Z
LAST-MODIFIED:20241029T183946Z
UID:3054-1732878000-1732885200@erdkultura.hu
SUMMARY:Gátizomtorna gyakorló órák ÉRDEN
DESCRIPTION:Tanfolyamot végzetteknek egy kis motivációs együtt gyakorlás.\nInkontinencia\, süllyedések\, önbizalomhiány\, székrekedés\, aranyér\, stressz\, lelki problémák\, változókor\, a nőiség megélése\, párkapcsolat erősítése\, orgazmus fejlesztés…….vagy megelőzésre kaptad az egyéni tornád a tanfolyam után?Most együtt újra átvesszük\, bíztatjuk egymást\, csoport energiával dolgozunk\, hogy újra lendületbe kerüljünk.\n2 dátum közül választhatsz vagy akár mindlkettőre eljöhetsz:november 8-án 11:00november 29-én 11:00\nBejelentkezés szükséges!\nHelyszín:Érd-Parkvárosi közösségi ház\nDíj: 3000 Ft\n\n\nBEJELENTKEZÉS:Tóth Évi 0620 9563 364\, evifitness.hu@gmail.comwww.evifitness.hu
URL:https://erdkultura.hu/event/gatizomtorna-gyakorlo-orak-erden/
LOCATION:PARKVÁROS\, Gépész u. 14.\, Érd\, 2030\, Magyarország
CATEGORIES:Parkváros,tanfolyam
ATTACH;FMTTYPE=image/jpeg:https://erdkultura.hu/wp-content/uploads/2024/10/gatizom-torna-nov-29.jpg
END:VEVENT
BEGIN:VEVENT
DTSTART;TZID=UTC:20241129T173000
DTEND;TZID=UTC:20241129T190000
DTSTAMP:20260421T035520
CREATED:20241018T154847Z
LAST-MODIFIED:20241122T145023Z
UID:2899-1732901400-1732906800@erdkultura.hu
SUMMARY:Szubjektív tárlatvezetés Karsch Manfred festőművésszel Eőry Emil Eltemetett és megvalósult álmok c. emlékkiállításában
DESCRIPTION:A rendezvény elmarad! \nSzubjektív tárlatvezetés Karsch Manfred festőművésszel Eőry Emil Eltemetett és megvalósult álmok c. emlékkiállításában. \nA programon a részvétel ingyenes.
URL:https://erdkultura.hu/event/szubjektiv-tarlatvezetes-karsch-manfred-festomuvesszel-eory-emil-eltemetett-es-megvalosult-almok-c-emlekkiallitasaban/
LOCATION:GALÉRIA\, Alsó utca 2.\, Érd\, 2030\, Magyarország
CATEGORIES:előadás,Galéria,kiállítás,tanfolyam
ATTACH;FMTTYPE=image/jpeg:https://erdkultura.hu/wp-content/uploads/2024/09/fb_960x502px_event_altalanos_color1.jpg
END:VEVENT
END:VCALENDAR