BEGIN:VCALENDAR
VERSION:2.0
PRODID:-//ÉrdKultúra - ECPv6.8.0//NONSGML v1.0//EN
CALSCALE:GREGORIAN
METHOD:PUBLISH
X-ORIGINAL-URL:https://erdkultura.hu
X-WR-CALDESC:Events for ÉrdKultúra
REFRESH-INTERVAL;VALUE=DURATION:PT1H
X-Robots-Tag:noindex
X-PUBLISHED-TTL:PT1H
BEGIN:VTIMEZONE
TZID:UTC
BEGIN:STANDARD
TZOFFSETFROM:+0000
TZOFFSETTO:+0000
TZNAME:UTC
DTSTART:20240101T000000
END:STANDARD
END:VTIMEZONE
BEGIN:VEVENT
DTSTART;TZID=UTC:20241123T090000
DTEND;TZID=UTC:20241123T130000
DTSTAMP:20260422T001332
CREATED:20241020T184539Z
LAST-MODIFIED:20241020T184539Z
UID:2966-1732352400-1732366800@erdkultura.hu
SUMMARY:Rajzos-festő foglalkozás gyerekeknek
DESCRIPTION:Rajzos-festő foglalkozás gyerekeknek a Parkvárosi Közösségi Házban – szeptember 21-én\, október 19-én\, november 23-án; szombat délelőtt 9 órától 13 óráig \nA foglalkozások témája nem egymásra épül\, lehet 1-1 alkalommal is jönni. \n7 – 12 éves\, alkotásra nyitott gyermekeket várom szeretettel! \nA foglalkozásokon festünk akrilfestékkel\, akvarellel. A száraz technikák közül olajpasztell\, szén és porpasztell illetve kollázstechnika rejtelmeiben merülünk el. A program további részletei  Festés gyerekeknek – bohemkuckom.hu oldalon olvashatóak. Érdeklődni és jelentkezni a fenti honlapon\, info@bohemkuckom.hu e-mail címen vagy Szegedy Tamaránál a 20/226-2853 telefonszámon lehet!
URL:https://erdkultura.hu/event/festo-foglalkozas-gyerekeknek3/
LOCATION:PARKVÁROS\, Gépész u. 14.\, Érd\, 2030\, Magyarország
CATEGORIES:Parkváros
ATTACH;FMTTYPE=image/jpeg:https://erdkultura.hu/wp-content/uploads/2024/09/Esemenykep_fb_0921_1019_1123-1.jpg
END:VEVENT
BEGIN:VEVENT
DTSTART;TZID=UTC:20241124T160000
DTEND;TZID=UTC:20241124T170000
DTSTAMP:20260422T001332
CREATED:20241028T143942Z
LAST-MODIFIED:20241105T155809Z
UID:3031-1732464000-1732467600@erdkultura.hu
SUMMARY:Hétvégi Ringató Érden
DESCRIPTION:Ha már bölcsis lett és nem tudtok délelőtti programokra járni\, akkor várunk szeretettel a hétvégi családi Ringattóra. Jöhet Édesapa\, Édesany\, Nagymama\, nagy tesó! \nNem szükséges bejelentkezni! \nCsaládi belépő: 2000 Ft
URL:https://erdkultura.hu/event/hetvegi-ringato-erden/
LOCATION:PARKVÁROS\, Gépész u. 14.\, Érd\, 2030\, Magyarország
CATEGORIES:Parkváros
ATTACH;FMTTYPE=image/png:https://erdkultura.hu/wp-content/uploads/2024/10/Nevtelen-terv-2.png
END:VEVENT
BEGIN:VEVENT
DTSTART;TZID=UTC:20241127T100000
DTEND;TZID=UTC:20241127T120000
DTSTAMP:20260422T001332
CREATED:20241020T185825Z
LAST-MODIFIED:20241020T185825Z
UID:2968-1732701600-1732708800@erdkultura.hu
SUMMARY:Senior könyvklub
DESCRIPTION:Naomi Krupitsky – A család \nAz előadás az Idősen\, aktívan Érden programsorozat keretein belül kerül megrendezésre\, az érdi 65 év felettieknek a belépés ingyenes!
URL:https://erdkultura.hu/event/senior-konyvklub-3/
LOCATION:PARKVÁROS\, Gépész u. 14.\, Érd\, 2030\, Magyarország
CATEGORIES:Idősprogram,Parkváros
ATTACH;FMTTYPE=image/jpeg:https://erdkultura.hu/wp-content/uploads/2024/01/ERD_SKC.jpg
ORGANIZER;CN="Sz%C5%B1cs %C3%81gnes I SZEPES":MAILTO:szucs.agnes@erdkultura.hu
END:VEVENT
BEGIN:VEVENT
DTSTART;TZID=UTC:20241128T110000
DTEND;TZID=UTC:20241128T130000
DTSTAMP:20260422T001332
CREATED:20241020T190257Z
LAST-MODIFIED:20241020T190257Z
UID:2970-1732791600-1732798800@erdkultura.hu
SUMMARY:Szárnyaló Sólymok Haikucsoport
DESCRIPTION:Minden kedves érdeklődőt szeretettel várunk!
URL:https://erdkultura.hu/event/szarnyalo-solymok-haikucsoport-5/
LOCATION:PARKVÁROS\, Gépész u. 14.\, Érd\, 2030\, Magyarország
CATEGORIES:Parkváros
ATTACH;FMTTYPE=image/png:https://erdkultura.hu/wp-content/uploads/2024/03/Web-kep-20.png
END:VEVENT
BEGIN:VEVENT
DTSTART;TZID=UTC:20241128T140000
DTEND;TZID=UTC:20241128T150000
DTSTAMP:20260422T001332
CREATED:20241020T190506Z
LAST-MODIFIED:20241020T190506Z
UID:2972-1732802400-1732806000@erdkultura.hu
SUMMARY:Eszterlánc
DESCRIPTION:„Merre jártál tegnap este?” – örökzöldekkel a világ körül \nIngyenes klubdélután! Minden érdeklődőt szeretettel várunk!
URL:https://erdkultura.hu/event/eszterlanc/
LOCATION:PARKVÁROS\, Gépész u. 14.\, Érd\, 2030\, Magyarország
CATEGORIES:Parkváros
ATTACH;FMTTYPE=image/jpeg:https://erdkultura.hu/wp-content/uploads/2024/03/1711469682181_xpsh3l_2_0.jpg
END:VEVENT
BEGIN:VEVENT
DTSTART;TZID=UTC:20241129T100000
DTEND;TZID=UTC:20241129T110000
DTSTAMP:20260422T001332
CREATED:20241028T145528Z
LAST-MODIFIED:20241028T145644Z
UID:3034-1732874400-1732878000@erdkultura.hu
SUMMARY:Az igazi mikulás
DESCRIPTION:Ametist Bábszínház előadása \nZenés bábelőadás élő Mikulással
URL:https://erdkultura.hu/event/az-igazi-mikulas/
LOCATION:PARKVÁROS\, Gépész u. 14.\, Érd\, 2030\, Magyarország
CATEGORIES:előadás,Parkváros
ATTACH;FMTTYPE=image/png:https://erdkultura.hu/wp-content/uploads/2024/10/Web-kep-19.png
END:VEVENT
BEGIN:VEVENT
DTSTART;TZID=UTC:20241129T110000
DTEND;TZID=UTC:20241129T130000
DTSTAMP:20260422T001332
CREATED:20241029T183946Z
LAST-MODIFIED:20241029T183946Z
UID:3054-1732878000-1732885200@erdkultura.hu
SUMMARY:Gátizomtorna gyakorló órák ÉRDEN
DESCRIPTION:Tanfolyamot végzetteknek egy kis motivációs együtt gyakorlás.\nInkontinencia\, süllyedések\, önbizalomhiány\, székrekedés\, aranyér\, stressz\, lelki problémák\, változókor\, a nőiség megélése\, párkapcsolat erősítése\, orgazmus fejlesztés…….vagy megelőzésre kaptad az egyéni tornád a tanfolyam után?Most együtt újra átvesszük\, bíztatjuk egymást\, csoport energiával dolgozunk\, hogy újra lendületbe kerüljünk.\n2 dátum közül választhatsz vagy akár mindlkettőre eljöhetsz:november 8-án 11:00november 29-én 11:00\nBejelentkezés szükséges!\nHelyszín:Érd-Parkvárosi közösségi ház\nDíj: 3000 Ft\n\n\nBEJELENTKEZÉS:Tóth Évi 0620 9563 364\, evifitness.hu@gmail.comwww.evifitness.hu
URL:https://erdkultura.hu/event/gatizomtorna-gyakorlo-orak-erden/
LOCATION:PARKVÁROS\, Gépész u. 14.\, Érd\, 2030\, Magyarország
CATEGORIES:Parkváros,tanfolyam
ATTACH;FMTTYPE=image/jpeg:https://erdkultura.hu/wp-content/uploads/2024/10/gatizom-torna-nov-29.jpg
END:VEVENT
BEGIN:VEVENT
DTSTART;TZID=UTC:20241130T150000
DTEND;TZID=UTC:20241130T160000
DTSTAMP:20260422T001332
CREATED:20241104T134950Z
LAST-MODIFIED:20241104T134950Z
UID:3100-1732978800-1732982400@erdkultura.hu
SUMMARY:Adventi zenés délután
DESCRIPTION:Slágerek\, kuplék\, örökzöldek. Várjuk a KARÁCSONYT mosolygósan\, vidáman a dallamok szárnyán. \nKoncerten felcsendülő dallamok: Fehér karácsony\,Kicsike vigyázzon\,Meseautó\,Egy rendes férj\,Maga nős ember\,Emanuelle\,Oda vagyok magáért\,Lazítani\,stb… \nKözreműködik: Némedi-Varga Tímea és Gergely Róbert \nJegyek a helyszínen és elővételben a Parkvárosi Közösségi Házban válthatóak!
URL:https://erdkultura.hu/event/adventi-zenes-delutan/
LOCATION:PARKVÁROS\, Gépész u. 14.\, Érd\, 2030\, Magyarország
CATEGORIES:Parkváros,zene
ATTACH;FMTTYPE=image/png:https://erdkultura.hu/wp-content/uploads/2024/11/Kepernyokep-2024-10-25-103337.png
END:VEVENT
BEGIN:VEVENT
DTSTART;TZID=UTC:20241205T160000
DTEND;TZID=UTC:20241205T170000
DTSTAMP:20260422T001332
CREATED:20241112T133048Z
LAST-MODIFIED:20241114T144335Z
UID:3187-1733414400-1733418000@erdkultura.hu
SUMMARY:Csodavilág gyerekkoncert-ÉRD
DESCRIPTION:Várjuk a Mikulás közös énekléssel!\n\nA koncert ingyenes\, de regisztrációhoz kötött. A regisztrációs jegyeket át tudják venni a Parkvárosi Közösségi Házban nyitvatartási időben
URL:https://erdkultura.hu/event/csodavilag-gyermekkoncert-erd/
LOCATION:PARKVÁROS\, Gépész u. 14.\, Érd\, 2030\, Magyarország
CATEGORIES:Parkváros
ATTACH;FMTTYPE=image/png:https://erdkultura.hu/wp-content/uploads/2024/11/csodavilag-koncert.png
END:VEVENT
BEGIN:VEVENT
DTSTART;TZID=UTC:20241205T170000
DTEND;TZID=UTC:20241205T190000
DTSTAMP:20260422T001332
CREATED:20241112T092014Z
LAST-MODIFIED:20241114T144433Z
UID:3180-1733418000-1733425200@erdkultura.hu
SUMMARY:Fotózkodj az igazi Mikulással!
DESCRIPTION:Várjuk együtt a Mikulást!17 órától vár benneteket az igazi MikulásGyertek és készítsetek vele képet\nRegisztráció szükséges: keszei.virag@szepesmk.hu
URL:https://erdkultura.hu/event/fotozkodj-az-igazi-mikulassal/
LOCATION:PARKVÁROS\, Gépész u. 14.\, Érd\, 2030\, Magyarország
CATEGORIES:Parkváros
ATTACH;FMTTYPE=image/png:https://erdkultura.hu/wp-content/uploads/2024/11/FB-eemeny-borito-13.png
END:VEVENT
BEGIN:VEVENT
DTSTART;TZID=UTC:20241207T180000
DTEND;TZID=UTC:20241207T200000
DTSTAMP:20260422T001332
CREATED:20241107T160609Z
LAST-MODIFIED:20241107T160609Z
UID:3150-1733594400-1733601600@erdkultura.hu
SUMMARY:Sváb táncház
DESCRIPTION:Sváb\, osztrák\, német táncok tanulása oktatóval\, közös tánccal  \nMinden érdeklődőt szerettel várunk\, a belépés ingyenes!  \nKontakt: Gabriella Schillinger schillinger.gabriella@gmail.com 
URL:https://erdkultura.hu/event/svab-tanchaz-3/
LOCATION:PARKVÁROS\, Gépész u. 14.\, Érd\, 2030\, Magyarország
CATEGORIES:Parkváros
ATTACH;FMTTYPE=image/png:https://erdkultura.hu/wp-content/uploads/2024/08/Web-kep-83.png
END:VEVENT
BEGIN:VEVENT
DTSTART;TZID=UTC:20241213T100000
DTEND;TZID=UTC:20241213T143000
DTSTAMP:20260422T001332
CREATED:20241128T143521Z
LAST-MODIFIED:20241128T143521Z
UID:3357-1734084000-1734100200@erdkultura.hu
SUMMARY:Karácsonyi kézműves foglalkozás
DESCRIPTION:Regisztráció szükséges! \nAz esemény az Idősen\, aktívan\, Érden programsorozat keretein belül kerül megrendezésre. Az érdi 65 év felettiek számára a programon a részvétel ingyenes!
URL:https://erdkultura.hu/event/karacsonyi-kezmuves-foglalkozas/
LOCATION:PARKVÁROS\, Gépész u. 14.\, Érd\, 2030\, Magyarország
CATEGORIES:előadás,Idősprogram,Parkváros,tanfolyam
ATTACH;FMTTYPE=image/png:https://erdkultura.hu/wp-content/uploads/2024/11/FB-eemeny-borito-13-1.png
END:VEVENT
BEGIN:VEVENT
DTSTART;TZID=UTC:20241214T090000
DTEND;TZID=UTC:20241214T130000
DTSTAMP:20260422T001332
CREATED:20240824T092823Z
LAST-MODIFIED:20241024T100513Z
UID:2237-1734166800-1734181200@erdkultura.hu
SUMMARY:Festőklub felnőtteknek
DESCRIPTION:Felnőtteknek szóló festőklub a Parkvárosi Közösségi Házban – havonta egyszer\, minden hónap második szombat délelőtt 9 órától 13 óráig \nE festőklubon a teljesen kezdők és gyakorlottabbak is megtalálják az örömöt és a kihívást! \nMinden alkalommal feszített vászonra\, akrilfestékkel készülnek a fő alkotások. A ragyogó színkörből színkeverési feladatokkal és festészeti technikákkal gazdagítjuk tudásunkat. \nCélunk\, hogy egyediséget\, hangulatot\, érzéseket visszatükröző képek születhessenek\, miközben az alkotók a hétköznapi rutinból kikapcsolódnak\, az alkotási folyamat közben feltöltődnek. \nA program további részletei https://bohemkuckom.hu/kreativfoglalkozasok/festoklub oldalon olvashatóak. \nÉrdeklődni és jelentkezni a fenti honlapon\, info@bohemkuckom.hu e-mail címen vagy Szegedy Tamaránál a 20/226-2853 telefonszámon lehet!
URL:https://erdkultura.hu/event/festoklub-felnotteknek-5/
LOCATION:PARKVÁROS\, Gépész u. 14.\, Érd\, 2030\, Magyarország
CATEGORIES:előadás,Parkváros,tanfolyam
ATTACH;FMTTYPE=image/jpeg:https://erdkultura.hu/wp-content/uploads/2024/08/Erdkultura_kep2-1.jpg
END:VEVENT
BEGIN:VEVENT
DTSTART;TZID=UTC:20241214T140000
DTEND;TZID=UTC:20241214T170000
DTSTAMP:20260422T001332
CREATED:20241213T165820Z
LAST-MODIFIED:20241213T170458Z
UID:3537-1734184800-1734195600@erdkultura.hu
SUMMARY:TommyLill Projekt Gála
DESCRIPTION:Dakos Lilla és Ádám Tamás zongora és dobiskolájának gála koncertje
URL:https://erdkultura.hu/event/tomy-lill-projekt-gala/
LOCATION:PARKVÁROS\, Gépész u. 14.\, Érd\, 2030\, Magyarország
CATEGORIES:Parkváros,zene
ATTACH;FMTTYPE=image/jpeg:https://erdkultura.hu/wp-content/uploads/2024/12/469645814_1143713960635317_288358360051181123_n.jpg
END:VEVENT
BEGIN:VEVENT
DTSTART;TZID=UTC:20241215T140000
DTEND;TZID=UTC:20241215T170000
DTSTAMP:20260422T001332
CREATED:20241213T170417Z
LAST-MODIFIED:20241213T170417Z
UID:3539-1734271200-1734282000@erdkultura.hu
SUMMARY:KISS-gitársuli év végi koncert
DESCRIPTION:Tanulók év végi koncertje.
URL:https://erdkultura.hu/event/kiss-gitarsuli-ev-vegi-koncert/
LOCATION:PARKVÁROS\, Gépész u. 14.\, Érd\, 2030\, Magyarország
CATEGORIES:Parkváros,zene
ATTACH;FMTTYPE=image/png:https://erdkultura.hu/wp-content/uploads/2024/12/FB-eemeny-borito-18.png
END:VEVENT
BEGIN:VEVENT
DTSTART;TZID=UTC:20241217T100000
DTEND;TZID=UTC:20241217T120000
DTSTAMP:20260422T001332
CREATED:20241209T094332Z
LAST-MODIFIED:20241209T094423Z
UID:3387-1734429600-1734436800@erdkultura.hu
SUMMARY:Senior Társasjáték és Kártyaklub
DESCRIPTION:Az esemény az Idősen\, aktívan Érden programsorozat keretein belül kerül megrendezésre. \nA részvétel az érdi 65 év felettieknek ingyenes!
URL:https://erdkultura.hu/event/senior-tarsasjatek-es-kartyaklub-3/
LOCATION:PARKVÁROS\, Gépész u. 14.\, Érd\, 2030\, Magyarország
CATEGORIES:Idősprogram,Parkváros
ATTACH;FMTTYPE=image/png:https://erdkultura.hu/wp-content/uploads/2024/04/Web-kep-45.png
ORGANIZER;CN="Sz%C5%B1cs %C3%81gnes I SZEPES":MAILTO:szucs.agnes@erdkultura.hu
END:VEVENT
BEGIN:VEVENT
DTSTART;TZID=UTC:20241218T100000
DTEND;TZID=UTC:20241218T120000
DTSTAMP:20260422T001332
CREATED:20241209T094803Z
LAST-MODIFIED:20241209T094803Z
UID:3389-1734516000-1734523200@erdkultura.hu
SUMMARY:Senior Könyvklub
DESCRIPTION:Havasi Juli – Papírbabák \nAz esemény az Idősen\, aktívan Érden programsorozat keretein belül kerül megrendezésre.
URL:https://erdkultura.hu/event/senior-konyvklub-4/
LOCATION:PARKVÁROS\, Gépész u. 14.\, Érd\, 2030\, Magyarország
CATEGORIES:Idősprogram,Parkváros
ATTACH;FMTTYPE=image/jpeg:https://erdkultura.hu/wp-content/uploads/2024/01/ERD_SKC.jpg
ORGANIZER;CN="Sz%C5%B1cs %C3%81gnes I SZEPES":MAILTO:szucs.agnes@erdkultura.hu
END:VEVENT
BEGIN:VEVENT
DTSTART;TZID=UTC:20241218T160000
DTEND;TZID=UTC:20241218T183000
DTSTAMP:20260422T001332
CREATED:20241213T162450Z
LAST-MODIFIED:20241213T162450Z
UID:3520-1734537600-1734546600@erdkultura.hu
SUMMARY:Házkarácsony
DESCRIPTION:Egy mosoly\, egy találkozás\, egy nevetés mindig jól jön! No és sok mosoly\, sok nevetés?! 🧑‍🎄🎅 \nAlkotó tevékenységünknek otthont adó Parkvárosi Közösség Ház 🏘️ idei Házkarácsonyára várom szeretettel a felnőtt festőklub és gyermekek rajzos-festő foglalkozásainak résztvevőit! \nEzen az összejövetelen a Házban tevékenykedő rendszeres foglalkozások mutatkoznak be\, előadásaikkal szórakoztatják egymást. \nLesz versenytánc produkció kisebbektől\, zumba ízelítő nagyobbaktól és a senior tánccsoport fellépését is megnézhetjük! \nKözkívánatra a festőklubok alkotásaiból összeállítást készítettem\, melyet egy óriás kivetítő segítségével mutatunk meg a résztvevőknek. \nLesz büféasztal is\, melyet mi töltünk fel! 🧁\nAjánlott “beugró” gyermekek részéről egy valamilyen innivaló\, felnőttek részéről kis sütemény. \nA Közösségi Ház dolgozóival szeretettel várlak Benneteket! 😍 \nGyertek nézzük meg együtt a táncosok\, sportolók bemutatóját és hozzuk ámulatba őket a mi festményeinkkel! \nKezdődjön a karácsonyi ünnepsorozat egy vidám\, színes\, fergeteges találkozással! 🌲 \nAki már tudja\, hogy jön\, gyermek és/vagy felnőtt egyaránt\, kérlek jelezze nekem! \nSzeretettel várlak Benneteket!\nTamara
URL:https://erdkultura.hu/event/hazkaracsony/
LOCATION:PARKVÁROS\, Gépész u. 14.\, Érd\, 2030\, Magyarország
CATEGORIES:előadás,Parkváros,tanfolyam,zene
ATTACH;FMTTYPE=image/jpeg:https://erdkultura.hu/wp-content/uploads/2024/12/467612762_1351254389482056_4931896169702164744_n.jpg
END:VEVENT
BEGIN:VEVENT
DTSTART;TZID=UTC:20241219T140000
DTEND;TZID=UTC:20241219T150000
DTSTAMP:20260422T001332
CREATED:20241107T160950Z
LAST-MODIFIED:20241107T160950Z
UID:3152-1734616800-1734620400@erdkultura.hu
SUMMARY:Eszterlánc
DESCRIPTION:„Angyal száll ma közénk” – ünnepváró karácsonyi dallamok. \nMinden hónap utolsó csütörtök délutánján\, változó zenés műsorral várja Szigeti Eszter a kikapcsolódásra vágyó érdeklődőket. \nA részvétel ingyenes! Minden érdeklődőt szeretettel várunk!
URL:https://erdkultura.hu/event/eszterlanc-2/
LOCATION:PARKVÁROS\, Gépész u. 14.\, Érd\, 2030\, Magyarország
CATEGORIES:Parkváros,zene
ATTACH;FMTTYPE=image/jpeg:https://erdkultura.hu/wp-content/uploads/2024/03/1711469682181_xpsh3l_2_0.jpg
END:VEVENT
BEGIN:VEVENT
DTSTART;TZID=UTC:20241220T160000
DTEND;TZID=UTC:20241220T170000
DTSTAMP:20260422T001332
CREATED:20241213T163144Z
LAST-MODIFIED:20241213T163144Z
UID:3524-1734710400-1734714000@erdkultura.hu
SUMMARY:Görög karácsony
DESCRIPTION:Az Érdi Görög Nemzetiségi Önkormányzat karácsonyi ünnepsége.
URL:https://erdkultura.hu/event/gorog-karacsony/
LOCATION:PARKVÁROS\, Gépész u. 14.\, Érd\, 2030\, Magyarország
CATEGORIES:előadás,Parkváros,tanfolyam,zene
ATTACH;FMTTYPE=image/png:https://erdkultura.hu/wp-content/uploads/2024/12/FB-eemeny-borito-17.png
END:VEVENT
BEGIN:VEVENT
DTSTART;TZID=UTC:20241228T180000
DTEND;TZID=UTC:20241228T180000
DTSTAMP:20260422T001332
CREATED:20241213T163302Z
LAST-MODIFIED:20241213T163507Z
UID:3527-1735408800-1735408800@erdkultura.hu
SUMMARY:Hanukai gyertyagyújtás\, koncert és uzsonna
DESCRIPTION:
URL:https://erdkultura.hu/event/hanukai-gyertyagyujtas-koncert-es-uzsonna/
LOCATION:PARKVÁROS\, Gépész u. 14.\, Érd\, 2030\, Magyarország
CATEGORIES:előadás,Parkváros,tanfolyam,zene
ATTACH;FMTTYPE=image/png:https://erdkultura.hu/wp-content/uploads/2024/12/Blue-Floral-Elegant-Happy-Hanukkah-Insta-2.png
END:VEVENT
BEGIN:VEVENT
DTSTART;TZID=UTC:20250107T080000
DTEND;TZID=UTC:20250207T170000
DTSTAMP:20260422T001332
CREATED:20250107T110932Z
LAST-MODIFIED:20250107T122101Z
UID:3667-1736236800-1738947600@erdkultura.hu
SUMMARY:Pályázati felhívás
DESCRIPTION:
URL:https://erdkultura.hu/event/palyazati-felhivas/
LOCATION:PARKVÁROS\, Gépész u. 14.\, Érd\, 2030\, Magyarország
CATEGORIES:előadás,kiállítás,Parkváros
ATTACH;FMTTYPE=image/png:https://erdkultura.hu/wp-content/uploads/2025/01/0001-1.png
END:VEVENT
BEGIN:VEVENT
DTSTART;TZID=UTC:20250107T163000
DTEND;TZID=UTC:20250107T173000
DTSTAMP:20260422T001332
CREATED:20241211T095727Z
LAST-MODIFIED:20241211T095727Z
UID:3454-1736267400-1736271000@erdkultura.hu
SUMMARY:Szenior örömtánc tanfolyam kezdőknek-Érd
DESCRIPTION:SZENIOROKNAK kezdő tánc tanfolyam indul 2025. január 7-től Érden\, a Parkvárosi Közösségi Házban | 2030 Érd\, Gépész utca 14.\n\n55 év felett vagy? Szeretsz táncolni\, de nincs kivel?Gyere az „Érdi Szenior Örömtánc” csoportba.\n\nKeddenként\, 16:30-kor találkozunk\, ha még dolgozol\, akkor is csatlakozhass.\nTánctudás nem kell! Egyedül is jöhetsz\, csupán kényelmes váltócipőt hozz magaddal.Jó zenékre\, jó társaságban múlatjuk az időt hetente több alkalommal.\n\nRövid\, gyorsan tanulható\, lendületes táncokat táncolunk körben\, párban\, egyénileg (Line dance)\, és kis csoportokban is. Kíméletes tánclépések az izmainkhoz igazodó könnyed figurák.\nGyere\, és próbáld ki\, hátha megtetszik!A mozgásra egyre nagyobb szükségünk van az idő múlásával\, hogy megőrizhessük fittségünket.\n\nAz első alkalom január 7. kedd 16:30Első óra ingyenes.Regisztrálni Hollenczer Katalin tánctanárnál lehet telefonon 06-30-203-7155 vagy e-mailben hollenczer01@gmail.com
URL:https://erdkultura.hu/event/szenior-oromtanc-tanfolyam-kezdoknek-erd/
LOCATION:PARKVÁROS\, Gépész u. 14.\, Érd\, 2030\, Magyarország
CATEGORIES:Parkváros,tanfolyam
ATTACH;FMTTYPE=image/jpeg:https://erdkultura.hu/wp-content/uploads/2024/12/Erd-Tancv.-Vilma-st-scaled.jpg
END:VEVENT
BEGIN:VEVENT
DTSTART;TZID=UTC:20250109T104500
DTEND;TZID=UTC:20250109T111500
DTSTAMP:20260422T001332
CREATED:20250107T082151Z
LAST-MODIFIED:20250107T082151Z
UID:3655-1736419500-1736421300@erdkultura.hu
SUMMARY:Rhyme Time angol zenebölcsi Érden
DESCRIPTION:Játékos ismerkedés az angollal csörgőkkel\, bábokkal\, kártyákkal\, csikizéssel\, labdákkal 6 hónapos kortól 3 éves korig!Körülbelül 35-40 mondóka és játékos gyerekdal közül válogatunk attól függően\, hogy a gyerekek inkább még egy helyben ülnek-e és figyelnek vagy éppen már mozgolódnának.Minden éneket összekötünk néhány mozdulattal\, legyen az kartekerés\, ugrálás\, körbe sétálás\, vagy mutogatással\, tapsolással\, csikizéssel. Ujjacskákat számolunk\, labdázunk\, buborékot fújunk vagy akár egy-egy dallal minden résztvevő nevét megtanuljuk!\nA részvétel előzetes regisztrációhoz kötött.A foglalkozás minimum 4 jelentkező esetén lesz megtartva.Belépő: 2.800 Ft6 alkalmas bérlet: 14.000 FtFoglalkozásvezető: Cynthia HevessyTelefonszám: +36-30/670-7186www.rhymetime.hu\nCome and join our 30 min sing-along group with lots of English songs\, nursery rhymes with colourful balls\, bubbles\, puppets\, parachute\, animal cards AND MORE! Our mommy-baby group is open for kids aged 6 months to 3 years\, come and meet other English speaking moms and find new friends!\n#rhymetime #angolzenebolcsi #gyerekangol #cynthiahevessy #érd #babyenglish #toddlerenglish
URL:https://erdkultura.hu/event/rhyme-time-angol-zenebolcsi-erden/
LOCATION:PARKVÁROS\, Gépész u. 14.\, Érd\, 2030\, Magyarország
CATEGORIES:Parkváros
ATTACH;FMTTYPE=image/jpeg:https://erdkultura.hu/wp-content/uploads/2025/01/angol-zenebolcsi.jpg
END:VEVENT
BEGIN:VEVENT
DTSTART;TZID=UTC:20250111T090000
DTEND;TZID=UTC:20250111T130000
DTSTAMP:20260422T001332
CREATED:20241122T124000Z
LAST-MODIFIED:20241122T124000Z
UID:3279-1736586000-1736600400@erdkultura.hu
SUMMARY:Festőklub felnőtteknek
DESCRIPTION:Felnőtteknek szóló festőklub a Parkvárosi Közösségi Házban – havonta egyszer\, minden hónap második szombat délelőtt 9 órától 13 óráig \n  \nE festőklubon a teljesen kezdők és gyakorlottabbak is megtalálják az örömöt és a kihívást! \n  \nMinden alkalommal feszített vászonra\, akrilfestékkel készülnek a fő alkotások. \nA ragyogó színkörből színkeverési feladatokkal és festészeti technikákkal gazdagítjuk tudásunkat. \n  \nCélunk\, hogy egyediséget\, hangulatot\, érzéseket visszatükröző képek születhessenek\, miközben az alkotók a hétköznapi rutinból kikapcsolódnak\, az alkotási folyamat közben feltöltődnek. \nAz aktuális havi részletes program itt érhető el: https://bohemkuckom.hu/kreativfoglalkozasok/festoklub \n  \nÉrdeklődni és jelentkezni a fenti honlapon\, info@bohemkuckom.hu e-mail címen vagy Szegedy Tamaránál a 20/226-2853 telefonszámon lehet!
URL:https://erdkultura.hu/event/festoklub-felnotteknek-6/
LOCATION:PARKVÁROS\, Gépész u. 14.\, Érd\, 2030\, Magyarország
CATEGORIES:előadás,Parkváros,tanfolyam
ATTACH;FMTTYPE=image/jpeg:https://erdkultura.hu/wp-content/uploads/2024/11/Esemenykep_fb_felnott_20250111-2.jpg
END:VEVENT
BEGIN:VEVENT
DTSTART;TZID=UTC:20250111T100000
DTEND;TZID=UTC:20250111T180000
DTSTAMP:20260422T001332
CREATED:20241213T065640Z
LAST-MODIFIED:20241213T092700Z
UID:3488-1736589600-1736618400@erdkultura.hu
SUMMARY:Dínó- és sárkánykiállítás marcipánból
DESCRIPTION:Saját kézzel készült\, 30-40 cm magas marcipán dínók és sárkányok diorámákban. \nIdőpont: 2025. január 11.\, szombat\, 10:00−18:00\nEbédszünet: 13:00−14:00 \nBelépődíj: 1.500 Ft \nA szervezők a programváltozás jogát fenntartják.\nA programon résztvevők elfogadják a házirendet\, valamint elfogadják\, hogy a programon készült kép-\, hang- és videofelvételt a szervezők saját nyilvános felületeiken\, illetve egyéb médiafelületeken való megjelenés során felhasználhatnak.
URL:https://erdkultura.hu/event/marcipan-dino-sarkany-kiallitas-2025-januar/
LOCATION:PARKVÁROS\, Gépész u. 14.\, Érd\, 2030\, Magyarország
CATEGORIES:Parkváros
ATTACH;FMTTYPE=image/png:https://erdkultura.hu/wp-content/uploads/2024/12/dino_sarkany_marcipan_kiallitas.png
END:VEVENT
BEGIN:VEVENT
DTSTART;TZID=UTC:20250112T170000
DTEND;TZID=UTC:20250112T200000
DTSTAMP:20260422T001332
CREATED:20250113T101712Z
LAST-MODIFIED:20250516T074851Z
UID:3700-1736701200-1736712000@erdkultura.hu
SUMMARY:Délszláv táncház Érden 1/3
DESCRIPTION:Zenél a Kolo zenekar \nA belépés díjtalan!\nSzeretettel várjuk az érdeklődőket! \nA programsorozat következő alkalmai:\n2025.02.23. 17:00\n2025.04.13. 17:00
URL:https://erdkultura.hu/event/delszlav-tanchaz-erden-1-4/
LOCATION:PARKVÁROS\, Gépész u. 14.\, Érd\, 2030\, Magyarország
CATEGORIES:Parkváros
ATTACH;FMTTYPE=image/png:https://erdkultura.hu/wp-content/uploads/2025/01/delszlavtanchaz-erden.png
END:VEVENT
BEGIN:VEVENT
DTSTART;TZID=UTC:20250118T090000
DTEND;TZID=UTC:20250118T130000
DTSTAMP:20260422T001332
CREATED:20241122T124137Z
LAST-MODIFIED:20241122T124137Z
UID:3282-1737190800-1737205200@erdkultura.hu
SUMMARY:Rajz-festő foglalkozás gyerekeknek
DESCRIPTION:Rajzos-festő foglalkozás gyerekeknek a Parkvárosi Közösségi Házban 2025-ben egzotikus állataink témában folytatódik! A fiatalok alkotói készségeinek fejlesztéséért\, kreatív gondolkodásuk támogatásáért! \nElső alkalommal január 18-án\, szombat délelőtt várom szeretettel az alkotásra nyitott\, rajzolni szerető gyermekeket! \nA foglalkozás reggel 9 órától 13 óráig tart. \nHavonta egy-egy újabb egzotikus állat kerül terítékre\, azaz papírra\, vászonra. \nSor kerül például a kenguru formás testére\, a tigris szőrős bundájára és a strucc mókás lábaira is! \nAz állatokat különböző technikákkal keltjük életre – rajzoljuk szénnel\, porpasztellel\, ceruzával\, illetve festjük akrilfestékkel vagy akvarellel\, tintával. A foglalkozásokon az állatokból mindenki egy pecsételésre alkalmas dúcot is készíthet magának. \nAz aktuális program részletei mindig a https://bohemkuckom.hu/kreativfoglalkozasok/festes-gyerekeknek oldalon olvashatóak. \nÉrdeklődni és jelentkezni a fenti honlapon\, info@bohemkuckom.hu e-mail címen vagy a 20/226-2853 telefonszámon lehet! \nVárom szeretettel a gyermekeket! Szegedy Tamara
URL:https://erdkultura.hu/event/rajz-festo-foglalkozas-gyerekeknek/
LOCATION:PARKVÁROS\, Gépész u. 14.\, Érd\, 2030\, Magyarország
CATEGORIES:előadás,Parkváros,tanfolyam
ATTACH;FMTTYPE=image/jpeg:https://erdkultura.hu/wp-content/uploads/2024/11/Esemenykep_fb_gyerek_20250118-2.jpg
END:VEVENT
BEGIN:VEVENT
DTSTART;TZID=UTC:20250118T150000
DTEND;TZID=UTC:20250212T170000
DTSTAMP:20260422T001332
CREATED:20250117T123247Z
LAST-MODIFIED:20250117T123247Z
UID:3813-1737212400-1739379600@erdkultura.hu
SUMMARY:Kiállításmegnyitó – Az élet kavalkádja
DESCRIPTION:A kiállítás megnyitja Markó Orsolya muzeológus  \nKözreműködik Perlaki Zsuzsanna zongoraművész és Tarnócziné Barabás Irén  \nVarga Ildikó amatőr érdi festő alkotásaiból nyílik kiállítás mely február 12-ig megtekinthető a Közösségi Ház nyitvatartási idejében.
URL:https://erdkultura.hu/event/kiallitasmegnyito-az-elet-kavalkadja/
LOCATION:PARKVÁROS\, Gépész u. 14.\, Érd\, 2030\, Magyarország
CATEGORIES:előadás,kiállítás,Parkváros
ATTACH;FMTTYPE=image/png:https://erdkultura.hu/wp-content/uploads/2025/01/Web-kep-19.png
END:VEVENT
BEGIN:VEVENT
DTSTART;TZID=UTC:20250119T110000
DTEND;TZID=UTC:20250119T120000
DTSTAMP:20260422T001332
CREATED:20241217T141500Z
LAST-MODIFIED:20241217T141519Z
UID:3573-1737284400-1737288000@erdkultura.hu
SUMMARY:Frakk és a foci-Dörmögő dömötör színház
DESCRIPTION:Bábjáték két félidőben\, de csak egy felvonásban\, hosszabbítás nélkül.Frakk azt álmodta\, ő volt Szobosz Lali\, aki eldönti a foci Európa Bajnokság döntőjét egy 11-es góllal a németek ellen.Álmából ébredve\, és álmát megosztva Károly bácsival nosztalgiázásba kezdenek\, mert Károly bácsi a megyei III. osztályban volt balszélső\, de a statisztikák nem említik\, hogy valaha is gólt lőtt volna. Sebaj\, Frakk felkutatja a német vonalat\, így lesz ellenfele a német juhász vagy a vizsla – ez majd az előadáson kiderül – de az argentin dog is pályára lép. Aki nem mellesleg azt hiszi\, ő Messi…Természetesen a macskák is azt hiszik\, hogy ők a jövő Juventusa\, de idővel belátják\, nem sok fű terem számukra a pályán\, így marad nekik az egér kergetés.A 2022-ben bemutatott Frakk a macskák réme c. előadás továbbgondolása\, kisebb részben a Frakk és a foci c. mesekönyv\, nagyobb részben Frakk álmodozása alapján.A nyugalom megzavarása érdekében a végére Frakk felébred! \nAz esemény időtartama: Kb. 60 perc1 éves kortól ajánlott \nA jegyek hamarosan elérhetőek online\, a tixa.hu oldalon\nAmennyiben az előadás nem telt házas\, helyszínen lehetőség van jegy váltásra\, kizárólag készpénzes fizetéssel. \nSzínház oldala
URL:https://erdkultura.hu/event/frakk-es-a-foci-dormogo-domotor-szinhaz/
LOCATION:PARKVÁROS\, Gépész u. 14.\, Érd\, 2030\, Magyarország
CATEGORIES:előadás,Parkváros
ATTACH;FMTTYPE=image/jpeg:https://erdkultura.hu/wp-content/uploads/2024/12/frakk-es-a-foci.jpg
END:VEVENT
END:VCALENDAR