BEGIN:VCALENDAR
VERSION:2.0
PRODID:-//ÉrdKultúra - ECPv6.8.0//NONSGML v1.0//EN
CALSCALE:GREGORIAN
METHOD:PUBLISH
X-WR-CALNAME:ÉrdKultúra
X-ORIGINAL-URL:https://erdkultura.hu
X-WR-CALDESC:Events for ÉrdKultúra
REFRESH-INTERVAL;VALUE=DURATION:PT1H
X-Robots-Tag:noindex
X-PUBLISHED-TTL:PT1H
BEGIN:VTIMEZONE
TZID:UTC
BEGIN:STANDARD
TZOFFSETFROM:+0000
TZOFFSETTO:+0000
TZNAME:UTC
DTSTART:20240101T000000
END:STANDARD
END:VTIMEZONE
BEGIN:VEVENT
DTSTART;TZID=UTC:20240523T140000
DTEND;TZID=UTC:20240523T170000
DTSTAMP:20260422T011012
CREATED:20240424T165206Z
LAST-MODIFIED:20240424T165206Z
UID:1859-1716472800-1716483600@erdkultura.hu
SUMMARY:Eszterlánc Klub
DESCRIPTION:„ MÁJUS ÚJRA SZÁZ CSODÁT ÍGÉR” \nMinden hónap utolsó csütörtök délutánján\, változó zenés műsorral várja Szigeti Eszter a kikapcsolódásra vágyó érdeklődőket. \nA részvétel ingyenes!
URL:https://erdkultura.hu/event/eszterlanc-klub-2/
CATEGORIES:előadás,Parkváros,zene
ATTACH;FMTTYPE=image/jpeg:https://erdkultura.hu/wp-content/uploads/2024/03/1711469682181_xpsh3l_2_0.jpg
END:VEVENT
BEGIN:VEVENT
DTSTART;TZID=UTC:20240525T190000
DTEND;TZID=UTC:20240525T200000
DTSTAMP:20260422T011012
CREATED:20240424T165808Z
LAST-MODIFIED:20240424T165808Z
UID:1861-1716663600-1716667200@erdkultura.hu
SUMMARY:Úgy táncolnék veled!
DESCRIPTION:Úgy táncolnék veled! \nTánclehetőség egyedülállóknak és pároknak. \nSajátítsátok el közismert táncok alapjait ismét egy fergeteges táncesten! Széchenyi Petra és Széchenyi Krisztián mindketten a Táncművészeti Egyetemen végzett professzionális táncművészek\, akik Kanadától Japánig áttáncolták a világot és most itt vannak\, hogy nektek is tanítsanak néhány lépést. \nRoki\, salsa\, keringő\, tangó vagy esetleg disco? Gyertek és kóstoljatok bele a különböző stílusokba\, hogy a következő buliban már ti lehessetek a táncparkett ördögei! \nÉrdeklődés: +36703239284\, díj: 2500 Ft/fő
URL:https://erdkultura.hu/event/ugy-tancolnek-veled-3/
LOCATION:PARKVÁROS\, Gépész u. 14.\, Érd\, 2030\, Magyarország
CATEGORIES:Parkváros,tanfolyam
ATTACH;FMTTYPE=image/png:https://erdkultura.hu/wp-content/uploads/2024/03/Web-kep-18.png
END:VEVENT
BEGIN:VEVENT
DTSTART;TZID=UTC:20240526T170000
DTEND;TZID=UTC:20240526T200000
DTSTAMP:20260422T011012
CREATED:20240429T092633Z
LAST-MODIFIED:20240515T105033Z
UID:1875-1716742800-1716753600@erdkultura.hu
SUMMARY:Horvát táncház
DESCRIPTION:
URL:https://erdkultura.hu/event/horvat-tanchaz/
LOCATION:PARKVÁROS\, Gépész u. 14.\, Érd\, 2030\, Magyarország
CATEGORIES:előadás,Parkváros,tanfolyam,zene
ATTACH;FMTTYPE=image/jpeg:https://erdkultura.hu/wp-content/uploads/2024/04/Ensemble__Kolo__dancing_folk_dance_of_Gnjilane.jpg
END:VEVENT
BEGIN:VEVENT
DTSTART;TZID=UTC:20240530T140000
DTEND;TZID=UTC:20240530T170000
DTSTAMP:20260422T011012
CREATED:20240522T100308Z
LAST-MODIFIED:20240522T100331Z
UID:1959-1717077600-1717088400@erdkultura.hu
SUMMARY:Eszterlánc - Szigeti Eszter önálló műsora
DESCRIPTION:Nosztalgia klubdélután minden hónap utolsó csütörtökjén! \n„A május újra száz csodát ígér” – örökzöld szerelmes dallamok – Szigeti Eszter önálló műsora \n 
URL:https://erdkultura.hu/event/eszterlanc-szigeti-eszter-onallo-musora/
LOCATION:PARKVÁROS\, Gépész u. 14.\, Érd\, 2030\, Magyarország
CATEGORIES:előadás,Parkváros,zene
ATTACH;FMTTYPE=image/jpeg:https://erdkultura.hu/wp-content/uploads/2024/03/1711469682181_xpsh3l_2_0.jpg
END:VEVENT
BEGIN:VEVENT
DTSTART;TZID=UTC:20240601T160000
DTEND;TZID=UTC:20240601T170000
DTSTAMP:20260422T011012
CREATED:20240522T163041Z
LAST-MODIFIED:20240522T163041Z
UID:2018-1717257600-1717261200@erdkultura.hu
SUMMARY:Családi Táncház a Korinda zenekarral
DESCRIPTION:
URL:https://erdkultura.hu/event/csaladi-tanchaz-a-korinda-zenekarral-3/
LOCATION:PARKVÁROS\, Gépész u. 14.\, Érd\, 2030\, Magyarország
CATEGORIES:előadás,Parkváros,zene
ATTACH;FMTTYPE=image/png:https://erdkultura.hu/wp-content/uploads/2024/03/Csaladi-tanchaz-plakat-1.png
END:VEVENT
BEGIN:VEVENT
DTSTART;TZID=UTC:20240608T090000
DTEND;TZID=UTC:20240608T170000
DTSTAMP:20260422T011012
CREATED:20240522T170807Z
LAST-MODIFIED:20240603T074012Z
UID:2023-1717837200-1717866000@erdkultura.hu
SUMMARY:Festő klub felnőtteknek
DESCRIPTION:Festő klub felnőtteknek (Minden hónap 2. szombat délelőtt) \nA foglalkozásra 14+ korosztályból várom szeretettel az alkotásra nyitott Hölgyeket és Urakat. \nMi vár Rád a festőklubon?\n– 1 konkrét (mindig más) akrilfestési technika bemutatása és gyakorlása\n– rajzolási technikád fejlődése\n– gyönyörű színek kikeverése\n– saját festményed megalkotása az alapozástól az utolsó ecsetvonásokig\n– egyedi figyelem és segítség\n– kellemes\, családias hangulat\n– 4 órányi teljes kikapcsolódás\, feltöltődés\n– sikerélmény\, mely egy általad vászonra festett alkotás képében kacsint vissza Rád \nE festőklubon a teljesen kezdők és gyakorlottabbak is megtalálják az örömöt és a kihívást! \nTovábbi információ és jelentkezés Szegedy Tamaránál 20/226-2853 telefonszámon.
URL:https://erdkultura.hu/event/festo-klub-felnotteknek-2/
LOCATION:PARKVÁROS\, Gépész u. 14.\, Érd\, 2030\, Magyarország
CATEGORIES:előadás,Parkváros,tanfolyam
ATTACH;FMTTYPE=image/jpeg:https://erdkultura.hu/wp-content/uploads/2024/05/Esemenykep_fb_0608-1.jpg
END:VEVENT
BEGIN:VEVENT
DTSTART;TZID=UTC:20240614T190000
DTEND;TZID=UTC:20240614T220000
DTSTAMP:20260422T011012
CREATED:20240522T171101Z
LAST-MODIFIED:20240522T171101Z
UID:2026-1718391600-1718402400@erdkultura.hu
SUMMARY:Melodikus jazz-est Zsemlye Veronikával és zenekarával
DESCRIPTION:Jegyár: 2.500. Ft\, Megvásárolható a Parkvárosi Közösségi Házban
URL:https://erdkultura.hu/event/melodikus-jazz-est-zsemlye-veronikaval-es-zenekaraval/
LOCATION:PARKVÁROS\, Gépész u. 14.\, Érd\, 2030\, Magyarország
CATEGORIES:előadás,Parkváros,zene
ATTACH;FMTTYPE=image/png:https://erdkultura.hu/wp-content/uploads/2024/05/Program-post-25.png
END:VEVENT
BEGIN:VEVENT
DTSTART;TZID=UTC:20240615T150000
DTEND;TZID=UTC:20240615T170000
DTSTAMP:20260422T011012
CREATED:20240522T171612Z
LAST-MODIFIED:20240522T171612Z
UID:2029-1718463600-1718470800@erdkultura.hu
SUMMARY:Rajzszög rajziskola tanévzárója és kiállításmegnyitója
DESCRIPTION:Minden kedves érdeklődőt várunk szeretettel!
URL:https://erdkultura.hu/event/rajzszog-rajziskola-tanevzaroja-es-kiallitasmegnyitoja/
LOCATION:PARKVÁROS\, Gépész u. 14.\, Érd\, 2030\, Magyarország
CATEGORIES:előadás,kiállítás,Parkváros
ATTACH;FMTTYPE=image/jpeg:https://erdkultura.hu/wp-content/uploads/2024/05/kreativ-onismereti-938x698-1.jpg
END:VEVENT
BEGIN:VEVENT
DTSTART;TZID=UTC:20240615T190000
DTEND;TZID=UTC:20240615T210000
DTSTAMP:20260422T011012
CREATED:20240522T172504Z
LAST-MODIFIED:20240522T172504Z
UID:2032-1718478000-1718485200@erdkultura.hu
SUMMARY:Úgy táncolnék veled! Tánclehetőség egyedülállóknak és pároknak
DESCRIPTION:Úgy táncolnék veled! Tánclehetőség egyedülállóknak és pároknak. \nSajátítsátok el közismert táncok alapjait ismét egy fergeteges táncesten! \nSzéchenyi Petra és Széchenyi Krisztián mindketten a Táncművészeti Egyetemen végzett professzionális táncművészek\, akik Kanadától Japánig áttáncolták a világot és most itt vannak\, hogy nektek is tanítsanak néhány lépést. \nRoki\, salsa\, keringő\, tangó vagy esetleg disco? \nGyertek és kóstoljatok bele a különböző stílusokba\, hogy a következő buliban már ti lehessetek a táncparkett ördögei! Érdeklődés: +36703239284\, díj: 2500 Ft/fő
URL:https://erdkultura.hu/event/ugy-tancolnek-veled-tanclehetoseg-egyedulalloknak-es-paroknak/
LOCATION:PARKVÁROS\, Gépész u. 14.\, Érd\, 2030\, Magyarország
CATEGORIES:Parkváros,tanfolyam,zene
ATTACH;FMTTYPE=image/png:https://erdkultura.hu/wp-content/uploads/2024/03/Web-kep-18.png
END:VEVENT
BEGIN:VEVENT
DTSTART;TZID=UTC:20240618T100000
DTEND;TZID=UTC:20240618T120000
DTSTAMP:20260422T011012
CREATED:20240522T172807Z
LAST-MODIFIED:20240522T172807Z
UID:2034-1718704800-1718712000@erdkultura.hu
SUMMARY:Senior Társasjáték és Kártya Klub
DESCRIPTION:Az esemény az Idősen\, aktívan Érden programsorozat keretein belül valósul meg.
URL:https://erdkultura.hu/event/senior-tarsasjatek-es-kartya-klub-2/
LOCATION:PARKVÁROS\, Gépész u. 14.\, Érd\, 2030\, Magyarország
CATEGORIES:Idősprogram,Parkváros
ATTACH;FMTTYPE=image/png:https://erdkultura.hu/wp-content/uploads/2024/04/Web-kep-45.png
ORGANIZER;CN="Sz%C5%B1cs %C3%81gnes I SZEPES":MAILTO:szucs.agnes@erdkultura.hu
END:VEVENT
BEGIN:VEVENT
DTSTART;TZID=UTC:20240619T100000
DTEND;TZID=UTC:20240619T120000
DTSTAMP:20260422T011012
CREATED:20240522T173004Z
LAST-MODIFIED:20240522T173041Z
UID:2036-1718791200-1718798400@erdkultura.hu
SUMMARY:Senior Könyvklub
DESCRIPTION:Oravecz Imre – A rög gyermekei 2. – A kalifornia fürj \nAz esemény az Idősen\, aktívan Érden programsorozat keretein belül kerül megrendezésre.
URL:https://erdkultura.hu/event/senior-konyvklub-2/
LOCATION:PARKVÁROS\, Gépész u. 14.\, Érd\, 2030\, Magyarország
CATEGORIES:Idősprogram,Parkváros,tanfolyam
ATTACH;FMTTYPE=image/png:https://erdkultura.hu/wp-content/uploads/2024/03/Web-kep-16.png
ORGANIZER;CN="Sz%C5%B1cs %C3%81gnes I SZEPES":MAILTO:szucs.agnes@erdkultura.hu
END:VEVENT
BEGIN:VEVENT
DTSTART;TZID=UTC:20240627T110000
DTEND;TZID=UTC:20240627T120000
DTSTAMP:20260422T011012
CREATED:20240522T173143Z
LAST-MODIFIED:20240522T173143Z
UID:2039-1719486000-1719489600@erdkultura.hu
SUMMARY:Szárnyaló Sólymok Haikucsoport
DESCRIPTION:
URL:https://erdkultura.hu/event/szarnyalo-solymok-haikucsoport-3/
LOCATION:PARKVÁROS\, Gépész u. 14.\, Érd\, 2030\, Magyarország
CATEGORIES:Parkváros,tanfolyam
ATTACH;FMTTYPE=image/png:https://erdkultura.hu/wp-content/uploads/2024/03/Web-kep-20.png
END:VEVENT
BEGIN:VEVENT
DTSTART;TZID=UTC:20240627T140000
DTEND;TZID=UTC:20240627T170000
DTSTAMP:20260422T011012
CREATED:20240522T173437Z
LAST-MODIFIED:20240522T173530Z
UID:2041-1719496800-1719507600@erdkultura.hu
SUMMARY:Eszterlánc Klub
DESCRIPTION:Minden hónap utolsó csütörtök délutánján\, változó zenés műsorral várja Szigeti Eszter a kikapcsolódásra vágyó érdeklődőket. A részvétel ingyenes!
URL:https://erdkultura.hu/event/eszterlanc-klub-3/
LOCATION:PARKVÁROS\, Gépész u. 14.\, Érd\, 2030\, Magyarország
CATEGORIES:Parkváros,zene
ATTACH;FMTTYPE=image/jpeg:https://erdkultura.hu/wp-content/uploads/2024/03/1711469682181_xpsh3l_2_0.jpg
END:VEVENT
BEGIN:VEVENT
DTSTART;TZID=UTC:20240629T180000
DTEND;TZID=UTC:20240629T200000
DTSTAMP:20260422T011012
CREATED:20240522T174612Z
LAST-MODIFIED:20240522T174612Z
UID:2043-1719684000-1719691200@erdkultura.hu
SUMMARY:A Felvonási Tünetek Színjátszó Műhely előadása
DESCRIPTION:Felvonási Tünetek Színjátszó Műhely előadása- Carlo Goldono: Mirandolina. Zenés-táncos vígjáték két részben. Az előadás ingyenes\, regisztrációs jegy a Közösségi Házban igényelhető.
URL:https://erdkultura.hu/event/a-felvonasi-tunetek-szinjatszo-muhely-eloadasa/
LOCATION:PARKVÁROS\, Gépész u. 14.\, Érd\, 2030\, Magyarország
CATEGORIES:előadás,Parkváros
ATTACH;FMTTYPE=image/jpeg:https://erdkultura.hu/wp-content/uploads/2024/05/Plakat.Erd_.Parkvaros.jpg
END:VEVENT
BEGIN:VEVENT
DTSTART;TZID=UTC:20240630T130000
DTEND;TZID=UTC:20240630T170000
DTSTAMP:20260422T011012
CREATED:20240522T175137Z
LAST-MODIFIED:20240522T175137Z
UID:2046-1719752400-1719766800@erdkultura.hu
SUMMARY:TommyLill zongora és dobiskola évzáró gálája
DESCRIPTION:
URL:https://erdkultura.hu/event/tommylill-zongora-es-dobiskola-evzaro-galaja/
LOCATION:PARKVÁROS\, Gépész u. 14.\, Érd\, 2030\, Magyarország
CATEGORIES:Parkváros,zene
ATTACH;FMTTYPE=image/png:https://erdkultura.hu/wp-content/uploads/2024/05/Web-kep-64.png
END:VEVENT
BEGIN:VEVENT
DTSTART;TZID=UTC:20240712T173000
DTEND;TZID=UTC:20240712T193000
DTSTAMP:20260422T011012
CREATED:20240615T135103Z
LAST-MODIFIED:20240615T135103Z
UID:2104-1720805400-1720812600@erdkultura.hu
SUMMARY:MESÉS PIKNIK A KERTBEN GYEREKEKNEK!
DESCRIPTION:Meséljünk és játsszunk együtt a kertben!  \nHozz magaddal egy pokrócot\, mi készülünk szörppel és rágcsálnivalóval.  \nA meséről Enyedi Anita gondoskodik. Regisztráció szükséges: keszei.virag@szepesmk.hu   \nTelefonszám:06-23-746118 
URL:https://erdkultura.hu/event/meses-piknik-a-kertben-gyerekeknek/
LOCATION:PARKVÁROS\, Gépész u. 14.\, Érd\, 2030\, Magyarország
CATEGORIES:előadás,Parkváros
ATTACH;FMTTYPE=image/png:https://erdkultura.hu/wp-content/uploads/2024/06/Program-post-43.png
END:VEVENT
BEGIN:VEVENT
DTSTART;TZID=UTC:20240824T150000
DTEND;TZID=UTC:20240824T170000
DTSTAMP:20260422T011012
CREATED:20240615T134733Z
LAST-MODIFIED:20240615T134733Z
UID:2101-1724511600-1724518800@erdkultura.hu
SUMMARY:KARCOLATOK - Debreceni Erzsébet kiállításmegnyitója
DESCRIPTION:Debreceni Erzsébet kézzel csiszolt üvegalkotásainak kiállítása.\n\nA kiállítást megnyitja: Ilka Gábor
URL:https://erdkultura.hu/event/karcolatok-debreceni-erzsebet-kiallitasmegnyitoja/
LOCATION:PARKVÁROS\, Gépész u. 14.\, Érd\, 2030\, Magyarország
CATEGORIES:Parkváros
ATTACH;FMTTYPE=image/png:https://erdkultura.hu/wp-content/uploads/2024/06/Program-post-42.png
END:VEVENT
BEGIN:VEVENT
DTSTART;TZID=UTC:20240913T103000
DTEND;TZID=UTC:20240913T170000
DTSTAMP:20260422T011012
CREATED:20240824T091620Z
LAST-MODIFIED:20240826T091055Z
UID:2226-1726223400-1726246800@erdkultura.hu
SUMMARY:Egészségére! Gátizomtorna workshop
DESCRIPTION:Az esemény az Idősen\, aktívan Érden programsorozat keretein belül kerül megrendezésre. \nA részvétel az érdi 65 év felettieknek ingyenes!
URL:https://erdkultura.hu/event/egeszsegere-gatizomtorna-workshop/
LOCATION:PARKVÁROS\, Gépész u. 14.\, Érd\, 2030\, Magyarország
CATEGORIES:előadás,Idősprogram,Parkváros
ATTACH;FMTTYPE=image/png:https://erdkultura.hu/wp-content/uploads/2024/08/Web-kep-80.png
ORGANIZER;CN="Sz%C5%B1cs %C3%81gnes I SZEPES":MAILTO:szucs.agnes@erdkultura.hu
END:VEVENT
BEGIN:VEVENT
DTSTART;TZID=UTC:20240914T090000
DTEND;TZID=UTC:20240914T170000
DTSTAMP:20260422T011012
CREATED:20240816T120129Z
LAST-MODIFIED:20240925T082001Z
UID:2199-1726304400-1726333200@erdkultura.hu
SUMMARY:Edukáció az Életért - három alkalmas előadás-sorozat
DESCRIPTION:Háztartási balesetek:\n-Megelőzés és ellátás\n-Segítségkérés menete\n-Hogyan segítsük idős rokonainkat \nJegyár: 1500 Ft/fő/alkalom \nTovábbi alkalmak: \n\nElső alkalom: 2024. 09.14. szombat 9:00\nMásodik alkalom: 2024.10.12. szombat 9:00\nHarmadik alkalom: 2024.11.09. szombat 9:00
URL:https://erdkultura.hu/event/edukacio-az-eletert-harom-alkalmas-eloadas-sorozat/
LOCATION:PARKVÁROS\, Gépész u. 14.\, Érd\, 2030\, Magyarország
CATEGORIES:előadás,Parkváros
ATTACH;FMTTYPE=image/jpeg:https://erdkultura.hu/wp-content/uploads/2024/08/454199843_515399327668336_280466362225810806_n.jpg
END:VEVENT
BEGIN:VEVENT
DTSTART;TZID=UTC:20240914T090000
DTEND;TZID=UTC:20240914T170000
DTSTAMP:20260422T011012
CREATED:20240824T092416Z
LAST-MODIFIED:20240824T092932Z
UID:2229-1726304400-1726333200@erdkultura.hu
SUMMARY:Festőklub felnőtteknek
DESCRIPTION:Felnőtteknek szóló festőklub a Parkvárosi Közösségi Házban – havonta egyszer\, minden hónap második szombat délelőtt 9 órától 13 óráig \nE festőklubon a teljesen kezdők és gyakorlottabbak is megtalálják az örömöt és a kihívást! \nMinden alkalommal feszített vászonra\, akrilfestékkel készülnek a fő alkotások. A ragyogó színkörből színkeverési feladatokkal és festészeti technikákkal gazdagítjuk tudásunkat. \nCélunk\, hogy egyediséget\, hangulatot\, érzéseket visszatükröző képek születhessenek\, miközben az alkotók a hétköznapi rutinból kikapcsolódnak\, az alkotási folyamat közben feltöltődnek. \nA program további részletei https://bohemkuckom.hu/kreativfoglalkozasok/festoklub oldalon olvashatóak. \nÉrdeklődni és jelentkezni a fenti honlapon\, info@bohemkuckom.hu e-mail címen vagy Szegedy Tamaránál a 20/226-2853 telefonszámon lehet!
URL:https://erdkultura.hu/event/festoklub-felnotteknek-3/
LOCATION:PARKVÁROS\, Gépész u. 14.\, Érd\, 2030\, Magyarország
CATEGORIES:előadás,Parkváros,tanfolyam
ATTACH;FMTTYPE=image/jpeg:https://erdkultura.hu/wp-content/uploads/2024/08/Erdkultura_kep2-1.jpg
END:VEVENT
BEGIN:VEVENT
DTSTART;TZID=UTC:20240914T163000
DTEND;TZID=UTC:20240914T170000
DTSTAMP:20260422T011012
CREATED:20240824T095202Z
LAST-MODIFIED:20240828T151552Z
UID:2240-1726331400-1726333200@erdkultura.hu
SUMMARY:Mesedélután kézműveskedéssel
DESCRIPTION:Ismételten Mesedélután a Parkvárosi Közösségi Házban!\nSzeptemberben\, újra várjuk a gyerekeket egy közös mesehallgatásra és kézműves foglalkozásra. Az esemény ingyenes! HÁROM ÉVES KORTÓL AJÁNLOTT!\nFIGYELEM: A nagy érdeklődésre való tekintettel\, REGISZTRÁCIÓ szükséges!\nRegisztráció: keszei.virag @szepesmk.hu / 06-23-746118
URL:https://erdkultura.hu/event/mesedelutan-kezmuveskedessel-3/
LOCATION:PARKVÁROS\, Gépész u. 14.\, Érd\, 2030\, Magyarország
CATEGORIES:előadás,Parkváros,tanfolyam
ATTACH;FMTTYPE=image/png:https://erdkultura.hu/wp-content/uploads/2024/08/Web-kep-81.png
END:VEVENT
BEGIN:VEVENT
DTSTART;TZID=UTC:20240917T100000
DTEND;TZID=UTC:20240917T170000
DTSTAMP:20260422T011012
CREATED:20240824T095715Z
LAST-MODIFIED:20240826T091114Z
UID:2244-1726567200-1726592400@erdkultura.hu
SUMMARY:Senior Társasjáték és Kártyaklub
DESCRIPTION:Az esemény az Idősen\, aktívan Érden programsorozat keretein belül kerül megrendezésre. \nA részvétel az érdi 65 év felettieknek ingyenes!
URL:https://erdkultura.hu/event/senior-tarsasjatek-es-kartyaklub/
LOCATION:PARKVÁROS\, Gépész u. 14.\, Érd\, 2030\, Magyarország
CATEGORIES:előadás,Idősprogram,Parkváros,tanfolyam
ATTACH;FMTTYPE=image/png:https://erdkultura.hu/wp-content/uploads/2024/04/Web-kep-45.png
END:VEVENT
BEGIN:VEVENT
DTSTART;TZID=UTC:20240918T100000
DTEND;TZID=UTC:20240918T170000
DTSTAMP:20260422T011012
CREATED:20240824T100538Z
LAST-MODIFIED:20240826T091213Z
UID:2246-1726653600-1726678800@erdkultura.hu
SUMMARY:Senior Könyvklub: Agatha Christie- ÉLETEM
DESCRIPTION:Az előadás az Idősen\, aktívan Érden programsorozat keretein belül kerül megrendezése. \nA részvétel az érdi 65 év felettieknek ingyenes!
URL:https://erdkultura.hu/event/senior-konyvklub-agatha-christie-eletem/
LOCATION:PARKVÁROS\, Gépész u. 14.\, Érd\, 2030\, Magyarország
CATEGORIES:előadás,Idősprogram,Parkváros,tanfolyam
ATTACH;FMTTYPE=image/png:https://erdkultura.hu/wp-content/uploads/2024/03/Web-kep-16.png
ORGANIZER;CN="Sz%C5%B1cs %C3%81gnes I SZEPES":MAILTO:szucs.agnes@erdkultura.hu
END:VEVENT
BEGIN:VEVENT
DTSTART;TZID=UTC:20240921T090000
DTEND;TZID=UTC:20240921T170000
DTSTAMP:20260422T011012
CREATED:20240918T074710Z
LAST-MODIFIED:20240918T074710Z
UID:2571-1726909200-1726938000@erdkultura.hu
SUMMARY:Rajzos-festő foglalkozás gyerekeknek
DESCRIPTION:Rajzos-festő foglalkozás gyerekeknek a Parkvárosi Közösségi Házban – szeptember 21-én\, október 19-én\, november 23-án; szombat délelőtt 9 órától 13 óráig! \nA foglalkozások témája nem egymásra épül\, lehet 1-1 alkalommal is jönni. \n7 – 12 éves\, alkotásra nyitott gyermekeket várom szeretettel!  \nA foglalkozásokon festünk akrilfestékkel\, akvarellel. A száraz technikák közül olajpasztell\, szén és porpasztell illetve kollázstechnika rejtelmeiben merülünk el. \nA program további részletei  Festés gyerekeknek – bohemkuckom.hu oldalon olvashatóak. \nÉrdeklődni és jelentkezni a fenti honlapon\, info@bohemkuckom.hu e-mail címen vagy Szegedy Tamaránál a 20/226-2853 telefonszámon lehet!”
URL:https://erdkultura.hu/event/rajzos-festo-foglalkozas-gyerekeknek/
LOCATION:PARKVÁROS\, Gépész u. 14.\, Érd\, 2030\, Magyarország
CATEGORIES:Parkváros,tanfolyam
ATTACH;FMTTYPE=image/jpeg:https://erdkultura.hu/wp-content/uploads/2024/09/Esemenykep_fb_0921_1019_1123-1.jpg
END:VEVENT
BEGIN:VEVENT
DTSTART;TZID=UTC:20240921T150000
DTEND;TZID=UTC:20240921T170000
DTSTAMP:20260422T011012
CREATED:20240824T101504Z
LAST-MODIFIED:20240824T101504Z
UID:2248-1726930800-1726938000@erdkultura.hu
SUMMARY:Pazár Anna - LÉTELEM KÉPEK
DESCRIPTION:Kiállításmegnyitó \nAz élet és a történések szövevényében minden a mindennel keveredik\, gyakran túl nővik a még befogadható limitet. Csakúgy\, mint a színek világában\, azok egyenszürkévé válva kiolthatják egymást\, vagy épp öncélúan harsányan ütik egymást. Az ilyenféle szélsőségek sohasem izgattak\, annál inkább a lét éltető harmóniája. Melyeket a fizikai és morális lét alapvetéseiben látok.\nLételem képeim ezek kifejezései.
URL:https://erdkultura.hu/event/pazar-anna-letelem-kepek/
LOCATION:PARKVÁROS\, Gépész u. 14.\, Érd\, 2030\, Magyarország
CATEGORIES:kiállítás,Parkváros
ATTACH;FMTTYPE=image/jpeg:https://erdkultura.hu/wp-content/uploads/2024/08/Pazar-Anna-plakat-1.jpeg
END:VEVENT
BEGIN:VEVENT
DTSTART;TZID=UTC:20240926T110000
DTEND;TZID=UTC:20240926T170000
DTSTAMP:20260422T011012
CREATED:20240824T111115Z
LAST-MODIFIED:20240824T111115Z
UID:2254-1727348400-1727370000@erdkultura.hu
SUMMARY:Szárnyaló Sólymok Haikucsoport
DESCRIPTION:Minden kedves érdeklődőt szeretettel várunk!
URL:https://erdkultura.hu/event/szarnyalo-solymok-haikucsoport-4/
LOCATION:PARKVÁROS\, Gépész u. 14.\, Érd\, 2030\, Magyarország
CATEGORIES:előadás,Parkváros,tanfolyam
ATTACH;FMTTYPE=image/png:https://erdkultura.hu/wp-content/uploads/2024/03/Web-kep-20.png
END:VEVENT
BEGIN:VEVENT
DTSTART;TZID=UTC:20240926T140000
DTEND;TZID=UTC:20240926T170000
DTSTAMP:20260422T011012
CREATED:20240824T112048Z
LAST-MODIFIED:20240824T112048Z
UID:2256-1727359200-1727370000@erdkultura.hu
SUMMARY:Eszterlánc Klub- „Hull az elsárgult levél”
DESCRIPTION:Eszterlánc Klub- „Hull az elsárgult levél”- nyárbúcsúztató örökzöld melódiák. \nMinden hónap utolsó csütörtök délutánján\, változó zenés műsorral várja Szigeti Eszter a kikapcsolódásra vágyó érdeklődőket. \nA részvétel ingyenes!
URL:https://erdkultura.hu/event/eszterlanc-klub-hull-az-elsargult-level/
LOCATION:PARKVÁROS\, Gépész u. 14.\, Érd\, 2030\, Magyarország
CATEGORIES:előadás,Parkváros,zene
ATTACH;FMTTYPE=image/jpeg:https://erdkultura.hu/wp-content/uploads/2024/03/1711469682181_xpsh3l_2_0.jpg
END:VEVENT
BEGIN:VEVENT
DTSTART;TZID=UTC:20240927T190000
DTEND;TZID=UTC:20240927T190000
DTSTAMP:20260422T011012
CREATED:20240824T072917Z
LAST-MODIFIED:20240917T103702Z
UID:2223-1727463600-1727463600@erdkultura.hu
SUMMARY:Francba a problémákkal! - Elmarad
DESCRIPTION:Az előadás technikai okok miatt elmarad \nRészletek és jegyvásárlás: https://neleta.hu/parkapcsolat2024 \n\nFr@ncba a problémákkal! című előadás Érden.\nElőadás időpontja: 2024.09.13.Péntek\, 19:15-21:00\nÉrd\, Parkvárosi Közösségi Ház\nMiért nem tudjuk megbeszélni a problémákat?\nHonnan tudom\, hogy képesek vagyunk-e újra örömmel együtt élni?\nA pároddal töltött idő kellene a felszabadító\, örömélmény legyen az életedben\, úgy mint amikor megismerkedtetek.\nA jelenlegi kapcsolatok ennek ellenére „csupán” a problémák és feladatok megoldásáról szólnak\, ami már mindenkinek nagyon egyhangú és fárasztó.\nMit ront el a legtöbb pár\, hogy ez így alakul?\nA férjemmel a válásunk után a káoszból és gyűlöletből hoztuk vissza a kapcsolatunkat\, amelyet 2 alaptechnikával kezdtünk el.\nErről tartunk egy kivételes előadást\, melyben átadjuk ezt a 2 alaptechnikát\, aminek segítségével elfelejtheted\, sőt könnyen megoldhatod a feladatokat\, és közelebb kerülhetsz a párodhoz!\nUgye te is meg akarod ismerni ezt a 2 technikát\, és ott leszel\, 2024. szept. 13-án\, 19:15-kor?\nVárunk szeretettel\,\nTakács Neléta és Takács Zoltán\nRészletek és jegyvásárlás: https://neleta.hu/parkapcsolat2024
URL:https://erdkultura.hu/event/frncba-a-problemakkal/
LOCATION:PARKVÁROS\, Gépész u. 14.\, Érd\, 2030\, Magyarország
CATEGORIES:előadás,Parkváros,tanfolyam
ATTACH;FMTTYPE=image/jpeg:https://erdkultura.hu/wp-content/uploads/2024/08/454754726_986781303458012_7392993433485952480_n.jpg
END:VEVENT
BEGIN:VEVENT
DTSTART;TZID=UTC:20240928T170000
DTEND;TZID=UTC:20240928T180000
DTSTAMP:20260422T011012
CREATED:20240816T115717Z
LAST-MODIFIED:20240902T082701Z
UID:2196-1727542800-1727546400@erdkultura.hu
SUMMARY:szociopoly - interaktív színházi társasjáték
DESCRIPTION:A Szociopoly egy észak-magyarországi kistelepülésen játszódik. Szereplői a településen élő emberek: a falu elitje\, az ott működő intézmények dolgozói és a faluban élő (többségében szegény) emberek\, akik közül néhányat színészek alakítanak\, de a falu lakóinak többségét a nézők személyesítik meg. A darabban négy hetet játszunk végig\, ami alatt a résztvevőknek meg kell élniük a játék adta keretek között: két gyereket nevelnek\, munkanélküliek\, esetleg közmunkára vagy alkalmi munkára számíthatnak\, de minden héten be kell vásárolniuk\, ki kellene fizetniük a lakásuk rezsijét\, illetve az esetlegesen felmerülő más kiadásaikat is. A játék elején megkapják az összes olyan segélyt\, támogatást\, amihez ma Magyarországon egy ilyen család hozzájuthat. A darab rövid jelenetek sora: a néző van\, hogy egy orvosi váróban találja magát\, ahol ő is a jelenet szereplőjévé válik\, és eldöntheti\, hogy kiváltja-e a neki felírt gyógyszert\, vagy sem? Tanúja lehet egy beszélgetésnek\, ahol a helyi vállalkozó munkát ajánl valakinek\, majd őt is megszólítja: akar-e jönni dolgozni\, és ha igen\, milyen feltételekkel? Hogy éppen milyen szituációba kerül a néző\, azt mindig a szerencse dönti el.\nJátsszák: Bass László\, Herczeg Tamás/Fábián Gábor\, Hay Anna/Sipos Vera\, Jaskó Bálint\nRendező: Fábián Gábor\nAz előadás időtartama 2\,5 óra\, a résztvevők létszáma 16- 60 fő\, korhatár 16 év felettJegyár: 4000 FtJegyvásárlás online: https://szepesmk.jegyx1.hu/eloadas/3557/szociopoly—interaktiv-szinhazi-tarsasjatek?fbclid=IwY2xjawEsHaVleHRuA2FlbQIxMAABHZ8qLMSuzqURdjm5_sPAHirqLlbEocoTzW-lplSiNFv12PtZl0_q0402ZQ_aem_MCj1gSSSmqSsQcsqit6idA\n\n\nA Szociopoly 2016-ban a VIII. Kaposvári ASSITEJ Nemzetközi Biennálén elnyerte a legjobb előadásnak járó Üveghegy-díjat.
URL:https://erdkultura.hu/event/szociopoly-interaktiv-szinhazi-tarsasjatek/
LOCATION:PARKVÁROS\, Gépész u. 14.\, Érd\, 2030\, Magyarország
CATEGORIES:előadás,Parkváros
ATTACH;FMTTYPE=image/png:https://erdkultura.hu/wp-content/uploads/2024/08/Program-post-56.png
END:VEVENT
BEGIN:VEVENT
DTSTART;TZID=UTC:20240928T190000
DTEND;TZID=UTC:20240928T190000
DTSTAMP:20260422T011012
CREATED:20240824T112759Z
LAST-MODIFIED:20240904T121532Z
UID:2258-1727550000-1727550000@erdkultura.hu
SUMMARY:Úgy táncolnék veled!
DESCRIPTION:Az esemény technikai okok miatt elmarad! \n  \nÚgy táncolnék veled! \nTánclehetőség egyedülállóknak és pároknak. Sajátítsátok el közismert táncok alapjait ismét egy fergeteges táncesten! \nSzéchenyi Petra és Széchenyi Krisztián mindketten a Táncművészeti Egyetemen végzett professzionális táncművészek\, akik Kanadától Japánig áttáncolták a világot és most itt vannak\, hogy nektek is tanítsanak néhány lépést.\nRoki\, salsa\, keringő\, tangó vagy esetleg disco? \nGyertek és kóstoljatok bele a különböző stílusokba\, hogy a következő buliban már ti lehessetek a táncparkett ördögei! \nÉrdeklődés: +36703239284\, díj: 2500 Ft/fő
URL:https://erdkultura.hu/event/ugy-tancolnek-veled-4/
LOCATION:PARKVÁROS\, Gépész u. 14.\, Érd\, 2030\, Magyarország
CATEGORIES:Parkváros,tanfolyam,zene
ATTACH;FMTTYPE=image/png:https://erdkultura.hu/wp-content/uploads/2024/03/Web-kep-18.png
END:VEVENT
END:VCALENDAR