BEGIN:VCALENDAR
VERSION:2.0
PRODID:-//ÉrdKultúra - ECPv6.8.0//NONSGML v1.0//EN
CALSCALE:GREGORIAN
METHOD:PUBLISH
X-ORIGINAL-URL:https://erdkultura.hu
X-WR-CALDESC:Events for ÉrdKultúra
REFRESH-INTERVAL;VALUE=DURATION:PT1H
X-Robots-Tag:noindex
X-PUBLISHED-TTL:PT1H
BEGIN:VTIMEZONE
TZID:UTC
BEGIN:STANDARD
TZOFFSETFROM:+0000
TZOFFSETTO:+0000
TZNAME:UTC
DTSTART:20260101T000000
END:STANDARD
END:VTIMEZONE
BEGIN:VEVENT
DTSTART;TZID=UTC:20260530T090000
DTEND;TZID=UTC:20260530T130000
DTSTAMP:20260421T120754
CREATED:20260326T105503Z
LAST-MODIFIED:20260326T110105Z
UID:7763-1780131600-1780146000@erdkultura.hu
SUMMARY:Festőklub felnőtteknek
DESCRIPTION:Felnőtteknek szóló festőklub a Parkvárosi Közösségi Házban május 9. és 30-án – havonta 2 alkalommal is\, választható vagy ismételhető\, szombat délelőtt 9 órától 13 óráig. \nMájusi témánk: A festés öröme a Tiéd! – Púderes tavasz\, nőies finomságok \nA természet már teljes pompájában kiteljesedve kacsint ránk májusban\, mely energiáinkat is lángra lobbantja.\nA mindent zöldbe borító\, életet adó természetet az anyasággal\, a nőiességgel hozzuk össze és vászonra festjük mindazt\, ami szívünkben virágzik. \nA festőklubon a teljesen kezdők és a gyakorlottabbak is megtalálják az örömöt és a kihívást! \nMinden alkalommal feszített vászonra\, akrilfestékkel készülnek a fő alkotások.\nVáltozatos színkeverési feladatokkal és festészeti technikákkal gazdagítjuk tudásunkat. \nCélunk\, hogy egyediséget\, hangulatot\, érzéseket visszatükröző képek születhessenek\, miközben az alkotók a hétköznapi rutinból kikapcsolódnak. \nAz aktuális havi részletes program itt érhető el: https://bohemkuckom.hu/kreativfoglalkozasok/festoklub \nJelentkezni a fenti honlapon “Foglalok” menüpontnál\, érdeklődni a 20/226-2853 telefonszámon lehet! \nVárom szeretettel a kikapcsolódásra vágyó Hölgyeket\, Urakat!\nSzegedy Tamara
URL:https://erdkultura.hu/event/festoklub-felnotteknek-22/
LOCATION:PARKVÁROS\, Gépész u. 14.\, Érd\, 2030\, Magyarország
CATEGORIES:Parkváros
ATTACH;FMTTYPE=image/jpeg:https://erdkultura.hu/wp-content/uploads/2026/03/felnotteknek.jpeg
END:VEVENT
END:VCALENDAR