BEGIN:VCALENDAR
VERSION:2.0
PRODID:-//ÉrdKultúra - ECPv6.8.0//NONSGML v1.0//EN
CALSCALE:GREGORIAN
METHOD:PUBLISH
X-WR-CALNAME:ÉrdKultúra
X-ORIGINAL-URL:https://erdkultura.hu
X-WR-CALDESC:Events for ÉrdKultúra
REFRESH-INTERVAL;VALUE=DURATION:PT1H
X-Robots-Tag:noindex
X-PUBLISHED-TTL:PT1H
BEGIN:VTIMEZONE
TZID:UTC
BEGIN:STANDARD
TZOFFSETFROM:+0000
TZOFFSETTO:+0000
TZNAME:UTC
DTSTART:20260101T000000
END:STANDARD
END:VTIMEZONE
BEGIN:VEVENT
DTSTART;TZID=UTC:20260505T160000
DTEND;TZID=UTC:20260505T173000
DTSTAMP:20260421T120512
CREATED:20260326T105839Z
LAST-MODIFIED:20260326T105839Z
UID:7765-1777996800-1778002200@erdkultura.hu
SUMMARY:Rajzszakkör gyerekeknek
DESCRIPTION:Rajzos-festő foglalkozás 7 – 12 éves gyerekeknek a Parkvárosi Közösségi Házban\, májusban is kedd délutánonként 16 órától 17\,30-ig. \nA fiatalok alkotói készségeinek fejlesztéséért\, kreatív gondolkodásuk támogatásáért! – Májusban fókuszban az emberi alakok. \n1\,5 órányi játékos\, kreatív kikapcsolódás a gyermekednek – több órányi pihenéssel felérő szabad\, csendes óra a földszinti könyvtárban Neked!\nA gyerekek játszva fedezhetik fel a rajz- és festőeszközökben rejlő lehetőségeket\, miközben jókedvvel\, önbizalommal töltekeznek. \nAz aktuális havi program részletei mindig a https://bohemkuckom.hu/kreativfoglalkozasok/festes-gyerekeknek oldalon olvashatóak. \nJelentkezni a fenti honlapon “Foglalok” menüpontnál\, érdeklődni a 20/226-2853 telefonszámon lehet! \nVárom szeretettel a gyermekeket!\nSzegedy Tamara
URL:https://erdkultura.hu/event/rajzszakkor-gyerekeknek-18/
LOCATION:PARKVÁROS\, Gépész u. 14.\, Érd\, 2030\, Magyarország
CATEGORIES:Parkváros
ATTACH;FMTTYPE=image/jpeg:https://erdkultura.hu/wp-content/uploads/2026/03/gyerekeknek.jpeg
END:VEVENT
END:VCALENDAR