BEGIN:VCALENDAR
VERSION:2.0
PRODID:-//ÉrdKultúra - ECPv6.8.0//NONSGML v1.0//EN
CALSCALE:GREGORIAN
METHOD:PUBLISH
X-WR-CALNAME:ÉrdKultúra
X-ORIGINAL-URL:https://erdkultura.hu
X-WR-CALDESC:Events for ÉrdKultúra
REFRESH-INTERVAL;VALUE=DURATION:PT1H
X-Robots-Tag:noindex
X-PUBLISHED-TTL:PT1H
BEGIN:VTIMEZONE
TZID:UTC
BEGIN:STANDARD
TZOFFSETFROM:+0000
TZOFFSETTO:+0000
TZNAME:UTC
DTSTART:20260101T000000
END:STANDARD
END:VTIMEZONE
BEGIN:VEVENT
DTSTART;TZID=UTC:20260429T140000
DTEND;TZID=UTC:20260429T150000
DTSTAMP:20260421T105122
CREATED:20260318T152410Z
LAST-MODIFIED:20260318T152410Z
UID:7695-1777471200-1777474800@erdkultura.hu
SUMMARY:Teltház! - Szépségápolás és életmód az ötödik évszakban
DESCRIPTION:Négy alkalmas elméleti és gyakorlati tanácsadás Kocsis Marikával \n4.foglalkozás: Életmód\, mozgás és tevékenység az ötödik évszakban \nElőzetes regisztráció szükséges a szucs.agnes@erdkultura.hu e-mail címen. \nAlkalmak: március 18.\, április 1.\, április 15.\, április 29. \nA program az „Idősen\, aktívan\, Érden” programsorozat keretében kerül megrendezésre. A részvétel az érdi 65 év fölöttiek számára ingyenes! \nA szervezők a programváltozás jogát fenntartják.\nA programon résztvevők elfogadják a házirendet\, valamint elfogadják\, hogy a programon készült kép-\, hang- és videofelvételt a szervezők saját nyilvános felületeiken\, illetve egyéb médiafelületeken való megjelenés során felhasználhatnak.
URL:https://erdkultura.hu/event/telthaz-szepsegapolas-es-eletmod-az-otodik-evszakban-3/
LOCATION:PARKVÁROS\, Gépész u. 14.\, Érd\, 2030\, Magyarország
CATEGORIES:Idősprogram,Parkváros
ATTACH;FMTTYPE=image/png:https://erdkultura.hu/wp-content/uploads/2025/10/Web-kep-30-1.png
END:VEVENT
END:VCALENDAR