BEGIN:VCALENDAR
VERSION:2.0
PRODID:-//ÉrdKultúra - ECPv6.8.0//NONSGML v1.0//EN
CALSCALE:GREGORIAN
METHOD:PUBLISH
X-WR-CALNAME:ÉrdKultúra
X-ORIGINAL-URL:https://erdkultura.hu
X-WR-CALDESC:Events for ÉrdKultúra
REFRESH-INTERVAL;VALUE=DURATION:PT1H
X-Robots-Tag:noindex
X-PUBLISHED-TTL:PT1H
BEGIN:VTIMEZONE
TZID:UTC
BEGIN:STANDARD
TZOFFSETFROM:+0000
TZOFFSETTO:+0000
TZNAME:UTC
DTSTART:20260101T000000
END:STANDARD
END:VTIMEZONE
BEGIN:VEVENT
DTSTART;TZID=UTC:20260220T180000
DTEND;TZID=UTC:20260417T170000
DTSTAMP:20260421T105218
CREATED:20260220T171516Z
LAST-MODIFIED:20260316T122642Z
UID:7423-1771610400-1776445200@erdkultura.hu
SUMMARY:Ifjúsági pályázat 2026 − felhívás
DESCRIPTION:„Legyen előtted mindig út\,\nFújjon hátad mögül a szél…”\n/Rúzsa Magdolna/ \nAz érdi Parkvárosi Közösségi Ház pályázatot hirdet a 15 és 30 év közötti\, Érden vagy Érd vonzáskörzetében élő\, szárnyait bontogató amatőr művészek számára. \nA pályázat célja olyan fiatal művészek felfedezése\, akik művészi értékű grafikákat és festményeket készítenek\, valamint lehetőséget adni nekik\, hogy megmutathassák alkotásaikat. A pályaművek témája kötetlen\, készülhet bármilyen grafikai és festészeti stílusban\, technikával. A pályázaton indulni kizárólag saját alkotásokkal lehet\, továbbá olyanokkal\, amelyek díjazva még nem voltak. \nA pályázat nyilvános mindazok számára\, akik a fenti előírásnak megfelelnek. Pályázni maximum két alkotással lehet! \nAz alkotások maximális mérete: 1\,2 x 1 méter. Az alkotásokat kiállításkész állapotban kérjük beadni (keret\, akasztó\, név\, cím\, életkor). A nem installálható\, nem kiállításkész művek nem kerülnek átvételre /zsűrizésre. \nA beérkező munkákból 2026. 04. 25-én 15 órakor kiállítás nyílik a Parkvárosi Közösségi Ház Galériájában\, az ünnepség keretében oklevelet adunk át a résztvevőknek. \nA háromfős zsűri által két legjobbnak ítélt alkotónak 2027-ben lehetőséget adunk egy önálló kiállítás megrendezésére. \nA pályaművek benyújtási ideje és helyszíne:\nAz alkotásokat regisztrációt követően a Parkvárosi Közösségi Ház (2030 Érd\, Gépész u. 14.) recepcióján lehet leadni\, 2026. április 14. és 17. között.\nRegisztráció: takacs.gabriella@erdkultura.hu
URL:https://erdkultura.hu/event/ifjusagi-palyazat-2026-felhivas/
LOCATION:PARKVÁROS\, Gépész u. 14.\, Érd\, 2030\, Magyarország
CATEGORIES:Parkváros
ATTACH;FMTTYPE=image/jpeg:https://erdkultura.hu/wp-content/uploads/2026/02/Web-kep-1920-x-1080-pixel-3-1.jpg
END:VEVENT
BEGIN:VEVENT
DTSTART;TZID=UTC:20260411T153000
DTEND;TZID=UTC:20260411T173000
DTSTAMP:20260421T105218
CREATED:20260227T162718Z
LAST-MODIFIED:20260402T080838Z
UID:7478-1775921400-1775928600@erdkultura.hu
SUMMARY:Elmarad - Mesedélután
DESCRIPTION:Az áprilisi alkalom elmarad. A következő alkalom május 16-án lesz.\nIsmételten mesedélután a Parkvárosi Közösségi Házban!\nÚjra várjuk a gyerekeket egy közös mesehallgatásra és kézműves foglalkozásra.\nAz esemény ingyenes. HÁROM ÉVES KORTÓL AJÁNLOTT!\n\n\nA szervezők a programváltozás jogát fenntartják.A programon résztvevők elfogadják a házirendet\, valamint elfogadják\, hogy a programon készült kép-\, hang- és videofelvételt a szervezők saját nyilvános felületeiken\, illetve egyéb médiafelületeken való megjelenés során felhasználhatnak.
URL:https://erdkultura.hu/event/mesedelutan-9/
LOCATION:PARKVÁROS\, Gépész u. 14.\, Érd\, 2030\, Magyarország
CATEGORIES:Parkváros
ATTACH;FMTTYPE=image/jpeg:https://erdkultura.hu/wp-content/uploads/2025/08/WEB-3-scaled.jpg
END:VEVENT
BEGIN:VEVENT
DTSTART;TZID=UTC:20260411T180000
DTEND;TZID=UTC:20260411T200000
DTSTAMP:20260421T105218
CREATED:20260127T095812Z
LAST-MODIFIED:20260325T132056Z
UID:7090-1775930400-1775937600@erdkultura.hu
SUMMARY:Elmarad - Sváb táncház
DESCRIPTION:Sváb\, osztrák\, német táncok tanulása oktatóval\, közös tánccal  \nMinden érdeklődőt szerettel várunk\, a belépés ingyenes!  \nKontakt: Gabriella Schillinger schillinger.gabriella@gmail.com \n  \nA szervezők a programváltozás jogát fenntartják.\nA programon résztvevők elfogadják a házirendet\, valamint elfogadják\, hogy a programon készült kép-\, hang- és videofelvételt a szervezők saját nyilvános felületeiken\, illetve egyéb médiafelületeken való megjelenés során felhasználhatnak. 
URL:https://erdkultura.hu/event/svab-tanchaz-16/
LOCATION:PARKVÁROS\, Gépész u. 14.\, Érd\, 2030\, Magyarország
CATEGORIES:Parkváros
ATTACH;FMTTYPE=image/png:https://erdkultura.hu/wp-content/uploads/2024/08/Web-kep-83.png
END:VEVENT
END:VCALENDAR